Back to Multiple platform build/check report for BioC 3.20:   simplified   long
ABCDEFGHIJKLMN[O]PQRSTUVWXYZ

This page was generated on 2025-02-06 12:08 -0500 (Thu, 06 Feb 2025).

HostnameOSArch (*)R versionInstalled pkgs
nebbiolo2Linux (Ubuntu 24.04.1 LTS)x86_644.4.2 (2024-10-31) -- "Pile of Leaves" 4753
palomino8Windows Server 2022 Datacenterx644.4.2 (2024-10-31 ucrt) -- "Pile of Leaves" 4501
merida1macOS 12.7.5 Montereyx86_644.4.2 (2024-10-31) -- "Pile of Leaves" 4524
kjohnson1macOS 13.6.6 Venturaarm644.4.2 (2024-10-31) -- "Pile of Leaves" 4476
taishanLinux (openEuler 24.03 LTS)aarch644.4.2 (2024-10-31) -- "Pile of Leaves" 4407
Click on any hostname to see more info about the system (e.g. compilers)      (*) as reported by 'uname -p', except on Windows and Mac OS X

Package 1445/2289HostnameOS / ArchINSTALLBUILDCHECKBUILD BIN
omada 1.8.0  (landing page)
Sokratis Kariotis
Snapshot Date: 2025-02-03 13:00 -0500 (Mon, 03 Feb 2025)
git_url: https://git.bioconductor.org/packages/omada
git_branch: RELEASE_3_20
git_last_commit: 8b5b5fd
git_last_commit_date: 2024-10-29 11:13:51 -0500 (Tue, 29 Oct 2024)
nebbiolo2Linux (Ubuntu 24.04.1 LTS) / x86_64  OK    OK    OK  UNNEEDED, same version is already published
palomino8Windows Server 2022 Datacenter / x64  OK    OK    OK    OK  UNNEEDED, same version is already published
merida1macOS 12.7.5 Monterey / x86_64  OK    OK    OK    OK  UNNEEDED, same version is already published
kjohnson1macOS 13.6.6 Ventura / arm64  OK    OK    OK    OK  UNNEEDED, same version is already published
taishanLinux (openEuler 24.03 LTS) / aarch64  OK    OK    OK  


CHECK results for omada on merida1

To the developers/maintainers of the omada package:
- Allow up to 24 hours (and sometimes 48 hours) for your latest push to git@git.bioconductor.org:packages/omada.git to reflect on this report. See Troubleshooting Build Report for more information.
- Use the following Renviron settings to reproduce errors and warnings.
- If 'R CMD check' started to fail recently on the Linux builder(s) over a missing dependency, add the missing dependency to 'Suggests:' in your DESCRIPTION file. See Renviron.bioc for more information.

raw results


Summary

Package: omada
Version: 1.8.0
Command: /Library/Frameworks/R.framework/Resources/bin/R CMD check --install=check:omada.install-out.txt --library=/Library/Frameworks/R.framework/Resources/library --no-vignettes --timings omada_1.8.0.tar.gz
StartedAt: 2025-02-04 07:25:24 -0500 (Tue, 04 Feb 2025)
EndedAt: 2025-02-04 07:45:52 -0500 (Tue, 04 Feb 2025)
EllapsedTime: 1227.9 seconds
RetCode: 0
Status:   OK  
CheckDir: omada.Rcheck
Warnings: 0

Command output

##############################################################################
##############################################################################
###
### Running command:
###
###   /Library/Frameworks/R.framework/Resources/bin/R CMD check --install=check:omada.install-out.txt --library=/Library/Frameworks/R.framework/Resources/library --no-vignettes --timings omada_1.8.0.tar.gz
###
##############################################################################
##############################################################################


* using log directory ‘/Users/biocbuild/bbs-3.20-bioc/meat/omada.Rcheck’
* using R version 4.4.2 (2024-10-31)
* using platform: x86_64-apple-darwin20
* R was compiled by
    Apple clang version 14.0.0 (clang-1400.0.29.202)
    GNU Fortran (GCC) 12.2.0
* running under: macOS Monterey 12.7.6
* using session charset: UTF-8
* using option ‘--no-vignettes’
* checking for file ‘omada/DESCRIPTION’ ... OK
* checking extension type ... Package
* this is package ‘omada’ version ‘1.8.0’
* package encoding: UTF-8
* checking package namespace information ... OK
* checking package dependencies ... NOTE
Depends: includes the non-default packages:
  'pdfCluster', 'kernlab', 'fpc', 'Rcpp', 'diceR', 'ggplot2',
  'reshape', 'genieclust', 'clValid', 'glmnet', 'dplyr'
Adding so many packages to the search path is excessive and importing
selectively is preferable.
* checking if this is a source package ... OK
* checking if there is a namespace ... OK
* checking for hidden files and directories ... OK
* checking for portable file names ... OK
* checking for sufficient/correct file permissions ... OK
* checking whether package ‘omada’ can be installed ... OK
* checking installed package size ... OK
* checking package directory ... OK
* checking ‘build’ directory ... OK
* checking DESCRIPTION meta-information ... NOTE
Package listed in more than one of Depends, Imports, Suggests, Enhances:
  ‘clValid’
A package should be listed in only one of these fields.
* checking top-level files ... NOTE
File
  LICENSE
is not mentioned in the DESCRIPTION file.
* checking for left-over files ... OK
* checking index information ... OK
* checking package subdirectories ... OK
* checking code files for non-ASCII characters ... OK
* checking R files for syntax errors ... OK
* checking whether the package can be loaded ... OK
* checking whether the package can be loaded with stated dependencies ... OK
* checking whether the package can be unloaded cleanly ... OK
* checking whether the namespace can be loaded with stated dependencies ... OK
* checking whether the namespace can be unloaded cleanly ... OK
* checking dependencies in R code ... NOTE
Packages in Depends field not imported from:
  ‘Rcpp’ ‘dplyr’ ‘genieclust’ ‘glmnet’ ‘kernlab’ ‘reshape’
  These packages need to be imported from (in the NAMESPACE file)
  for when this namespace is loaded but not attached.
* checking S3 generic/method consistency ... OK
* checking replacement functions ... OK
* checking foreign function calls ... OK
* checking R code for possible problems ... NOTE
Index.15and28: no visible global function definition for ‘dist’
Index.15and28: no visible global function definition for ‘as.dist’
Index.sPlussMoins: no visible global function definition for ‘dist’
Index.sPlussMoins: no visible global function definition for ‘as.dist’
Index.sPlussMoins: no visible global function definition for ‘median’
Indice.cindex: no visible global function definition for ‘dist’
clusterVoting: no visible global function definition for ‘calinhara’
clusterVoting: no visible global function definition for
  ‘generalised_dunn_index’
clusterVoting: no visible global function definition for
  ‘silhouette_index’
clusterVoting: no visible global function definition for
  ‘negated_davies_bouldin_index’
clusterVoting: no visible binding for global variable ‘k’
clusterVoting: no visible binding for global variable ‘Frequency’
clusteringMethodSelection: no visible binding for global variable
  ‘value’
clusteringMethodSelection: no visible binding for global variable
  ‘methods’
featureSelection: no visible binding for global variable ‘featureSet’
featureSelection: no visible binding for global variable ‘means’
Undefined global functions or variables:
  Frequency as.dist calinhara dist featureSet generalised_dunn_index k
  means median methods negated_davies_bouldin_index silhouette_index
  value
Consider adding
  importFrom("stats", "as.dist", "dist", "median")
  importFrom("utils", "methods")
to your NAMESPACE file.
* checking Rd files ... OK
* checking Rd metadata ... OK
* checking Rd cross-references ... OK
* checking for missing documentation entries ... OK
* checking for code/documentation mismatches ... OK
* checking Rd \usage sections ... OK
* checking Rd contents ... OK
* checking for unstated dependencies in examples ... OK
* checking contents of ‘data’ directory ... OK
* checking data for non-ASCII characters ... OK
* checking LazyData ... OK
* checking data for ASCII and uncompressed saves ... OK
* checking files in ‘vignettes’ ... OK
* checking examples ... OK
Examples with CPU (user + system) or elapsed time > 5s
                                                   user system elapsed
get_feature_selection_scores                     74.959  0.795  77.411
get_feature_selection_optimal_number_of_features 72.385  0.773  73.887
plot_partition_agreement                         53.089  0.656  57.049
get_partition_agreement_scores                   51.079  0.613  54.222
get_cluster_voting_k_votes                       50.136  0.583  51.912
plot_feature_selection                           50.143  0.566  52.415
get_feature_selection_optimal_features           49.347  0.549  50.740
get_cluster_voting_memberships                   49.390  0.504  50.603
get_cluster_voting_scores                        49.100  0.524  50.484
get_sample_memberships                           48.346  0.515  50.248
get_cluster_voting_metric_votes                  47.722  0.462  48.470
omada                                            38.317  0.459  40.808
plot_cluster_voting                              38.042  0.381  39.601
plot_average_stabilities                         17.305  0.159  18.000
get_optimal_features                             15.436  0.163  15.797
get_optimal_stability_score                      15.271  0.116  15.775
get_optimal_number_of_features                   15.161  0.130  15.430
get_optimal_memberships                          14.392  0.116  14.857
get_optimal_parameter_used                       13.967  0.114  14.142
featureSelection                                 12.851  0.135  13.113
get_average_feature_k_stabilities                 9.228  0.074   9.558
clusterVoting                                     7.648  0.873   8.614
get_generated_dataset                             5.730  0.027   5.884
* checking for unstated dependencies in ‘tests’ ... OK
* checking tests ...
  Running ‘testthat.R’
 OK
* checking for unstated dependencies in vignettes ... OK
* checking package vignettes ... OK
* checking running R code from vignettes ... SKIPPED
* checking re-building of vignette outputs ... SKIPPED
* checking PDF version of manual ... OK
* DONE

Status: 5 NOTEs
See
  ‘/Users/biocbuild/bbs-3.20-bioc/meat/omada.Rcheck/00check.log’
for details.


Installation output

omada.Rcheck/00install.out

##############################################################################
##############################################################################
###
### Running command:
###
###   /Library/Frameworks/R.framework/Resources/bin/R CMD INSTALL omada
###
##############################################################################
##############################################################################


* installing to library ‘/Library/Frameworks/R.framework/Versions/4.4-x86_64/Resources/library’
* installing *source* package ‘omada’ ...
** using staged installation
** R
** data
*** moving datasets to lazyload DB
** inst
** byte-compile and prepare package for lazy loading
** help
*** installing help indices
** building package indices
** installing vignettes
** testing if installed package can be loaded from temporary location
** testing if installed package can be loaded from final location
** testing if installed package keeps a record of temporary installation path
* DONE (omada)

Tests output

omada.Rcheck/tests/testthat.Rout


R version 4.4.2 (2024-10-31) -- "Pile of Leaves"
Copyright (C) 2024 The R Foundation for Statistical Computing
Platform: x86_64-apple-darwin20

R is free software and comes with ABSOLUTELY NO WARRANTY.
You are welcome to redistribute it under certain conditions.
Type 'license()' or 'licence()' for distribution details.

R is a collaborative project with many contributors.
Type 'contributors()' for more information and
'citation()' on how to cite R or R packages in publications.

Type 'demo()' for some demos, 'help()' for on-line help, or
'help.start()' for an HTML browser interface to help.
Type 'q()' to quit R.

> library(testthat)
> library(omada)
Loading required package: pdfCluster
pdfCluster 1.0-4
Loading required package: kernlab
Loading required package: fpc
Loading required package: Rcpp
Loading required package: diceR
Loading required package: ggplot2

Attaching package: 'ggplot2'

The following object is masked from 'package:kernlab':

    alpha

Loading required package: reshape
Loading required package: genieclust
Loading required package: clValid
Loading required package: cluster
Loading required package: glmnet
Loading required package: Matrix

Attaching package: 'Matrix'

The following object is masked from 'package:reshape':

    expand

Loaded glmnet 4.1-8
Loading required package: dplyr

Attaching package: 'dplyr'

The following object is masked from 'package:reshape':

    rename

The following object is masked from 'package:pdfCluster':

    groups

The following object is masked from 'package:testthat':

    matches

The following objects are masked from 'package:stats':

    filter, lag

The following objects are masked from 'package:base':

    intersect, setdiff, setequal, union

> 
> test_check("omada")
[ FAIL 0 | WARN 1 | SKIP 0 | PASS 38 ]

[ FAIL 0 | WARN 1 | SKIP 0 | PASS 38 ]
> 
> proc.time()
   user  system elapsed 
147.932   2.260 227.447 

Example timings

omada.Rcheck/omada-Ex.timings

nameusersystemelapsed
clusterVoting7.6480.8738.614
clusteringMethodSelection2.4450.0692.579
feasibilityAnalysis2.8080.0282.875
feasibilityAnalysisDataBased4.5080.1204.667
featureSelection12.851 0.13513.113
get_agreement_scores0.2800.0050.335
get_average_feature_k_stabilities9.2280.0749.558
get_average_stabilities_per_k1.9570.0111.988
get_average_stability1.9410.0071.954
get_cluster_memberships_k1.6780.1951.913
get_cluster_voting_k_votes50.136 0.58351.912
get_cluster_voting_memberships49.390 0.50450.603
get_cluster_voting_metric_votes47.722 0.46248.470
get_cluster_voting_scores49.100 0.52450.484
get_feature_selection_optimal_features49.347 0.54950.740
get_feature_selection_optimal_number_of_features72.385 0.77373.887
get_feature_selection_scores74.959 0.79577.411
get_generated_dataset5.7300.0275.884
get_internal_metric_scores1.9080.1122.176
get_max_stability2.0030.0162.504
get_metric_votes_k1.6740.1112.175
get_optimal_features15.436 0.16315.797
get_optimal_memberships14.392 0.11614.857
get_optimal_number_of_features15.161 0.13015.430
get_optimal_parameter_used13.967 0.11414.142
get_optimal_stability_score15.271 0.11615.775
get_partition_agreement_scores51.079 0.61354.222
get_sample_memberships48.346 0.51550.248
get_vote_frequencies_k1.6750.0881.814
omada38.317 0.45940.808
optimalClustering0.2060.0070.233
partitionAgreement0.5820.0080.655
plot_average_stabilities17.305 0.15918.000
plot_cluster_voting38.042 0.38139.601
plot_feature_selection50.143 0.56652.415
plot_partition_agreement53.089 0.65657.049
plot_vote_frequencies1.9940.0792.202
toy_gene_memberships0.0280.0070.037
toy_genes0.0010.0040.005