Back to Multiple platform build/check report for BioC 3.20: simplified long |
|
This page was generated on 2025-02-03 12:05 -0500 (Mon, 03 Feb 2025).
Hostname | OS | Arch (*) | R version | Installed pkgs |
---|---|---|---|---|
nebbiolo2 | Linux (Ubuntu 24.04.1 LTS) | x86_64 | 4.4.2 (2024-10-31) -- "Pile of Leaves" | 4746 |
palomino8 | Windows Server 2022 Datacenter | x64 | 4.4.2 (2024-10-31 ucrt) -- "Pile of Leaves" | 4494 |
merida1 | macOS 12.7.5 Monterey | x86_64 | 4.4.2 (2024-10-31) -- "Pile of Leaves" | 4517 |
kjohnson1 | macOS 13.6.6 Ventura | arm64 | 4.4.2 (2024-10-31) -- "Pile of Leaves" | 4469 |
taishan | Linux (openEuler 24.03 LTS) | aarch64 | 4.4.2 (2024-10-31) -- "Pile of Leaves" | 4400 |
Click on any hostname to see more info about the system (e.g. compilers) (*) as reported by 'uname -p', except on Windows and Mac OS X |
Package 1445/2289 | Hostname | OS / Arch | INSTALL | BUILD | CHECK | BUILD BIN | ||||||||
omada 1.8.0 (landing page) Sokratis Kariotis
| nebbiolo2 | Linux (Ubuntu 24.04.1 LTS) / x86_64 | OK | OK | OK | |||||||||
palomino8 | Windows Server 2022 Datacenter / x64 | OK | OK | OK | OK | |||||||||
merida1 | macOS 12.7.5 Monterey / x86_64 | OK | OK | OK | OK | |||||||||
kjohnson1 | macOS 13.6.6 Ventura / arm64 | OK | OK | OK | OK | |||||||||
taishan | Linux (openEuler 24.03 LTS) / aarch64 | OK | OK | OK | ||||||||||
To the developers/maintainers of the omada package: - Allow up to 24 hours (and sometimes 48 hours) for your latest push to git@git.bioconductor.org:packages/omada.git to reflect on this report. See Troubleshooting Build Report for more information. - Use the following Renviron settings to reproduce errors and warnings. - If 'R CMD check' started to fail recently on the Linux builder(s) over a missing dependency, add the missing dependency to 'Suggests:' in your DESCRIPTION file. See Renviron.bioc for more information. |
Package: omada |
Version: 1.8.0 |
Command: /home/biocbuild/bbs-3.20-bioc/R/bin/R CMD check --install=check:omada.install-out.txt --library=/home/biocbuild/bbs-3.20-bioc/R/site-library --timings omada_1.8.0.tar.gz |
StartedAt: 2025-01-31 00:38:53 -0500 (Fri, 31 Jan 2025) |
EndedAt: 2025-01-31 00:52:55 -0500 (Fri, 31 Jan 2025) |
EllapsedTime: 842.1 seconds |
RetCode: 0 |
Status: OK |
CheckDir: omada.Rcheck |
Warnings: 0 |
############################################################################## ############################################################################## ### ### Running command: ### ### /home/biocbuild/bbs-3.20-bioc/R/bin/R CMD check --install=check:omada.install-out.txt --library=/home/biocbuild/bbs-3.20-bioc/R/site-library --timings omada_1.8.0.tar.gz ### ############################################################################## ############################################################################## * using log directory ‘/home/biocbuild/bbs-3.20-bioc/meat/omada.Rcheck’ * using R version 4.4.2 (2024-10-31) * using platform: x86_64-pc-linux-gnu * R was compiled by gcc (Ubuntu 13.2.0-23ubuntu4) 13.2.0 GNU Fortran (Ubuntu 13.2.0-23ubuntu4) 13.2.0 * running under: Ubuntu 24.04.1 LTS * using session charset: UTF-8 * checking for file ‘omada/DESCRIPTION’ ... OK * checking extension type ... Package * this is package ‘omada’ version ‘1.8.0’ * package encoding: UTF-8 * checking package namespace information ... OK * checking package dependencies ... NOTE Depends: includes the non-default packages: 'pdfCluster', 'kernlab', 'fpc', 'Rcpp', 'diceR', 'ggplot2', 'reshape', 'genieclust', 'clValid', 'glmnet', 'dplyr' Adding so many packages to the search path is excessive and importing selectively is preferable. * checking if this is a source package ... OK * checking if there is a namespace ... OK * checking for hidden files and directories ... OK * checking for portable file names ... OK * checking for sufficient/correct file permissions ... OK * checking whether package ‘omada’ can be installed ... OK * checking installed package size ... OK * checking package directory ... OK * checking ‘build’ directory ... OK * checking DESCRIPTION meta-information ... NOTE Package listed in more than one of Depends, Imports, Suggests, Enhances: ‘clValid’ A package should be listed in only one of these fields. * checking top-level files ... NOTE File LICENSE is not mentioned in the DESCRIPTION file. * checking for left-over files ... OK * checking index information ... OK * checking package subdirectories ... OK * checking code files for non-ASCII characters ... OK * checking R files for syntax errors ... OK * checking whether the package can be loaded ... OK * checking whether the package can be loaded with stated dependencies ... OK * checking whether the package can be unloaded cleanly ... OK * checking whether the namespace can be loaded with stated dependencies ... OK * checking whether the namespace can be unloaded cleanly ... OK * checking loading without being on the library search path ... OK * checking dependencies in R code ... NOTE Packages in Depends field not imported from: ‘Rcpp’ ‘dplyr’ ‘genieclust’ ‘glmnet’ ‘kernlab’ ‘reshape’ These packages need to be imported from (in the NAMESPACE file) for when this namespace is loaded but not attached. * checking S3 generic/method consistency ... OK * checking replacement functions ... OK * checking foreign function calls ... OK * checking R code for possible problems ... NOTE Index.15and28: no visible global function definition for ‘dist’ Index.15and28: no visible global function definition for ‘as.dist’ Index.sPlussMoins: no visible global function definition for ‘dist’ Index.sPlussMoins: no visible global function definition for ‘as.dist’ Index.sPlussMoins: no visible global function definition for ‘median’ Indice.cindex: no visible global function definition for ‘dist’ clusterVoting: no visible global function definition for ‘calinhara’ clusterVoting: no visible global function definition for ‘generalised_dunn_index’ clusterVoting: no visible global function definition for ‘silhouette_index’ clusterVoting: no visible global function definition for ‘negated_davies_bouldin_index’ clusterVoting: no visible binding for global variable ‘k’ clusterVoting: no visible binding for global variable ‘Frequency’ clusteringMethodSelection: no visible binding for global variable ‘value’ clusteringMethodSelection: no visible binding for global variable ‘methods’ featureSelection: no visible binding for global variable ‘featureSet’ featureSelection: no visible binding for global variable ‘means’ Undefined global functions or variables: Frequency as.dist calinhara dist featureSet generalised_dunn_index k means median methods negated_davies_bouldin_index silhouette_index value Consider adding importFrom("stats", "as.dist", "dist", "median") importFrom("utils", "methods") to your NAMESPACE file. * checking Rd files ... OK * checking Rd metadata ... OK * checking Rd cross-references ... OK * checking for missing documentation entries ... OK * checking for code/documentation mismatches ... OK * checking Rd \usage sections ... OK * checking Rd contents ... OK * checking for unstated dependencies in examples ... OK * checking contents of ‘data’ directory ... OK * checking data for non-ASCII characters ... OK * checking LazyData ... OK * checking data for ASCII and uncompressed saves ... OK * checking files in ‘vignettes’ ... OK * checking examples ... OK Examples with CPU (user + system) or elapsed time > 5s user system elapsed get_feature_selection_scores 40.993 0.027 41.021 get_feature_selection_optimal_number_of_features 39.928 0.098 40.026 get_cluster_voting_metric_votes 28.544 0.103 28.647 get_feature_selection_optimal_features 28.213 0.104 28.316 get_partition_agreement_scores 28.204 0.016 28.221 plot_feature_selection 28.088 0.025 28.117 get_cluster_voting_memberships 27.811 0.164 27.976 get_cluster_voting_scores 27.158 0.103 27.260 get_cluster_voting_k_votes 26.681 0.127 26.809 get_sample_memberships 26.479 0.039 26.518 plot_partition_agreement 26.330 0.079 26.410 plot_cluster_voting 21.549 0.013 21.566 omada 20.738 0.015 20.754 plot_average_stabilities 10.030 0.006 10.170 get_optimal_number_of_features 9.339 0.005 9.344 get_optimal_features 8.657 0.010 8.667 featureSelection 7.637 0.127 7.764 get_optimal_parameter_used 7.705 0.011 7.715 get_optimal_memberships 7.604 0.005 7.609 get_optimal_stability_score 7.072 0.002 7.074 * checking for unstated dependencies in ‘tests’ ... OK * checking tests ... Running ‘testthat.R’ OK * checking for unstated dependencies in vignettes ... OK * checking package vignettes ... OK * checking re-building of vignette outputs ... OK * checking PDF version of manual ... OK * DONE Status: 5 NOTEs See ‘/home/biocbuild/bbs-3.20-bioc/meat/omada.Rcheck/00check.log’ for details.
omada.Rcheck/00install.out
############################################################################## ############################################################################## ### ### Running command: ### ### /home/biocbuild/bbs-3.20-bioc/R/bin/R CMD INSTALL omada ### ############################################################################## ############################################################################## * installing to library ‘/home/biocbuild/bbs-3.20-bioc/R/site-library’ * installing *source* package ‘omada’ ... ** using staged installation ** R ** data *** moving datasets to lazyload DB ** inst ** byte-compile and prepare package for lazy loading ** help *** installing help indices ** building package indices ** installing vignettes ** testing if installed package can be loaded from temporary location ** testing if installed package can be loaded from final location ** testing if installed package keeps a record of temporary installation path * DONE (omada)
omada.Rcheck/tests/testthat.Rout
R version 4.4.2 (2024-10-31) -- "Pile of Leaves" Copyright (C) 2024 The R Foundation for Statistical Computing Platform: x86_64-pc-linux-gnu R is free software and comes with ABSOLUTELY NO WARRANTY. You are welcome to redistribute it under certain conditions. Type 'license()' or 'licence()' for distribution details. R is a collaborative project with many contributors. Type 'contributors()' for more information and 'citation()' on how to cite R or R packages in publications. Type 'demo()' for some demos, 'help()' for on-line help, or 'help.start()' for an HTML browser interface to help. Type 'q()' to quit R. > library(testthat) > library(omada) Loading required package: pdfCluster pdfCluster 1.0-4 Loading required package: kernlab Loading required package: fpc Loading required package: Rcpp Loading required package: diceR Loading required package: ggplot2 Attaching package: 'ggplot2' The following object is masked from 'package:kernlab': alpha Loading required package: reshape Loading required package: genieclust Loading required package: clValid Loading required package: cluster Loading required package: glmnet Loading required package: Matrix Attaching package: 'Matrix' The following object is masked from 'package:reshape': expand Loaded glmnet 4.1-8 Loading required package: dplyr Attaching package: 'dplyr' The following object is masked from 'package:reshape': rename The following object is masked from 'package:pdfCluster': groups The following object is masked from 'package:testthat': matches The following objects are masked from 'package:stats': filter, lag The following objects are masked from 'package:base': intersect, setdiff, setequal, union > > test_check("omada") [ FAIL 0 | WARN 2 | SKIP 0 | PASS 38 ] [ FAIL 0 | WARN 2 | SKIP 0 | PASS 38 ] > > proc.time() user system elapsed 102.311 0.737 115.038
omada.Rcheck/omada-Ex.timings
name | user | system | elapsed | |
clusterVoting | 3.079 | 0.122 | 3.202 | |
clusteringMethodSelection | 1.100 | 0.035 | 1.136 | |
feasibilityAnalysis | 1.188 | 0.011 | 1.199 | |
feasibilityAnalysisDataBased | 2.255 | 0.041 | 2.297 | |
featureSelection | 7.637 | 0.127 | 7.764 | |
get_agreement_scores | 0.154 | 0.004 | 0.158 | |
get_average_feature_k_stabilities | 4.318 | 0.067 | 4.385 | |
get_average_stabilities_per_k | 0.766 | 0.003 | 0.769 | |
get_average_stability | 0.780 | 0.037 | 0.817 | |
get_cluster_memberships_k | 0.710 | 0.013 | 0.724 | |
get_cluster_voting_k_votes | 26.681 | 0.127 | 26.809 | |
get_cluster_voting_memberships | 27.811 | 0.164 | 27.976 | |
get_cluster_voting_metric_votes | 28.544 | 0.103 | 28.647 | |
get_cluster_voting_scores | 27.158 | 0.103 | 27.260 | |
get_feature_selection_optimal_features | 28.213 | 0.104 | 28.316 | |
get_feature_selection_optimal_number_of_features | 39.928 | 0.098 | 40.026 | |
get_feature_selection_scores | 40.993 | 0.027 | 41.021 | |
get_generated_dataset | 2.666 | 0.002 | 2.668 | |
get_internal_metric_scores | 0.730 | 0.003 | 0.733 | |
get_max_stability | 0.781 | 0.001 | 0.782 | |
get_metric_votes_k | 0.711 | 0.017 | 0.727 | |
get_optimal_features | 8.657 | 0.010 | 8.667 | |
get_optimal_memberships | 7.604 | 0.005 | 7.609 | |
get_optimal_number_of_features | 9.339 | 0.005 | 9.344 | |
get_optimal_parameter_used | 7.705 | 0.011 | 7.715 | |
get_optimal_stability_score | 7.072 | 0.002 | 7.074 | |
get_partition_agreement_scores | 28.204 | 0.016 | 28.221 | |
get_sample_memberships | 26.479 | 0.039 | 26.518 | |
get_vote_frequencies_k | 0.733 | 0.000 | 0.734 | |
omada | 20.738 | 0.015 | 20.754 | |
optimalClustering | 0.080 | 0.001 | 0.081 | |
partitionAgreement | 0.309 | 0.000 | 0.308 | |
plot_average_stabilities | 10.030 | 0.006 | 10.170 | |
plot_cluster_voting | 21.549 | 0.013 | 21.566 | |
plot_feature_selection | 28.088 | 0.025 | 28.117 | |
plot_partition_agreement | 26.330 | 0.079 | 26.410 | |
plot_vote_frequencies | 0.858 | 0.002 | 0.860 | |
toy_gene_memberships | 0.012 | 0.001 | 0.013 | |
toy_genes | 0.001 | 0.000 | 0.001 | |