Back to Multiple platform build/check report for BioC 3.20:   simplified   long
ABCDEFGHIJKLMNOPQR[S]TUVWXYZ

This page was generated on 2025-02-03 12:09 -0500 (Mon, 03 Feb 2025).

HostnameOSArch (*)R versionInstalled pkgs
nebbiolo2Linux (Ubuntu 24.04.1 LTS)x86_644.4.2 (2024-10-31) -- "Pile of Leaves" 4746
palomino8Windows Server 2022 Datacenterx644.4.2 (2024-10-31 ucrt) -- "Pile of Leaves" 4494
merida1macOS 12.7.5 Montereyx86_644.4.2 (2024-10-31) -- "Pile of Leaves" 4517
kjohnson1macOS 13.6.6 Venturaarm644.4.2 (2024-10-31) -- "Pile of Leaves" 4469
taishanLinux (openEuler 24.03 LTS)aarch644.4.2 (2024-10-31) -- "Pile of Leaves" 4400
Click on any hostname to see more info about the system (e.g. compilers)      (*) as reported by 'uname -p', except on Windows and Mac OS X

Package 1938/2289HostnameOS / ArchINSTALLBUILDCHECKBUILD BIN
sesame 1.24.0  (landing page)
Wanding Zhou
Snapshot Date: 2025-01-30 13:00 -0500 (Thu, 30 Jan 2025)
git_url: https://git.bioconductor.org/packages/sesame
git_branch: RELEASE_3_20
git_last_commit: e86f791
git_last_commit_date: 2024-10-29 10:29:34 -0500 (Tue, 29 Oct 2024)
nebbiolo2Linux (Ubuntu 24.04.1 LTS) / x86_64  OK    OK    OK  UNNEEDED, same version is already published
palomino8Windows Server 2022 Datacenter / x64  OK    OK    OK    OK  UNNEEDED, same version is already published
merida1macOS 12.7.5 Monterey / x86_64  OK    OK    OK    OK  UNNEEDED, same version is already published
kjohnson1macOS 13.6.6 Ventura / arm64  OK    OK    OK    OK  UNNEEDED, same version is already published
taishanLinux (openEuler 24.03 LTS) / aarch64  OK    OK    OK  


CHECK results for sesame on merida1

To the developers/maintainers of the sesame package:
- Allow up to 24 hours (and sometimes 48 hours) for your latest push to git@git.bioconductor.org:packages/sesame.git to reflect on this report. See Troubleshooting Build Report for more information.
- Use the following Renviron settings to reproduce errors and warnings.
- If 'R CMD check' started to fail recently on the Linux builder(s) over a missing dependency, add the missing dependency to 'Suggests:' in your DESCRIPTION file. See Renviron.bioc for more information.

raw results


Summary

Package: sesame
Version: 1.24.0
Command: /Library/Frameworks/R.framework/Resources/bin/R CMD check --install=check:sesame.install-out.txt --library=/Library/Frameworks/R.framework/Resources/library --no-vignettes --timings sesame_1.24.0.tar.gz
StartedAt: 2025-01-31 10:01:12 -0500 (Fri, 31 Jan 2025)
EndedAt: 2025-01-31 10:28:01 -0500 (Fri, 31 Jan 2025)
EllapsedTime: 1608.6 seconds
RetCode: 0
Status:   OK  
CheckDir: sesame.Rcheck
Warnings: 0

Command output

##############################################################################
##############################################################################
###
### Running command:
###
###   /Library/Frameworks/R.framework/Resources/bin/R CMD check --install=check:sesame.install-out.txt --library=/Library/Frameworks/R.framework/Resources/library --no-vignettes --timings sesame_1.24.0.tar.gz
###
##############################################################################
##############################################################################


* using log directory ‘/Users/biocbuild/bbs-3.20-bioc/meat/sesame.Rcheck’
* using R version 4.4.2 (2024-10-31)
* using platform: x86_64-apple-darwin20
* R was compiled by
    Apple clang version 14.0.0 (clang-1400.0.29.202)
    GNU Fortran (GCC) 12.2.0
* running under: macOS Monterey 12.7.6
* using session charset: UTF-8
* using option ‘--no-vignettes’
* checking for file ‘sesame/DESCRIPTION’ ... OK
* checking extension type ... Package
* this is package ‘sesame’ version ‘1.24.0’
* package encoding: UTF-8
* checking package namespace information ... OK
* checking package dependencies ... OK
* checking if this is a source package ... OK
* checking if there is a namespace ... OK
* checking for hidden files and directories ... OK
* checking for portable file names ... OK
* checking for sufficient/correct file permissions ... OK
* checking whether package ‘sesame’ can be installed ... OK
* checking installed package size ... OK
* checking package directory ... OK
* checking ‘build’ directory ... OK
* checking DESCRIPTION meta-information ... OK
* checking top-level files ... OK
* checking for left-over files ... OK
* checking index information ... OK
* checking package subdirectories ... OK
* checking code files for non-ASCII characters ... OK
* checking R files for syntax errors ... OK
* checking whether the package can be loaded ... OK
* checking whether the package can be loaded with stated dependencies ... OK
* checking whether the package can be unloaded cleanly ... OK
* checking whether the namespace can be loaded with stated dependencies ... OK
* checking whether the namespace can be unloaded cleanly ... OK
* checking whether startup messages can be suppressed ... OK
* checking dependencies in R code ... OK
* checking S3 generic/method consistency ... OK
* checking replacement functions ... OK
* checking foreign function calls ... OK
* checking R code for possible problems ... OK
* checking Rd files ... OK
* checking Rd metadata ... OK
* checking Rd cross-references ... OK
* checking for missing documentation entries ... OK
* checking for code/documentation mismatches ... OK
* checking Rd \usage sections ... OK
* checking Rd contents ... OK
* checking for unstated dependencies in examples ... OK
* checking files in ‘vignettes’ ... OK
* checking examples ... OK
Examples with CPU (user + system) or elapsed time > 5s
                                user system elapsed
testEnrichmentGene            65.861  4.048  70.853
imputeBetasByGenomicNeighbors 60.200  1.552  62.590
inferSex                      39.326  1.376  41.104
sesameQC_calcStats            35.010  2.758  38.602
KYCG_plotMeta                 32.345  1.089  34.066
sesameQC_plotHeatSNPs         30.754  1.702  33.066
compareMouseStrainReference   30.854  0.698  34.096
KYCG_plotEnrichAll            29.455  1.667  32.042
compareReference              28.322  1.076  30.296
imputeBetas                   25.627  1.806  28.035
ELBAR                         21.498  2.988  25.356
KYCG_annoProbes               23.373  1.107  25.035
diffRefSet                    23.448  0.952  24.820
matchDesign                   22.211  1.033  23.557
inferSpecies                  20.692  0.865  21.879
getRefSet                     19.615  0.712  20.663
sesameQC_plotBar              19.578  0.601  20.431
KYCG_plotMetaEnrichment       18.279  0.651  19.210
DML                           17.065  1.647  19.575
sesameQC_plotBetaByDesign     16.260  0.989  17.489
testEnrichmentSEA             15.848  1.289  17.633
KYCG_buildGeneDBs             16.288  0.605  17.349
sdf_read_table                15.949  0.649  17.046
visualizeGene                 15.681  0.753  16.555
DMR                           15.259  0.381  16.339
deidentify                    14.449  0.477  15.259
inferStrain                   13.441  0.821  14.416
reIdentify                    12.573  0.318  13.276
inferTissue                   11.221  1.379  12.763
dbStats                       10.728  0.846  11.777
dyeBiasNL                     10.582  0.591  11.341
estimateLeukocyte             10.425  0.683  11.460
getMask                       10.394  0.684  11.190
openSesame                     9.397  1.104  10.850
createUCSCtrack                9.705  0.489  10.671
KYCG_plotSetEnrichment         9.498  0.600  10.262
dyeBiasCorrMostBalanced        9.309  0.419   9.888
testEnrichment                 8.463  1.143   9.727
probeSuccessRate               8.626  0.860   9.561
bisConversionControl           7.162  0.298  22.188
noMasked                       6.117  0.686   6.932
visualizeProbes                6.591  0.097   6.727
prepSesame                     6.366  0.231   6.662
scrubSoft                      5.227  1.241   6.575
KYCG_plotWaterfall             6.047  0.349   6.640
sdf_write_table                5.868  0.304   6.224
sesameQC_rankStats             5.482  0.587   6.143
print.DMLSummary               4.721  1.289   6.079
updateSigDF                    5.424  0.425   5.906
parseGEOsignalMU               5.028  0.797   5.894
summaryExtractTest             4.180  1.160   5.863
detectionPnegEcdf              4.861  0.242   5.244
totalIntensities               4.666  0.419   5.232
dyeBiasCorr                    4.681  0.336   5.063
KYCG_getDBs                    4.629  0.371   5.271
* checking for unstated dependencies in ‘tests’ ... OK
* checking tests ...
  Running ‘testthat.R’
 OK
* checking for unstated dependencies in vignettes ... OK
* checking package vignettes ... OK
* checking running R code from vignettes ... SKIPPED
* checking re-building of vignette outputs ... SKIPPED
* checking PDF version of manual ... OK
* DONE

Status: OK


Installation output

sesame.Rcheck/00install.out

##############################################################################
##############################################################################
###
### Running command:
###
###   /Library/Frameworks/R.framework/Resources/bin/R CMD INSTALL sesame
###
##############################################################################
##############################################################################


* installing to library ‘/Library/Frameworks/R.framework/Versions/4.4-x86_64/Resources/library’
* installing *source* package ‘sesame’ ...
** using staged installation
** R
** inst
** byte-compile and prepare package for lazy loading
** help
*** installing help indices
** building package indices
** installing vignettes
** testing if installed package can be loaded from temporary location
** testing if installed package can be loaded from final location
** testing if installed package keeps a record of temporary installation path
* DONE (sesame)

Tests output

sesame.Rcheck/tests/testthat.Rout


R version 4.4.2 (2024-10-31) -- "Pile of Leaves"
Copyright (C) 2024 The R Foundation for Statistical Computing
Platform: x86_64-apple-darwin20

R is free software and comes with ABSOLUTELY NO WARRANTY.
You are welcome to redistribute it under certain conditions.
Type 'license()' or 'licence()' for distribution details.

R is a collaborative project with many contributors.
Type 'contributors()' for more information and
'citation()' on how to cite R or R packages in publications.

Type 'demo()' for some demos, 'help()' for on-line help, or
'help.start()' for an HTML browser interface to help.
Type 'q()' to quit R.

> library(testthat)
> library(sesame)
Loading required package: sesameData
Loading required package: ExperimentHub
Loading required package: BiocGenerics

Attaching package: 'BiocGenerics'

The following objects are masked from 'package:stats':

    IQR, mad, sd, var, xtabs

The following objects are masked from 'package:base':

    Filter, Find, Map, Position, Reduce, anyDuplicated, aperm, append,
    as.data.frame, basename, cbind, colnames, dirname, do.call,
    duplicated, eval, evalq, get, grep, grepl, intersect, is.unsorted,
    lapply, mapply, match, mget, order, paste, pmax, pmax.int, pmin,
    pmin.int, rank, rbind, rownames, sapply, saveRDS, setdiff, table,
    tapply, union, unique, unsplit, which.max, which.min

Loading required package: AnnotationHub
Loading required package: BiocFileCache
Loading required package: dbplyr
Loading sesameData.

----------------------------------------------------------
| SEnsible Step-wise Analysis of DNA MEthylation (SeSAMe)
| --------------------------------------------------------
| Please cache auxiliary data by "sesameDataCache()".
| This needs to be done only once per SeSAMe installation.
----------------------------------------------------------

> 
> test_check("sesame")
[ FAIL 0 | WARN 0 | SKIP 0 | PASS 5 ]
> 
> proc.time()
   user  system elapsed 
 36.482   2.845  40.343 

Example timings

sesame.Rcheck/sesame-Ex.timings

nameusersystemelapsed
BetaValueToMValue0.0010.0010.001
DML17.065 1.64719.575
DMLpredict2.3870.1692.612
DMR15.259 0.38116.339
ELBAR21.498 2.98825.356
KYCG_annoProbes23.373 1.10725.035
KYCG_buildGeneDBs16.288 0.60517.349
KYCG_getDBs4.6290.3715.271
KYCG_listDBGroups0.4880.0470.568
KYCG_loadDBs0.0000.0000.001
KYCG_plotBar0.3870.0070.414
KYCG_plotDot0.7640.0050.771
KYCG_plotEnrichAll29.455 1.66732.042
KYCG_plotLollipop0.3970.0200.419
KYCG_plotManhattan1.4930.2691.797
KYCG_plotMeta32.345 1.08934.066
KYCG_plotMetaEnrichment18.279 0.65119.210
KYCG_plotPointRange3.9840.2524.274
KYCG_plotSetEnrichment 9.498 0.60010.262
KYCG_plotVolcano0.3200.0040.403
KYCG_plotWaterfall6.0470.3496.640
MValueToBetaValue0.0000.0000.001
SigDF0.5450.0800.629
addMask0.1370.0000.139
aggregateTestEnrichments2.8460.0812.954
betasCollapseToPfx0.0250.0000.026
bisConversionControl 7.162 0.29822.188
calcEffectSize2.0400.1622.267
checkLevels4.3720.3324.862
cnSegmentation0.5260.0830.610
compareMouseStrainReference30.854 0.69834.096
compareMouseTissueReference0.0000.0010.001
compareReference28.322 1.07630.296
controls3.5420.3473.974
createUCSCtrack 9.705 0.48910.671
dbStats10.728 0.84611.777
deidentify14.449 0.47715.259
detectionPnegEcdf4.8610.2425.244
diffRefSet23.448 0.95224.820
dmContrasts3.0830.2813.450
dyeBiasCorr4.6810.3365.063
dyeBiasCorrMostBalanced9.3090.4199.888
dyeBiasL4.1090.2124.357
dyeBiasNL10.582 0.59111.341
estimateLeukocyte10.425 0.68311.460
formatVCF3.5520.3773.960
getAFTypeIbySumAlleles2.8920.3043.227
getAFs1.7240.1361.874
getBetas1.3720.1641.555
getMask10.394 0.68411.190
getRefSet19.615 0.71220.663
imputeBetas25.627 1.80628.035
imputeBetasByGenomicNeighbors60.200 1.55262.590
imputeBetasMatrixByMean0.0020.0020.003
inferEthnicity0.0010.0000.001
inferInfiniumIChannel0.8541.4512.321
inferSex39.326 1.37641.104
inferSpecies20.692 0.86521.879
inferStrain13.441 0.82114.416
inferTissue11.221 1.37912.763
initFileSet2.1040.2872.508
listAvailableMasks2.1310.2052.370
mLiftOver0.0010.0050.005
mapFileSet0.0600.0050.065
mapToMammal404.4130.3844.828
matchDesign22.211 1.03323.557
meanIntensity4.3260.3164.688
medianTotalIntensity1.3770.1261.510
noMasked6.1170.6866.932
noob3.2730.0773.365
openSesame 9.397 1.10410.850
openSesameToFile2.8290.0512.943
pOOBAH2.2170.0132.265
palgen0.0730.0150.106
parseGEOsignalMU5.0280.7975.894
predictAge3.7950.1984.175
predictAgeHorvath3530.0010.0000.001
predictAgeSkinBlood0.0000.0010.001
predictMouseAgeInMonth000
prefixMask1.2560.0041.262
prefixMaskButC0.3460.0020.348
prefixMaskButCG0.1350.0010.136
prepSesame6.3660.2316.662
prepSesameList0.0040.0020.006
print.DMLSummary4.7211.2896.079
print.fileSet2.1000.3692.533
probeID_designType0.0010.0010.001
probeSuccessRate8.6260.8609.561
qualityMask3.8590.5654.471
reIdentify12.573 0.31813.276
readFileSet0.0890.0060.096
readIDATpair0.2270.0030.230
recommendedMaskNames0.0000.0010.001
resetMask0.8320.1230.962
scrub3.5890.0653.700
scrubSoft5.2271.2416.575
sdfPlatform0.5490.1080.780
sdf_read_table15.949 0.64917.046
sdf_write_table5.8680.3046.224
searchIDATprefixes0.0070.0040.011
sesame-package3.4960.1743.691
sesameAnno_attachManifest0.0000.0010.001
sesameAnno_buildAddressFile0.0000.0010.001
sesameAnno_buildManifestGRanges000
sesameAnno_download0.0010.0010.001
sesameAnno_readManifestTSV0.0000.0000.001
sesameQC_calcStats35.010 2.75838.602
sesameQC_getStats3.4640.0083.501
sesameQC_plotBar19.578 0.60120.431
sesameQC_plotBetaByDesign16.260 0.98917.489
sesameQC_plotHeatSNPs30.754 1.70233.066
sesameQC_plotIntensVsBetas2.8860.3853.424
sesameQC_plotRedGrnQQ1.9930.2002.225
sesameQC_rankStats5.4820.5876.143
sesameQCtoDF3.4820.0143.862
sesame_checkVersion0.0070.0020.010
sesamize0.0010.0010.001
setMask0.1570.0020.174
signalMU1.2750.0971.405
sliceFileSet0.0590.0050.066
summaryExtractTest4.1801.1605.863
testEnrichment8.4631.1439.727
testEnrichmentGene65.861 4.04870.853
testEnrichmentSEA15.848 1.28917.633
totalIntensities4.6660.4195.232
updateSigDF5.4240.4255.906
visualizeGene15.681 0.75316.555
visualizeProbes6.5910.0976.727
visualizeRegion0.7540.0100.772
visualizeSegments2.2540.8723.228