Back to Multiple platform build/check report for BioC 3.20: simplified long |
|
This page was generated on 2025-02-03 12:12 -0500 (Mon, 03 Feb 2025).
Hostname | OS | Arch (*) | R version | Installed pkgs |
---|---|---|---|---|
nebbiolo2 | Linux (Ubuntu 24.04.1 LTS) | x86_64 | 4.4.2 (2024-10-31) -- "Pile of Leaves" | 4746 |
palomino8 | Windows Server 2022 Datacenter | x64 | 4.4.2 (2024-10-31 ucrt) -- "Pile of Leaves" | 4494 |
merida1 | macOS 12.7.5 Monterey | x86_64 | 4.4.2 (2024-10-31) -- "Pile of Leaves" | 4517 |
kjohnson1 | macOS 13.6.6 Ventura | arm64 | 4.4.2 (2024-10-31) -- "Pile of Leaves" | 4469 |
taishan | Linux (openEuler 24.03 LTS) | aarch64 | 4.4.2 (2024-10-31) -- "Pile of Leaves" | 4400 |
Click on any hostname to see more info about the system (e.g. compilers) (*) as reported by 'uname -p', except on Windows and Mac OS X |
Package 1938/2289 | Hostname | OS / Arch | INSTALL | BUILD | CHECK | BUILD BIN | ||||||||
sesame 1.24.0 (landing page) Wanding Zhou
| nebbiolo2 | Linux (Ubuntu 24.04.1 LTS) / x86_64 | OK | OK | OK | |||||||||
palomino8 | Windows Server 2022 Datacenter / x64 | OK | OK | OK | OK | |||||||||
merida1 | macOS 12.7.5 Monterey / x86_64 | OK | OK | OK | OK | |||||||||
kjohnson1 | macOS 13.6.6 Ventura / arm64 | OK | OK | OK | OK | |||||||||
taishan | Linux (openEuler 24.03 LTS) / aarch64 | OK | OK | OK | ||||||||||
To the developers/maintainers of the sesame package: - Allow up to 24 hours (and sometimes 48 hours) for your latest push to git@git.bioconductor.org:packages/sesame.git to reflect on this report. See Troubleshooting Build Report for more information. - Use the following Renviron settings to reproduce errors and warnings. - If 'R CMD check' started to fail recently on the Linux builder(s) over a missing dependency, add the missing dependency to 'Suggests:' in your DESCRIPTION file. See Renviron.bioc for more information. - See Martin Grigorov's blog post for how to debug Linux ARM64 related issues on a x86_64 host. |
Package: sesame |
Version: 1.24.0 |
Command: /home/biocbuild/R/R/bin/R CMD check --install=check:sesame.install-out.txt --library=/home/biocbuild/R/R/site-library --no-vignettes --timings sesame_1.24.0.tar.gz |
StartedAt: 2025-01-31 10:22:57 -0000 (Fri, 31 Jan 2025) |
EndedAt: 2025-01-31 10:38:36 -0000 (Fri, 31 Jan 2025) |
EllapsedTime: 939.0 seconds |
RetCode: 0 |
Status: OK |
CheckDir: sesame.Rcheck |
Warnings: 0 |
############################################################################## ############################################################################## ### ### Running command: ### ### /home/biocbuild/R/R/bin/R CMD check --install=check:sesame.install-out.txt --library=/home/biocbuild/R/R/site-library --no-vignettes --timings sesame_1.24.0.tar.gz ### ############################################################################## ############################################################################## * using log directory ‘/home/biocbuild/bbs-3.20-bioc/meat/sesame.Rcheck’ * using R version 4.4.2 (2024-10-31) * using platform: aarch64-unknown-linux-gnu * R was compiled by aarch64-unknown-linux-gnu-gcc (GCC) 14.2.0 GNU Fortran (GCC) 12.3.1 (openEuler 12.3.1-36.oe2403) * running under: openEuler 24.03 (LTS) * using session charset: UTF-8 * using option ‘--no-vignettes’ * checking for file ‘sesame/DESCRIPTION’ ... OK * checking extension type ... Package * this is package ‘sesame’ version ‘1.24.0’ * package encoding: UTF-8 * checking package namespace information ... OK * checking package dependencies ... OK * checking if this is a source package ... OK * checking if there is a namespace ... OK * checking for hidden files and directories ... OK * checking for portable file names ... OK * checking for sufficient/correct file permissions ... OK * checking whether package ‘sesame’ can be installed ... OK * checking installed package size ... OK * checking package directory ... OK * checking ‘build’ directory ... OK * checking DESCRIPTION meta-information ... OK * checking top-level files ... OK * checking for left-over files ... OK * checking index information ... OK * checking package subdirectories ... OK * checking code files for non-ASCII characters ... OK * checking R files for syntax errors ... OK * checking whether the package can be loaded ... OK * checking whether the package can be loaded with stated dependencies ... OK * checking whether the package can be unloaded cleanly ... OK * checking whether the namespace can be loaded with stated dependencies ... OK * checking whether the namespace can be unloaded cleanly ... OK * checking loading without being on the library search path ... OK * checking whether startup messages can be suppressed ... OK * checking dependencies in R code ... OK * checking S3 generic/method consistency ... OK * checking replacement functions ... OK * checking foreign function calls ... OK * checking R code for possible problems ... OK * checking Rd files ... OK * checking Rd metadata ... OK * checking Rd cross-references ... OK * checking for missing documentation entries ... OK * checking for code/documentation mismatches ... OK * checking Rd \usage sections ... OK * checking Rd contents ... OK * checking for unstated dependencies in examples ... OK * checking files in ‘vignettes’ ... OK * checking examples ... OK Examples with CPU (user + system) or elapsed time > 5s user system elapsed testEnrichmentGene 43.148 0.714 43.977 imputeBetasByGenomicNeighbors 40.559 0.495 41.144 inferSex 24.312 0.172 24.531 KYCG_plotMeta 23.384 0.139 23.589 imputeBetas 22.933 0.397 23.593 sesameQC_calcStats 22.601 0.124 22.790 sesameQC_plotHeatSNPs 20.282 0.171 20.507 KYCG_plotEnrichAll 19.552 0.475 20.103 inferSpecies 16.088 0.491 16.616 matchDesign 15.870 0.108 16.012 ELBAR 15.719 0.160 15.924 compareMouseStrainReference 15.688 0.076 15.818 KYCG_annoProbes 13.425 0.227 13.694 compareReference 13.444 0.192 13.673 sesameQC_plotBetaByDesign 13.278 0.096 13.420 diffRefSet 13.131 0.144 13.321 sesameQC_plotBar 12.062 0.163 12.263 KYCG_plotMetaEnrichment 11.924 0.220 12.178 testEnrichmentSEA 11.850 0.172 12.052 getRefSet 11.482 0.171 11.689 KYCG_buildGeneDBs 9.999 0.260 10.300 visualizeGene 9.531 0.171 9.722 DMR 9.163 0.203 9.398 DML 8.979 0.315 9.331 inferStrain 8.107 0.263 8.395 sdf_read_table 8.248 0.115 8.379 estimateLeukocyte 7.958 0.139 8.139 dbStats 7.810 0.120 7.960 inferTissue 7.283 0.307 7.611 KYCG_plotSetEnrichment 6.920 0.235 7.177 deidentify 6.733 0.095 6.859 getMask 6.553 0.147 6.729 dyeBiasNL 6.633 0.048 6.702 dyeBiasCorrMostBalanced 6.174 0.092 6.290 createUCSCtrack 6.127 0.095 6.245 openSesame 5.908 0.199 6.149 testEnrichment 5.517 0.096 5.630 probeSuccessRate 5.443 0.152 5.607 reIdentify 5.352 0.048 5.411 updateSigDF 5.261 0.104 5.378 bisConversionControl 5.046 0.087 5.153 * checking for unstated dependencies in ‘tests’ ... OK * checking tests ... Running ‘testthat.R’ OK * checking for unstated dependencies in vignettes ... OK * checking package vignettes ... OK * checking running R code from vignettes ... SKIPPED * checking re-building of vignette outputs ... SKIPPED * checking PDF version of manual ... OK * DONE Status: OK
sesame.Rcheck/00install.out
############################################################################## ############################################################################## ### ### Running command: ### ### /home/biocbuild/R/R/bin/R CMD INSTALL sesame ### ############################################################################## ############################################################################## * installing to library ‘/home/biocbuild/R/R-4.4.2/site-library’ * installing *source* package ‘sesame’ ... ** using staged installation ** R ** inst ** byte-compile and prepare package for lazy loading ** help *** installing help indices ** building package indices ** installing vignettes ** testing if installed package can be loaded from temporary location ** testing if installed package can be loaded from final location ** testing if installed package keeps a record of temporary installation path * DONE (sesame)
sesame.Rcheck/tests/testthat.Rout
R version 4.4.2 (2024-10-31) -- "Pile of Leaves" Copyright (C) 2024 The R Foundation for Statistical Computing Platform: aarch64-unknown-linux-gnu R is free software and comes with ABSOLUTELY NO WARRANTY. You are welcome to redistribute it under certain conditions. Type 'license()' or 'licence()' for distribution details. R is a collaborative project with many contributors. Type 'contributors()' for more information and 'citation()' on how to cite R or R packages in publications. Type 'demo()' for some demos, 'help()' for on-line help, or 'help.start()' for an HTML browser interface to help. Type 'q()' to quit R. > library(testthat) > library(sesame) Loading required package: sesameData Loading required package: ExperimentHub Loading required package: BiocGenerics Attaching package: 'BiocGenerics' The following objects are masked from 'package:stats': IQR, mad, sd, var, xtabs The following objects are masked from 'package:base': Filter, Find, Map, Position, Reduce, anyDuplicated, aperm, append, as.data.frame, basename, cbind, colnames, dirname, do.call, duplicated, eval, evalq, get, grep, grepl, intersect, is.unsorted, lapply, mapply, match, mget, order, paste, pmax, pmax.int, pmin, pmin.int, rank, rbind, rownames, sapply, saveRDS, setdiff, table, tapply, union, unique, unsplit, which.max, which.min Loading required package: AnnotationHub Loading required package: BiocFileCache Loading required package: dbplyr Loading sesameData. ---------------------------------------------------------- | SEnsible Step-wise Analysis of DNA MEthylation (SeSAMe) | -------------------------------------------------------- | Please cache auxiliary data by "sesameDataCache()". | This needs to be done only once per SeSAMe installation. ---------------------------------------------------------- > > test_check("sesame") [ FAIL 0 | WARN 0 | SKIP 0 | PASS 5 ] > > proc.time() user system elapsed 20.284 0.751 21.075
sesame.Rcheck/sesame-Ex.timings
name | user | system | elapsed | |
BetaValueToMValue | 0 | 0 | 0 | |
DML | 8.979 | 0.315 | 9.331 | |
DMLpredict | 1.456 | 0.056 | 1.516 | |
DMR | 9.163 | 0.203 | 9.398 | |
ELBAR | 15.719 | 0.160 | 15.924 | |
KYCG_annoProbes | 13.425 | 0.227 | 13.694 | |
KYCG_buildGeneDBs | 9.999 | 0.260 | 10.300 | |
KYCG_getDBs | 2.924 | 0.119 | 3.057 | |
KYCG_listDBGroups | 0.036 | 0.000 | 0.037 | |
KYCG_loadDBs | 0 | 0 | 0 | |
KYCG_plotBar | 0.226 | 0.028 | 0.255 | |
KYCG_plotDot | 0.795 | 0.007 | 0.804 | |
KYCG_plotEnrichAll | 19.552 | 0.475 | 20.103 | |
KYCG_plotLollipop | 0.213 | 0.000 | 0.214 | |
KYCG_plotManhattan | 1.276 | 0.008 | 1.288 | |
KYCG_plotMeta | 23.384 | 0.139 | 23.589 | |
KYCG_plotMetaEnrichment | 11.924 | 0.220 | 12.178 | |
KYCG_plotPointRange | 2.375 | 0.044 | 2.426 | |
KYCG_plotSetEnrichment | 6.920 | 0.235 | 7.177 | |
KYCG_plotVolcano | 0.178 | 0.000 | 0.178 | |
KYCG_plotWaterfall | 2.922 | 0.092 | 3.026 | |
MValueToBetaValue | 0.000 | 0.000 | 0.001 | |
SigDF | 0.372 | 0.016 | 0.390 | |
addMask | 0.087 | 0.008 | 0.095 | |
aggregateTestEnrichments | 2.350 | 0.016 | 2.372 | |
betasCollapseToPfx | 0.016 | 0.000 | 0.016 | |
bisConversionControl | 5.046 | 0.087 | 5.153 | |
calcEffectSize | 1.275 | 0.044 | 1.322 | |
checkLevels | 3.282 | 0.076 | 3.381 | |
cnSegmentation | 0.342 | 0.003 | 0.347 | |
compareMouseStrainReference | 15.688 | 0.076 | 15.818 | |
compareMouseTissueReference | 0 | 0 | 0 | |
compareReference | 13.444 | 0.192 | 13.673 | |
controls | 2.158 | 0.048 | 2.213 | |
createUCSCtrack | 6.127 | 0.095 | 6.245 | |
dbStats | 7.81 | 0.12 | 7.96 | |
deidentify | 6.733 | 0.095 | 6.859 | |
detectionPnegEcdf | 2.854 | 0.068 | 2.930 | |
diffRefSet | 13.131 | 0.144 | 13.321 | |
dmContrasts | 2.072 | 0.048 | 2.127 | |
dyeBiasCorr | 3.158 | 0.059 | 3.227 | |
dyeBiasCorrMostBalanced | 6.174 | 0.092 | 6.290 | |
dyeBiasL | 3.187 | 0.076 | 3.271 | |
dyeBiasNL | 6.633 | 0.048 | 6.702 | |
estimateLeukocyte | 7.958 | 0.139 | 8.139 | |
formatVCF | 2.331 | 0.044 | 2.382 | |
getAFTypeIbySumAlleles | 1.842 | 0.064 | 1.915 | |
getAFs | 1.279 | 0.032 | 1.314 | |
getBetas | 0.864 | 0.016 | 0.883 | |
getMask | 6.553 | 0.147 | 6.729 | |
getRefSet | 11.482 | 0.171 | 11.689 | |
imputeBetas | 22.933 | 0.397 | 23.593 | |
imputeBetasByGenomicNeighbors | 40.559 | 0.495 | 41.144 | |
imputeBetasMatrixByMean | 0.002 | 0.000 | 0.001 | |
inferEthnicity | 0.001 | 0.000 | 0.001 | |
inferInfiniumIChannel | 0.284 | 0.100 | 0.385 | |
inferSex | 24.312 | 0.172 | 24.531 | |
inferSpecies | 16.088 | 0.491 | 16.616 | |
inferStrain | 8.107 | 0.263 | 8.395 | |
inferTissue | 7.283 | 0.307 | 7.611 | |
initFileSet | 1.256 | 0.052 | 1.311 | |
listAvailableMasks | 1.394 | 0.028 | 1.426 | |
mLiftOver | 0.001 | 0.000 | 0.000 | |
mapFileSet | 0.039 | 0.000 | 0.039 | |
mapToMammal40 | 2.764 | 0.064 | 2.837 | |
matchDesign | 15.870 | 0.108 | 16.012 | |
meanIntensity | 2.923 | 0.071 | 3.002 | |
medianTotalIntensity | 0.892 | 0.096 | 0.990 | |
noMasked | 3.957 | 0.088 | 4.054 | |
noob | 2.379 | 0.072 | 2.455 | |
openSesame | 5.908 | 0.199 | 6.149 | |
openSesameToFile | 1.646 | 0.012 | 1.669 | |
pOOBAH | 1.333 | 0.003 | 1.339 | |
palgen | 0.050 | 0.004 | 0.057 | |
parseGEOsignalMU | 3.125 | 0.048 | 3.178 | |
predictAge | 2.253 | 0.040 | 2.297 | |
predictAgeHorvath353 | 0 | 0 | 0 | |
predictAgeSkinBlood | 0 | 0 | 0 | |
predictMouseAgeInMonth | 0 | 0 | 0 | |
prefixMask | 0.523 | 0.000 | 0.524 | |
prefixMaskButC | 0.161 | 0.000 | 0.161 | |
prefixMaskButCG | 0.063 | 0.000 | 0.062 | |
prepSesame | 3.811 | 0.040 | 3.861 | |
prepSesameList | 0.002 | 0.000 | 0.001 | |
print.DMLSummary | 3.273 | 0.087 | 3.367 | |
print.fileSet | 1.298 | 0.024 | 1.325 | |
probeID_designType | 0 | 0 | 0 | |
probeSuccessRate | 5.443 | 0.152 | 5.607 | |
qualityMask | 2.535 | 0.064 | 2.606 | |
reIdentify | 5.352 | 0.048 | 5.411 | |
readFileSet | 0.058 | 0.000 | 0.059 | |
readIDATpair | 0.123 | 0.000 | 0.124 | |
recommendedMaskNames | 0 | 0 | 0 | |
resetMask | 0.502 | 0.024 | 0.527 | |
scrub | 2.852 | 0.032 | 2.889 | |
scrubSoft | 4.331 | 0.008 | 4.347 | |
sdfPlatform | 0.314 | 0.040 | 0.355 | |
sdf_read_table | 8.248 | 0.115 | 8.379 | |
sdf_write_table | 2.283 | 0.052 | 2.391 | |
searchIDATprefixes | 0.006 | 0.000 | 0.009 | |
sesame-package | 2.287 | 0.040 | 2.337 | |
sesameAnno_attachManifest | 0 | 0 | 0 | |
sesameAnno_buildAddressFile | 0 | 0 | 0 | |
sesameAnno_buildManifestGRanges | 0.000 | 0.000 | 0.001 | |
sesameAnno_download | 0.001 | 0.000 | 0.000 | |
sesameAnno_readManifestTSV | 0 | 0 | 0 | |
sesameQC_calcStats | 22.601 | 0.124 | 22.790 | |
sesameQC_getStats | 1.998 | 0.012 | 2.015 | |
sesameQC_plotBar | 12.062 | 0.163 | 12.263 | |
sesameQC_plotBetaByDesign | 13.278 | 0.096 | 13.420 | |
sesameQC_plotHeatSNPs | 20.282 | 0.171 | 20.507 | |
sesameQC_plotIntensVsBetas | 2.535 | 0.052 | 2.594 | |
sesameQC_plotRedGrnQQ | 1.739 | 0.060 | 1.803 | |
sesameQC_rankStats | 4.076 | 0.136 | 4.224 | |
sesameQCtoDF | 1.965 | 0.000 | 1.969 | |
sesame_checkVersion | 0.004 | 0.000 | 0.004 | |
sesamize | 0 | 0 | 0 | |
setMask | 0.089 | 0.000 | 0.090 | |
signalMU | 1.132 | 0.028 | 1.163 | |
sliceFileSet | 0.039 | 0.000 | 0.039 | |
summaryExtractTest | 2.914 | 0.127 | 3.050 | |
testEnrichment | 5.517 | 0.096 | 5.630 | |
testEnrichmentGene | 43.148 | 0.714 | 43.977 | |
testEnrichmentSEA | 11.850 | 0.172 | 12.052 | |
totalIntensities | 3.201 | 0.028 | 3.235 | |
updateSigDF | 5.261 | 0.104 | 5.378 | |
visualizeGene | 9.531 | 0.171 | 9.722 | |
visualizeProbes | 1.747 | 0.004 | 1.756 | |
visualizeRegion | 0.442 | 0.000 | 0.443 | |
visualizeSegments | 2.183 | 0.076 | 2.263 | |