Back to Multiple platform build/check report for BioC 3.20:   simplified   long
ABCDEFGHIJKLMNOPQR[S]TUVWXYZ

This page was generated on 2025-02-06 12:05 -0500 (Thu, 06 Feb 2025).

HostnameOSArch (*)R versionInstalled pkgs
nebbiolo2Linux (Ubuntu 24.04.1 LTS)x86_644.4.2 (2024-10-31) -- "Pile of Leaves" 4753
palomino8Windows Server 2022 Datacenterx644.4.2 (2024-10-31 ucrt) -- "Pile of Leaves" 4501
merida1macOS 12.7.5 Montereyx86_644.4.2 (2024-10-31) -- "Pile of Leaves" 4524
kjohnson1macOS 13.6.6 Venturaarm644.4.2 (2024-10-31) -- "Pile of Leaves" 4476
taishanLinux (openEuler 24.03 LTS)aarch644.4.2 (2024-10-31) -- "Pile of Leaves" 4407
Click on any hostname to see more info about the system (e.g. compilers)      (*) as reported by 'uname -p', except on Windows and Mac OS X

Package 1940/2289HostnameOS / ArchINSTALLBUILDCHECKBUILD BIN
sevenbridges 1.36.0  (landing page)
Phil Webster
Snapshot Date: 2025-02-03 13:00 -0500 (Mon, 03 Feb 2025)
git_url: https://git.bioconductor.org/packages/sevenbridges
git_branch: RELEASE_3_20
git_last_commit: 7d65500
git_last_commit_date: 2024-10-29 10:03:29 -0500 (Tue, 29 Oct 2024)
nebbiolo2Linux (Ubuntu 24.04.1 LTS) / x86_64  OK    OK    OK  UNNEEDED, same version is already published
palomino8Windows Server 2022 Datacenter / x64  OK    OK    OK    OK  UNNEEDED, same version is already published
merida1macOS 12.7.5 Monterey / x86_64  OK    OK    OK    NA  
kjohnson1macOS 13.6.6 Ventura / arm64  OK    ERROR  skippedskipped
taishanLinux (openEuler 24.03 LTS) / aarch64  OK    OK    OK  


CHECK results for sevenbridges on nebbiolo2

To the developers/maintainers of the sevenbridges package:
- Allow up to 24 hours (and sometimes 48 hours) for your latest push to git@git.bioconductor.org:packages/sevenbridges.git to reflect on this report. See Troubleshooting Build Report for more information.
- Use the following Renviron settings to reproduce errors and warnings.
- If 'R CMD check' started to fail recently on the Linux builder(s) over a missing dependency, add the missing dependency to 'Suggests:' in your DESCRIPTION file. See Renviron.bioc for more information.

raw results


Summary

Package: sevenbridges
Version: 1.36.0
Command: /home/biocbuild/bbs-3.20-bioc/R/bin/R CMD check --install=check:sevenbridges.install-out.txt --library=/home/biocbuild/bbs-3.20-bioc/R/site-library --timings sevenbridges_1.36.0.tar.gz
StartedAt: 2025-02-04 02:27:55 -0500 (Tue, 04 Feb 2025)
EndedAt: 2025-02-04 02:31:14 -0500 (Tue, 04 Feb 2025)
EllapsedTime: 198.3 seconds
RetCode: 0
Status:   OK  
CheckDir: sevenbridges.Rcheck
Warnings: 0

Command output

##############################################################################
##############################################################################
###
### Running command:
###
###   /home/biocbuild/bbs-3.20-bioc/R/bin/R CMD check --install=check:sevenbridges.install-out.txt --library=/home/biocbuild/bbs-3.20-bioc/R/site-library --timings sevenbridges_1.36.0.tar.gz
###
##############################################################################
##############################################################################


* using log directory ‘/home/biocbuild/bbs-3.20-bioc/meat/sevenbridges.Rcheck’
* using R version 4.4.2 (2024-10-31)
* using platform: x86_64-pc-linux-gnu
* R was compiled by
    gcc (Ubuntu 13.2.0-23ubuntu4) 13.2.0
    GNU Fortran (Ubuntu 13.2.0-23ubuntu4) 13.2.0
* running under: Ubuntu 24.04.1 LTS
* using session charset: UTF-8
* checking for file ‘sevenbridges/DESCRIPTION’ ... OK
* checking extension type ... Package
* this is package ‘sevenbridges’ version ‘1.36.0’
* package encoding: UTF-8
* checking package namespace information ... OK
* checking package dependencies ... OK
* checking if this is a source package ... OK
* checking if there is a namespace ... OK
* checking for hidden files and directories ... OK
* checking for portable file names ... OK
* checking for sufficient/correct file permissions ... OK
* checking whether package ‘sevenbridges’ can be installed ... OK
* checking installed package size ... OK
* checking package directory ... OK
* checking ‘build’ directory ... OK
* checking DESCRIPTION meta-information ... OK
* checking top-level files ... OK
* checking for left-over files ... OK
* checking index information ... OK
* checking package subdirectories ... OK
* checking code files for non-ASCII characters ... OK
* checking R files for syntax errors ... OK
* checking whether the package can be loaded ... OK
* checking whether the package can be loaded with stated dependencies ... OK
* checking whether the package can be unloaded cleanly ... OK
* checking whether the namespace can be loaded with stated dependencies ... OK
* checking whether the namespace can be unloaded cleanly ... OK
* checking loading without being on the library search path ... OK
* checking whether startup messages can be suppressed ... OK
* checking dependencies in R code ... OK
* checking S3 generic/method consistency ... OK
* checking replacement functions ... OK
* checking foreign function calls ... OK
* checking R code for possible problems ... OK
* checking Rd files ... NOTE
checkRd: (-1) CommandLineBinding-class.Rd:22: Lost braces in \itemize; meant \describe ?
checkRd: (-1) CommandLineBinding-class.Rd:23: Lost braces in \itemize; meant \describe ?
checkRd: (-1) CommandLineBinding-class.Rd:24-25: Lost braces in \itemize; meant \describe ?
checkRd: (-1) CommandLineBinding-class.Rd:26: Lost braces in \itemize; meant \describe ?
checkRd: (-1) CommandLineBinding-class.Rd:27-29: Lost braces in \itemize; meant \describe ?
checkRd: (-1) CommandLineBinding-class.Rd:30-31: Lost braces in \itemize; meant \describe ?
checkRd: (-1) CommandLineBinding-class.Rd:32: Lost braces in \itemize; meant \describe ?
checkRd: (-1) CommandLineTool.Rd:75-78: Lost braces in \itemize; meant \describe ?
checkRd: (-1) CommandLineTool.Rd:80-84: Lost braces in \itemize; meant \describe ?
checkRd: (-1) CommandLineTool.Rd:86-90: Lost braces in \itemize; meant \describe ?
checkRd: (-1) CommandLineTool.Rd:92-93: Lost braces in \itemize; meant \describe ?
checkRd: (-1) CommandLineTool.Rd:95-97: Lost braces in \itemize; meant \describe ?
checkRd: (-1) CommandLineTool.Rd:99-100: Lost braces in \itemize; meant \describe ?
checkRd: (-1) Tool-class.Rd:12: Lost braces
    12 | code{Tool} class extends \code{CommandLineTool}
       |     ^
checkRd: (-1) WorkflowStep.Rd:168-170: Lost braces in \itemize; meant \describe ?
checkRd: (-1) WorkflowStep.Rd:172-176: Lost braces in \itemize; meant \describe ?
checkRd: (-1) WorkflowStep.Rd:178-182: Lost braces in \itemize; meant \describe ?
* checking Rd metadata ... OK
* checking Rd cross-references ... OK
* checking for missing documentation entries ... OK
* checking for code/documentation mismatches ... OK
* checking Rd \usage sections ... OK
* checking Rd contents ... OK
* checking for unstated dependencies in examples ... OK
* checking files in ‘vignettes’ ... OK
* checking examples ... OK
Examples with CPU (user + system) or elapsed time > 5s
             user system elapsed
Flow       39.447  0.390  39.840
Tool-class 10.983  0.030  11.014
link_what   6.722  0.007   6.729
link        6.036  0.001   6.038
* checking for unstated dependencies in ‘tests’ ... OK
* checking tests ...
  Running ‘testthat.R’
 OK
* checking for unstated dependencies in vignettes ... OK
* checking package vignettes ... OK
* checking re-building of vignette outputs ... OK
* checking PDF version of manual ... OK
* DONE

Status: 1 NOTE
See
  ‘/home/biocbuild/bbs-3.20-bioc/meat/sevenbridges.Rcheck/00check.log’
for details.


Installation output

sevenbridges.Rcheck/00install.out

##############################################################################
##############################################################################
###
### Running command:
###
###   /home/biocbuild/bbs-3.20-bioc/R/bin/R CMD INSTALL sevenbridges
###
##############################################################################
##############################################################################


* installing to library ‘/home/biocbuild/bbs-3.20-bioc/R/site-library’
* installing *source* package ‘sevenbridges’ ...
** using staged installation
** R
** inst
** byte-compile and prepare package for lazy loading
** help
*** installing help indices
** building package indices
** installing vignettes
** testing if installed package can be loaded from temporary location
** testing if installed package can be loaded from final location
** testing if installed package keeps a record of temporary installation path
* DONE (sevenbridges)

Tests output

sevenbridges.Rcheck/tests/testthat.Rout


R version 4.4.2 (2024-10-31) -- "Pile of Leaves"
Copyright (C) 2024 The R Foundation for Statistical Computing
Platform: x86_64-pc-linux-gnu

R is free software and comes with ABSOLUTELY NO WARRANTY.
You are welcome to redistribute it under certain conditions.
Type 'license()' or 'licence()' for distribution details.

R is a collaborative project with many contributors.
Type 'contributors()' for more information and
'citation()' on how to cite R or R packages in publications.

Type 'demo()' for some demos, 'help()' for on-line help, or
'help.start()' for an HTML browser interface to help.
Type 'q()' to quit R.

> library("testthat")
> library("sevenbridges")
> test_check("sevenbridges")
[ FAIL 0 | WARN 0 | SKIP 0 | PASS 0 ]
> 
> proc.time()
   user  system elapsed 
  1.915   0.154   2.056 

Example timings

sevenbridges.Rcheck/sevenbridges-Ex.timings

nameusersystemelapsed
App-class000
Auth-class0.0060.0000.006
Binding0.0100.0010.010
CCBList0.0120.0000.012
CWL0.0010.0000.001
CommandInputParameter-class0.0190.0000.019
CommandInputSchema-class0.0230.0000.023
CommandLineBinding-class0.0050.0000.005
CommandLineTool0.0130.0000.013
CommandOutputBinding-class0.0050.0000.006
CommandOutputParameter-class0.0120.0000.012
CommandOutputSchema-class0.0110.0000.011
DSCList0.0150.0010.016
Enum0.0340.0000.034
Expression-class0.0070.0000.007
ExpressionTool-class0.0180.0000.018
File-class0.0530.0010.053
Files-class0.0060.0000.006
Flow39.447 0.39039.840
Metadata0.0740.0020.075
Parameter0.0270.0000.026
Process0.0350.0010.036
ProcessRequirement0.0410.0010.042
Schema0.0130.0000.013
TaskHook0.0010.0000.002
Tool-class10.983 0.03011.014
Workflow0.0230.0000.023
WorkflowStep0.0040.0000.004
addIdNum0.0000.0010.000
api000
as-methods0.0580.0000.058
batch0.0010.0000.001
cli_list_projects000
cli_list_tags000
cli_upload000
convert_app4.4220.0554.477
cwl-utils0.0790.0020.081
delete-methods000
download-methods000
get_token000
get_uploader000
input_output_matrix0.0690.0010.070
link6.0360.0016.038
link_what6.7220.0076.729
project_details000
project_members000
requirements0.0410.0000.041
response-methods000
sbg_get_env0.0010.0000.000
sbg_set_env000
set_test_env000
shorthand-cwl0.0180.0000.019
tag-methods000
test_tool_bunny000
test_tool_cwlrun000
test_tool_rabix000
upload_complete_all000
upload_complete_part000
upload_delete0.0010.0000.000
upload_info000
upload_info_part000
upload_init000