Back to Multiple platform build/check report for BioC 3.20:   simplified   long
ABCDEFGHIJKLMNOPQR[S]TUVWXYZ

This page was generated on 2025-02-06 12:12 -0500 (Thu, 06 Feb 2025).

HostnameOSArch (*)R versionInstalled pkgs
nebbiolo2Linux (Ubuntu 24.04.1 LTS)x86_644.4.2 (2024-10-31) -- "Pile of Leaves" 4753
palomino8Windows Server 2022 Datacenterx644.4.2 (2024-10-31 ucrt) -- "Pile of Leaves" 4501
merida1macOS 12.7.5 Montereyx86_644.4.2 (2024-10-31) -- "Pile of Leaves" 4524
kjohnson1macOS 13.6.6 Venturaarm644.4.2 (2024-10-31) -- "Pile of Leaves" 4476
taishanLinux (openEuler 24.03 LTS)aarch644.4.2 (2024-10-31) -- "Pile of Leaves" 4407
Click on any hostname to see more info about the system (e.g. compilers)      (*) as reported by 'uname -p', except on Windows and Mac OS X

Package 1940/2289HostnameOS / ArchINSTALLBUILDCHECKBUILD BIN
sevenbridges 1.36.0  (landing page)
Phil Webster
Snapshot Date: 2025-02-03 13:00 -0500 (Mon, 03 Feb 2025)
git_url: https://git.bioconductor.org/packages/sevenbridges
git_branch: RELEASE_3_20
git_last_commit: 7d65500
git_last_commit_date: 2024-10-29 10:03:29 -0500 (Tue, 29 Oct 2024)
nebbiolo2Linux (Ubuntu 24.04.1 LTS) / x86_64  OK    OK    OK  UNNEEDED, same version is already published
palomino8Windows Server 2022 Datacenter / x64  OK    OK    OK    OK  UNNEEDED, same version is already published
merida1macOS 12.7.5 Monterey / x86_64  OK    OK    OK    NA  
kjohnson1macOS 13.6.6 Ventura / arm64  OK    ERROR  skippedskipped
taishanLinux (openEuler 24.03 LTS) / aarch64  OK    OK    OK  


CHECK results for sevenbridges on taishan

To the developers/maintainers of the sevenbridges package:
- Allow up to 24 hours (and sometimes 48 hours) for your latest push to git@git.bioconductor.org:packages/sevenbridges.git to reflect on this report. See Troubleshooting Build Report for more information.
- Use the following Renviron settings to reproduce errors and warnings.
- If 'R CMD check' started to fail recently on the Linux builder(s) over a missing dependency, add the missing dependency to 'Suggests:' in your DESCRIPTION file. See Renviron.bioc for more information.
- See Martin Grigorov's blog post for how to debug Linux ARM64 related issues on a x86_64 host.

raw results


Summary

Package: sevenbridges
Version: 1.36.0
Command: /home/biocbuild/R/R/bin/R CMD check --install=check:sevenbridges.install-out.txt --library=/home/biocbuild/R/R/site-library --no-vignettes --timings sevenbridges_1.36.0.tar.gz
StartedAt: 2025-02-04 11:03:11 -0000 (Tue, 04 Feb 2025)
EndedAt: 2025-02-04 11:06:24 -0000 (Tue, 04 Feb 2025)
EllapsedTime: 193.3 seconds
RetCode: 0
Status:   OK  
CheckDir: sevenbridges.Rcheck
Warnings: 0

Command output

##############################################################################
##############################################################################
###
### Running command:
###
###   /home/biocbuild/R/R/bin/R CMD check --install=check:sevenbridges.install-out.txt --library=/home/biocbuild/R/R/site-library --no-vignettes --timings sevenbridges_1.36.0.tar.gz
###
##############################################################################
##############################################################################


* using log directory ‘/home/biocbuild/bbs-3.20-bioc/meat/sevenbridges.Rcheck’
* using R version 4.4.2 (2024-10-31)
* using platform: aarch64-unknown-linux-gnu
* R was compiled by
    aarch64-unknown-linux-gnu-gcc (GCC) 14.2.0
    GNU Fortran (GCC) 12.3.1 (openEuler 12.3.1-36.oe2403)
* running under: openEuler 24.03 (LTS)
* using session charset: UTF-8
* using option ‘--no-vignettes’
* checking for file ‘sevenbridges/DESCRIPTION’ ... OK
* checking extension type ... Package
* this is package ‘sevenbridges’ version ‘1.36.0’
* package encoding: UTF-8
* checking package namespace information ... OK
* checking package dependencies ... OK
* checking if this is a source package ... OK
* checking if there is a namespace ... OK
* checking for hidden files and directories ... OK
* checking for portable file names ... OK
* checking for sufficient/correct file permissions ... OK
* checking whether package ‘sevenbridges’ can be installed ... OK
* checking installed package size ... OK
* checking package directory ... OK
* checking ‘build’ directory ... OK
* checking DESCRIPTION meta-information ... OK
* checking top-level files ... OK
* checking for left-over files ... OK
* checking index information ... OK
* checking package subdirectories ... OK
* checking code files for non-ASCII characters ... OK
* checking R files for syntax errors ... OK
* checking whether the package can be loaded ... OK
* checking whether the package can be loaded with stated dependencies ... OK
* checking whether the package can be unloaded cleanly ... OK
* checking whether the namespace can be loaded with stated dependencies ... OK
* checking whether the namespace can be unloaded cleanly ... OK
* checking loading without being on the library search path ... OK
* checking whether startup messages can be suppressed ... OK
* checking dependencies in R code ... OK
* checking S3 generic/method consistency ... OK
* checking replacement functions ... OK
* checking foreign function calls ... OK
* checking R code for possible problems ... OK
* checking Rd files ... NOTE
checkRd: (-1) CommandLineBinding-class.Rd:22: Lost braces in \itemize; meant \describe ?
checkRd: (-1) CommandLineBinding-class.Rd:23: Lost braces in \itemize; meant \describe ?
checkRd: (-1) CommandLineBinding-class.Rd:24-25: Lost braces in \itemize; meant \describe ?
checkRd: (-1) CommandLineBinding-class.Rd:26: Lost braces in \itemize; meant \describe ?
checkRd: (-1) CommandLineBinding-class.Rd:27-29: Lost braces in \itemize; meant \describe ?
checkRd: (-1) CommandLineBinding-class.Rd:30-31: Lost braces in \itemize; meant \describe ?
checkRd: (-1) CommandLineBinding-class.Rd:32: Lost braces in \itemize; meant \describe ?
checkRd: (-1) CommandLineTool.Rd:75-78: Lost braces in \itemize; meant \describe ?
checkRd: (-1) CommandLineTool.Rd:80-84: Lost braces in \itemize; meant \describe ?
checkRd: (-1) CommandLineTool.Rd:86-90: Lost braces in \itemize; meant \describe ?
checkRd: (-1) CommandLineTool.Rd:92-93: Lost braces in \itemize; meant \describe ?
checkRd: (-1) CommandLineTool.Rd:95-97: Lost braces in \itemize; meant \describe ?
checkRd: (-1) CommandLineTool.Rd:99-100: Lost braces in \itemize; meant \describe ?
checkRd: (-1) Tool-class.Rd:12: Lost braces
    12 | code{Tool} class extends \code{CommandLineTool}
       |     ^
checkRd: (-1) WorkflowStep.Rd:168-170: Lost braces in \itemize; meant \describe ?
checkRd: (-1) WorkflowStep.Rd:172-176: Lost braces in \itemize; meant \describe ?
checkRd: (-1) WorkflowStep.Rd:178-182: Lost braces in \itemize; meant \describe ?
* checking Rd metadata ... OK
* checking Rd cross-references ... OK
* checking for missing documentation entries ... OK
* checking for code/documentation mismatches ... OK
* checking Rd \usage sections ... OK
* checking Rd contents ... OK
* checking for unstated dependencies in examples ... OK
* checking files in ‘vignettes’ ... OK
* checking examples ... OK
Examples with CPU (user + system) or elapsed time > 5s
              user system elapsed
Flow        62.947  0.726  63.872
Tool-class  17.974  0.083  18.108
link_what   10.577  0.008  10.611
link         9.387  0.068   9.478
convert_app  7.251  0.000   7.269
* checking for unstated dependencies in ‘tests’ ... OK
* checking tests ...
  Running ‘testthat.R’
 OK
* checking for unstated dependencies in vignettes ... OK
* checking package vignettes ... OK
* checking running R code from vignettes ... SKIPPED
* checking re-building of vignette outputs ... SKIPPED
* checking PDF version of manual ... OK
* DONE

Status: 1 NOTE
See
  ‘/home/biocbuild/bbs-3.20-bioc/meat/sevenbridges.Rcheck/00check.log’
for details.


Installation output

sevenbridges.Rcheck/00install.out

##############################################################################
##############################################################################
###
### Running command:
###
###   /home/biocbuild/R/R/bin/R CMD INSTALL sevenbridges
###
##############################################################################
##############################################################################


* installing to library ‘/home/biocbuild/R/R-4.4.2/site-library’
* installing *source* package ‘sevenbridges’ ...
** using staged installation
** R
** inst
** byte-compile and prepare package for lazy loading
** help
*** installing help indices
** building package indices
** installing vignettes
** testing if installed package can be loaded from temporary location
** testing if installed package can be loaded from final location
** testing if installed package keeps a record of temporary installation path
* DONE (sevenbridges)

Tests output

sevenbridges.Rcheck/tests/testthat.Rout


R version 4.4.2 (2024-10-31) -- "Pile of Leaves"
Copyright (C) 2024 The R Foundation for Statistical Computing
Platform: aarch64-unknown-linux-gnu

R is free software and comes with ABSOLUTELY NO WARRANTY.
You are welcome to redistribute it under certain conditions.
Type 'license()' or 'licence()' for distribution details.

R is a collaborative project with many contributors.
Type 'contributors()' for more information and
'citation()' on how to cite R or R packages in publications.

Type 'demo()' for some demos, 'help()' for on-line help, or
'help.start()' for an HTML browser interface to help.
Type 'q()' to quit R.

> library("testthat")
> library("sevenbridges")
> test_check("sevenbridges")
[ FAIL 0 | WARN 0 | SKIP 0 | PASS 0 ]
> 
> proc.time()
   user  system elapsed 
  2.663   0.132   2.794 

Example timings

sevenbridges.Rcheck/sevenbridges-Ex.timings

nameusersystemelapsed
App-class0.0010.0000.000
Auth-class0.0100.0000.009
Binding0.0160.0000.016
CCBList0.0210.0000.021
CWL0.0020.0000.002
CommandInputParameter-class0.0270.0040.031
CommandInputSchema-class0.0300.0000.031
CommandLineBinding-class0.0080.0000.009
CommandLineTool0.0180.0000.018
CommandOutputBinding-class0.0090.0000.008
CommandOutputParameter-class0.0160.0000.017
CommandOutputSchema-class0.0140.0000.015
DSCList0.0220.0000.022
Enum0.0470.0000.048
Expression-class0.0080.0000.009
ExpressionTool-class0.0250.0000.025
File-class0.0800.0000.081
Files-class0.010.000.01
Flow62.947 0.72663.872
Metadata0.1150.0000.116
Parameter0.0430.0000.043
Process0.0590.0000.059
ProcessRequirement0.0650.0000.065
Schema0.0210.0000.021
TaskHook0.0020.0000.003
Tool-class17.974 0.08318.108
Workflow0.0390.0000.038
WorkflowStep0.0070.0000.007
addIdNum0.0010.0000.000
api000
as-methods0.0900.0040.095
batch0.0000.0000.001
cli_list_projects0.0000.0000.001
cli_list_tags000
cli_upload000
convert_app7.2510.0007.269
cwl-utils0.1110.0000.112
delete-methods000
download-methods000
get_token0.0000.0000.001
get_uploader000
input_output_matrix0.1030.0000.103
link9.3870.0689.478
link_what10.577 0.00810.611
project_details000
project_members0.0000.0000.001
requirements0.0640.0000.064
response-methods000
sbg_get_env000
sbg_set_env000
set_test_env000
shorthand-cwl0.0280.0020.029
tag-methods000
test_tool_bunny000
test_tool_cwlrun000
test_tool_rabix000
upload_complete_all000
upload_complete_part000
upload_delete000
upload_info000
upload_info_part000
upload_init000