Back to Multiple platform build/check report for BioC 3.20:   simplified   long
ABCDEFGHIJKLMNOPQR[S]TUVWXYZ

This page was generated on 2025-02-06 12:05 -0500 (Thu, 06 Feb 2025).

HostnameOSArch (*)R versionInstalled pkgs
nebbiolo2Linux (Ubuntu 24.04.1 LTS)x86_644.4.2 (2024-10-31) -- "Pile of Leaves" 4753
palomino8Windows Server 2022 Datacenterx644.4.2 (2024-10-31 ucrt) -- "Pile of Leaves" 4501
merida1macOS 12.7.5 Montereyx86_644.4.2 (2024-10-31) -- "Pile of Leaves" 4524
kjohnson1macOS 13.6.6 Venturaarm644.4.2 (2024-10-31) -- "Pile of Leaves" 4476
taishanLinux (openEuler 24.03 LTS)aarch644.4.2 (2024-10-31) -- "Pile of Leaves" 4407
Click on any hostname to see more info about the system (e.g. compilers)      (*) as reported by 'uname -p', except on Windows and Mac OS X

Package 2079/2289HostnameOS / ArchINSTALLBUILDCHECKBUILD BIN
structToolbox 1.18.1  (landing page)
Gavin Rhys Lloyd
Snapshot Date: 2025-02-03 13:00 -0500 (Mon, 03 Feb 2025)
git_url: https://git.bioconductor.org/packages/structToolbox
git_branch: RELEASE_3_20
git_last_commit: 13f7a1e
git_last_commit_date: 2025-01-28 04:47:09 -0500 (Tue, 28 Jan 2025)
nebbiolo2Linux (Ubuntu 24.04.1 LTS) / x86_64  OK    OK    OK  UNNEEDED, same version is already published
palomino8Windows Server 2022 Datacenter / x64  OK    OK    OK    OK  UNNEEDED, same version is already published
merida1macOS 12.7.5 Monterey / x86_64  OK    OK    OK    NA  
kjohnson1macOS 13.6.6 Ventura / arm64  OK    OK    OK    OK  UNNEEDED, same version is already published
taishanLinux (openEuler 24.03 LTS) / aarch64  OK    OK    OK  


CHECK results for structToolbox on nebbiolo2

To the developers/maintainers of the structToolbox package:
- Allow up to 24 hours (and sometimes 48 hours) for your latest push to git@git.bioconductor.org:packages/structToolbox.git to reflect on this report. See Troubleshooting Build Report for more information.
- Use the following Renviron settings to reproduce errors and warnings.
- If 'R CMD check' started to fail recently on the Linux builder(s) over a missing dependency, add the missing dependency to 'Suggests:' in your DESCRIPTION file. See Renviron.bioc for more information.

raw results


Summary

Package: structToolbox
Version: 1.18.1
Command: /home/biocbuild/bbs-3.20-bioc/R/bin/R CMD check --install=check:structToolbox.install-out.txt --library=/home/biocbuild/bbs-3.20-bioc/R/site-library --timings structToolbox_1.18.1.tar.gz
StartedAt: 2025-02-04 02:59:13 -0500 (Tue, 04 Feb 2025)
EndedAt: 2025-02-04 03:16:37 -0500 (Tue, 04 Feb 2025)
EllapsedTime: 1044.2 seconds
RetCode: 0
Status:   OK  
CheckDir: structToolbox.Rcheck
Warnings: 0

Command output

##############################################################################
##############################################################################
###
### Running command:
###
###   /home/biocbuild/bbs-3.20-bioc/R/bin/R CMD check --install=check:structToolbox.install-out.txt --library=/home/biocbuild/bbs-3.20-bioc/R/site-library --timings structToolbox_1.18.1.tar.gz
###
##############################################################################
##############################################################################


* using log directory ‘/home/biocbuild/bbs-3.20-bioc/meat/structToolbox.Rcheck’
* using R version 4.4.2 (2024-10-31)
* using platform: x86_64-pc-linux-gnu
* R was compiled by
    gcc (Ubuntu 13.2.0-23ubuntu4) 13.2.0
    GNU Fortran (Ubuntu 13.2.0-23ubuntu4) 13.2.0
* running under: Ubuntu 24.04.1 LTS
* using session charset: UTF-8
* checking for file ‘structToolbox/DESCRIPTION’ ... OK
* checking extension type ... Package
* this is package ‘structToolbox’ version ‘1.18.1’
* package encoding: UTF-8
* checking package namespace information ... OK
* checking package dependencies ... OK
* checking if this is a source package ... OK
* checking if there is a namespace ... OK
* checking for hidden files and directories ... OK
* checking for portable file names ... OK
* checking for sufficient/correct file permissions ... OK
* checking whether package ‘structToolbox’ can be installed ... OK
* checking installed package size ... OK
* checking package directory ... OK
* checking ‘build’ directory ... OK
* checking DESCRIPTION meta-information ... OK
* checking top-level files ... OK
* checking for left-over files ... OK
* checking index information ... OK
* checking package subdirectories ... OK
* checking code files for non-ASCII characters ... OK
* checking R files for syntax errors ... OK
* checking whether the package can be loaded ... OK
* checking whether the package can be loaded with stated dependencies ... OK
* checking whether the package can be unloaded cleanly ... OK
* checking whether the namespace can be loaded with stated dependencies ... OK
* checking whether the namespace can be unloaded cleanly ... OK
* checking loading without being on the library search path ... OK
* checking dependencies in R code ... OK
* checking S3 generic/method consistency ... OK
* checking replacement functions ... OK
* checking foreign function calls ... OK
* checking R code for possible problems ... OK
* checking Rd files ... OK
* checking Rd metadata ... OK
* checking Rd cross-references ... OK
* checking for missing documentation entries ... OK
* checking for code/documentation mismatches ... OK
* checking Rd \usage sections ... OK
* checking Rd contents ... OK
* checking for unstated dependencies in examples ... OK
* checking R/sysdata.rda ... OK
* checking files in ‘vignettes’ ... OK
* checking examples ... OK
Examples with CPU (user + system) or elapsed time > 5s
                            user system elapsed
fold_change_int           15.257  0.097  15.354
fold_change               10.269  0.022  10.292
fisher_exact               9.481  0.080   9.561
fs_line                    5.901  0.022   5.923
forward_selection_by_rank  5.844  0.057   5.901
* checking for unstated dependencies in ‘tests’ ... OK
* checking tests ...
  Running ‘testthat.R’
 OK
* checking for unstated dependencies in vignettes ... OK
* checking package vignettes ... OK
* checking re-building of vignette outputs ... OK
* checking PDF version of manual ... OK
* DONE

Status: OK


Installation output

structToolbox.Rcheck/00install.out

##############################################################################
##############################################################################
###
### Running command:
###
###   /home/biocbuild/bbs-3.20-bioc/R/bin/R CMD INSTALL structToolbox
###
##############################################################################
##############################################################################


* installing to library ‘/home/biocbuild/bbs-3.20-bioc/R/site-library’
* installing *source* package ‘structToolbox’ ...
** using staged installation
** R
** inst
** byte-compile and prepare package for lazy loading
** help
*** installing help indices
** building package indices
** installing vignettes
** testing if installed package can be loaded from temporary location
** testing if installed package can be loaded from final location
** testing if installed package keeps a record of temporary installation path
* DONE (structToolbox)

Tests output

structToolbox.Rcheck/tests/testthat.Rout


R version 4.4.2 (2024-10-31) -- "Pile of Leaves"
Copyright (C) 2024 The R Foundation for Statistical Computing
Platform: x86_64-pc-linux-gnu

R is free software and comes with ABSOLUTELY NO WARRANTY.
You are welcome to redistribute it under certain conditions.
Type 'license()' or 'licence()' for distribution details.

R is a collaborative project with many contributors.
Type 'contributors()' for more information and
'citation()' on how to cite R or R packages in publications.

Type 'demo()' for some demos, 'help()' for on-line help, or
'help.start()' for an HTML browser interface to help.
Type 'q()' to quit R.

> library(testthat)
> library(ggplot2)
> library(structToolbox)
Loading required package: struct
> 
> test_check("structToolbox")
[ FAIL 0 | WARN 6 | SKIP 0 | PASS 166 ]

[ FAIL 0 | WARN 6 | SKIP 0 | PASS 166 ]
> 
> proc.time()
   user  system elapsed 
169.625   1.659 171.273 

Example timings

structToolbox.Rcheck/structToolbox-Ex.timings

nameusersystemelapsed
ANOVA0.2070.0010.208
AUC1.9720.1142.085
DFA0.1870.0000.186
DatasetExperiment_boxplot1.5240.0141.537
DatasetExperiment_dist1.2600.0851.344
DatasetExperiment_factor_boxplot0.1950.0000.194
DatasetExperiment_heatmap0.3640.0020.366
HCA0.0630.0000.064
HSD0.2720.0020.277
HSDEM0.3220.0020.323
MTBLS79_DatasetExperiment0.0010.0000.001
OPLSDA0.0090.0000.010
OPLSR0.0140.0000.014
PCA0.0040.0000.004
PLSDA0.0230.0000.024
PLSR0.0090.0000.009
SVM0.0260.0000.027
as_data_frame0.1140.0000.114
autoscale0.070.000.07
balanced_accuracy1.6490.0361.686
blank_filter0.3540.0090.363
blank_filter_hist0.0010.0000.000
bootstrap0.0160.0000.017
calculate0.0050.0000.005
chart_plot0.0270.0000.027
classical_lsq0.2970.0020.299
compare_dist4.2510.1724.423
confounders_clsq2.7050.0012.706
confounders_lsq_barchart2.8240.0142.839
confounders_lsq_boxplot2.7810.0192.800
constant_sum_norm0.0140.0000.015
corr_coef0.2750.0050.280
dfa_scores_plot0.6970.0110.710
dratio_filter0.2450.0000.246
equal_split0.1170.0000.118
feature_boxplot0.0280.0000.029
feature_profile0.3550.0010.356
feature_profile_array0.4290.0010.430
filter_by_name0.0410.0010.043
filter_na_count0.8940.0030.898
filter_smeta0.0660.0000.067
fisher_exact9.4810.0809.561
fold_change10.269 0.02210.292
fold_change_int15.257 0.09715.354
fold_change_plot0.0110.0000.011
forward_selection_by_rank5.8440.0575.901
fs_line5.9010.0225.923
glog_opt_plot1.1000.0831.183
glog_transform0.2510.0000.251
grid_search_1d3.1820.0273.209
gs_line0.0010.0000.001
hca_dendrogram0.0010.0000.001
kfold_xval3.0820.0043.086
kfoldxcv_grid3.3730.0193.391
kfoldxcv_metric0.0000.0000.001
knn_impute0.0110.0020.013
kw_p_hist0.0010.0000.001
kw_rank_sum0.0800.0000.079
linear_model0.0280.0000.028
log_transform0.0130.0000.014
mean_centre0.0030.0000.003
mean_of_medians0.1170.0000.117
mixed_effect0.1730.0020.175
model_apply0.0210.0010.022
model_predict0.0490.0010.050
model_reverse0.0380.0000.039
model_train0.0460.0000.046
mv_boxplot0.2580.0000.258
mv_feature_filter0.1080.0000.109
mv_feature_filter_hist0.0010.0000.001
mv_histogram0.2340.0010.235
mv_sample_filter0.0140.0000.014
mv_sample_filter_hist0.0000.0000.001
nroot_transform0.0120.0000.012
ontology_cache0.0000.0000.001
pairs_filter0.0140.0000.015
pareto_scale0.0510.0000.051
pca_biplot0.0180.0000.017
pca_correlation_plot0.010.000.01
pca_dstat_plot0.0120.0000.012
pca_loadings_plot0.0130.0000.012
pca_scores_plot0.4910.0010.492
pca_scree_plot0.0110.0000.011
permutation_test0.0170.0000.016
permutation_test_plot0.0030.0000.003
permute_sample_order0.0140.0000.013
pls_regcoeff_plot0.3100.0010.310
pls_scores_plot0.6430.0030.646
pls_vip_plot0.3630.0010.363
plsda_feature_importance_plot0.5430.0000.542
plsda_predicted_plot0.4100.0010.411
plsda_roc_plot1.0100.0011.011
plsr_cook_dist0.0220.0000.022
plsr_prediction_plot0.0110.0000.011
plsr_qq_plot0.0110.0000.011
plsr_residual_hist0.0100.0000.011
pqn_norm0.2980.0000.298
pqn_norm_hist0.0010.0000.001
prop_na0.0150.0000.014
r_squared0.0010.0000.000
resample0.0210.0000.020
resample_chart0.0030.0000.003
rsd_filter0.0180.0000.019
rsd_filter_hist0.0000.0000.001
run0.0270.0000.027
sb_corr0.0310.0000.030
scatter_chart0.3120.0000.313
split_data0.0120.0000.012
stratified_split0.1050.0010.107
svm_plot_2d0.6070.0030.610
tSNE0.0270.0000.028
tSNE_scatter0.0110.0000.011
tic_chart0.1870.0000.186
ttest0.0190.0000.020
vec_norm0.0010.0000.001
wilcox_p_hist0.0010.0000.001
wilcox_test0.0230.0000.023