Back to Multiple platform build/check report for BioC 3.20:   simplified   long
ABCDEFGHIJKLMNOPQR[S]TUVWXYZ

This page was generated on 2025-02-06 12:12 -0500 (Thu, 06 Feb 2025).

HostnameOSArch (*)R versionInstalled pkgs
nebbiolo2Linux (Ubuntu 24.04.1 LTS)x86_644.4.2 (2024-10-31) -- "Pile of Leaves" 4753
palomino8Windows Server 2022 Datacenterx644.4.2 (2024-10-31 ucrt) -- "Pile of Leaves" 4501
merida1macOS 12.7.5 Montereyx86_644.4.2 (2024-10-31) -- "Pile of Leaves" 4524
kjohnson1macOS 13.6.6 Venturaarm644.4.2 (2024-10-31) -- "Pile of Leaves" 4476
taishanLinux (openEuler 24.03 LTS)aarch644.4.2 (2024-10-31) -- "Pile of Leaves" 4407
Click on any hostname to see more info about the system (e.g. compilers)      (*) as reported by 'uname -p', except on Windows and Mac OS X

Package 2079/2289HostnameOS / ArchINSTALLBUILDCHECKBUILD BIN
structToolbox 1.18.1  (landing page)
Gavin Rhys Lloyd
Snapshot Date: 2025-02-03 13:00 -0500 (Mon, 03 Feb 2025)
git_url: https://git.bioconductor.org/packages/structToolbox
git_branch: RELEASE_3_20
git_last_commit: 13f7a1e
git_last_commit_date: 2025-01-28 04:47:09 -0500 (Tue, 28 Jan 2025)
nebbiolo2Linux (Ubuntu 24.04.1 LTS) / x86_64  OK    OK    OK  UNNEEDED, same version is already published
palomino8Windows Server 2022 Datacenter / x64  OK    OK    OK    OK  UNNEEDED, same version is already published
merida1macOS 12.7.5 Monterey / x86_64  OK    OK    OK    NA  
kjohnson1macOS 13.6.6 Ventura / arm64  OK    OK    OK    OK  UNNEEDED, same version is already published
taishanLinux (openEuler 24.03 LTS) / aarch64  OK    OK    OK  


CHECK results for structToolbox on taishan

To the developers/maintainers of the structToolbox package:
- Allow up to 24 hours (and sometimes 48 hours) for your latest push to git@git.bioconductor.org:packages/structToolbox.git to reflect on this report. See Troubleshooting Build Report for more information.
- Use the following Renviron settings to reproduce errors and warnings.
- If 'R CMD check' started to fail recently on the Linux builder(s) over a missing dependency, add the missing dependency to 'Suggests:' in your DESCRIPTION file. See Renviron.bioc for more information.
- See Martin Grigorov's blog post for how to debug Linux ARM64 related issues on a x86_64 host.

raw results


Summary

Package: structToolbox
Version: 1.18.1
Command: /home/biocbuild/R/R/bin/R CMD check --install=check:structToolbox.install-out.txt --library=/home/biocbuild/R/R/site-library --no-vignettes --timings structToolbox_1.18.1.tar.gz
StartedAt: 2025-02-04 11:29:58 -0000 (Tue, 04 Feb 2025)
EndedAt: 2025-02-04 11:40:05 -0000 (Tue, 04 Feb 2025)
EllapsedTime: 606.8 seconds
RetCode: 0
Status:   OK  
CheckDir: structToolbox.Rcheck
Warnings: 0

Command output

##############################################################################
##############################################################################
###
### Running command:
###
###   /home/biocbuild/R/R/bin/R CMD check --install=check:structToolbox.install-out.txt --library=/home/biocbuild/R/R/site-library --no-vignettes --timings structToolbox_1.18.1.tar.gz
###
##############################################################################
##############################################################################


* using log directory ‘/home/biocbuild/bbs-3.20-bioc/meat/structToolbox.Rcheck’
* using R version 4.4.2 (2024-10-31)
* using platform: aarch64-unknown-linux-gnu
* R was compiled by
    aarch64-unknown-linux-gnu-gcc (GCC) 14.2.0
    GNU Fortran (GCC) 12.3.1 (openEuler 12.3.1-36.oe2403)
* running under: openEuler 24.03 (LTS)
* using session charset: UTF-8
* using option ‘--no-vignettes’
* checking for file ‘structToolbox/DESCRIPTION’ ... OK
* checking extension type ... Package
* this is package ‘structToolbox’ version ‘1.18.1’
* package encoding: UTF-8
* checking package namespace information ... OK
* checking package dependencies ... OK
* checking if this is a source package ... OK
* checking if there is a namespace ... OK
* checking for hidden files and directories ... OK
* checking for portable file names ... OK
* checking for sufficient/correct file permissions ... OK
* checking whether package ‘structToolbox’ can be installed ... OK
* checking installed package size ... OK
* checking package directory ... OK
* checking ‘build’ directory ... OK
* checking DESCRIPTION meta-information ... OK
* checking top-level files ... OK
* checking for left-over files ... OK
* checking index information ... OK
* checking package subdirectories ... OK
* checking code files for non-ASCII characters ... OK
* checking R files for syntax errors ... OK
* checking whether the package can be loaded ... OK
* checking whether the package can be loaded with stated dependencies ... OK
* checking whether the package can be unloaded cleanly ... OK
* checking whether the namespace can be loaded with stated dependencies ... OK
* checking whether the namespace can be unloaded cleanly ... OK
* checking loading without being on the library search path ... OK
* checking dependencies in R code ... OK
* checking S3 generic/method consistency ... OK
* checking replacement functions ... OK
* checking foreign function calls ... OK
* checking R code for possible problems ... OK
* checking Rd files ... OK
* checking Rd metadata ... OK
* checking Rd cross-references ... OK
* checking for missing documentation entries ... OK
* checking for code/documentation mismatches ... OK
* checking Rd \usage sections ... OK
* checking Rd contents ... OK
* checking for unstated dependencies in examples ... OK
* checking R/sysdata.rda ... OK
* checking files in ‘vignettes’ ... OK
* checking examples ... OK
Examples with CPU (user + system) or elapsed time > 5s
                            user system elapsed
fold_change_int           22.538  0.071  22.658
fold_change               16.538  0.051  16.624
fisher_exact              13.825  0.100  13.955
fs_line                    8.813  0.028   8.860
forward_selection_by_rank  8.700  0.084   8.804
grid_search_1d             5.565  0.096   5.672
kfoldxcv_grid              5.226  0.004   5.244
compare_dist               5.076  0.096   5.182
* checking for unstated dependencies in ‘tests’ ... OK
* checking tests ...
  Running ‘testthat.R’
 OK
* checking for unstated dependencies in vignettes ... OK
* checking package vignettes ... OK
* checking running R code from vignettes ... SKIPPED
* checking re-building of vignette outputs ... SKIPPED
* checking PDF version of manual ... OK
* DONE

Status: OK


Installation output

structToolbox.Rcheck/00install.out

##############################################################################
##############################################################################
###
### Running command:
###
###   /home/biocbuild/R/R/bin/R CMD INSTALL structToolbox
###
##############################################################################
##############################################################################


* installing to library ‘/home/biocbuild/R/R-4.4.2/site-library’
* installing *source* package ‘structToolbox’ ...
** using staged installation
** R
** inst
** byte-compile and prepare package for lazy loading
** help
*** installing help indices
** building package indices
** installing vignettes
** testing if installed package can be loaded from temporary location
** testing if installed package can be loaded from final location
** testing if installed package keeps a record of temporary installation path
* DONE (structToolbox)

Tests output

structToolbox.Rcheck/tests/testthat.Rout


R version 4.4.2 (2024-10-31) -- "Pile of Leaves"
Copyright (C) 2024 The R Foundation for Statistical Computing
Platform: aarch64-unknown-linux-gnu

R is free software and comes with ABSOLUTELY NO WARRANTY.
You are welcome to redistribute it under certain conditions.
Type 'license()' or 'licence()' for distribution details.

R is a collaborative project with many contributors.
Type 'contributors()' for more information and
'citation()' on how to cite R or R packages in publications.

Type 'demo()' for some demos, 'help()' for on-line help, or
'help.start()' for an HTML browser interface to help.
Type 'q()' to quit R.

> library(testthat)
> library(ggplot2)
> library(structToolbox)
Loading required package: struct
> 
> test_check("structToolbox")
[ FAIL 0 | WARN 6 | SKIP 0 | PASS 166 ]

[ FAIL 0 | WARN 6 | SKIP 0 | PASS 166 ]
> 
> proc.time()
   user  system elapsed 
253.787   2.399 256.831 

Example timings

structToolbox.Rcheck/structToolbox-Ex.timings

nameusersystemelapsed
ANOVA0.2880.0000.289
AUC2.6370.1552.798
DFA0.2760.0000.277
DatasetExperiment_boxplot1.5490.0601.611
DatasetExperiment_dist1.2380.0481.288
DatasetExperiment_factor_boxplot0.2730.0240.298
DatasetExperiment_heatmap0.5190.0160.537
HCA0.0860.0000.087
HSD0.3830.0050.403
HSDEM0.4230.0120.437
MTBLS79_DatasetExperiment0.0010.0000.002
OPLSDA0.0160.0000.016
OPLSR0.0220.0000.021
PCA0.0060.0000.006
PLSDA0.0350.0000.035
PLSR0.0130.0000.014
SVM0.0350.0040.039
as_data_frame0.1620.0040.166
autoscale0.1070.0000.107
balanced_accuracy2.3570.0192.380
blank_filter0.4800.0040.486
blank_filter_hist0.0010.0000.001
bootstrap0.0260.0000.026
calculate0.0080.0000.007
chart_plot0.0410.0000.040
classical_lsq0.4500.0040.455
compare_dist5.0760.0965.182
confounders_clsq3.8550.0123.873
confounders_lsq_barchart4.1330.0324.179
confounders_lsq_boxplot4.1710.1004.280
constant_sum_norm0.0210.0000.022
corr_coef0.3770.0320.411
dfa_scores_plot1.0300.0041.037
dratio_filter0.4140.0000.415
equal_split0.1780.0000.178
feature_boxplot0.0450.0000.045
feature_profile0.5250.0000.527
feature_profile_array0.6780.0040.683
filter_by_name0.0430.0040.047
filter_na_count1.4800.0201.503
filter_smeta0.0870.0000.087
fisher_exact13.825 0.10013.955
fold_change16.538 0.05116.624
fold_change_int22.538 0.07122.658
fold_change_plot0.0120.0040.017
forward_selection_by_rank8.7000.0848.804
fs_line8.8130.0288.860
glog_opt_plot0.7040.0000.705
glog_transform0.3990.0030.403
grid_search_1d5.5650.0965.672
gs_line0.0010.0000.001
hca_dendrogram0.0000.0000.001
kfold_xval4.7550.0084.775
kfoldxcv_grid5.2260.0045.244
kfoldxcv_metric0.0010.0000.001
knn_impute0.0170.0000.017
kw_p_hist0.0010.0000.001
kw_rank_sum0.1070.0000.108
linear_model0.040.000.04
log_transform0.0190.0000.019
mean_centre0.0040.0000.004
mean_of_medians0.1770.0000.178
mixed_effect0.2300.0000.231
model_apply0.0330.0000.033
model_predict0.0760.0040.079
model_reverse0.0590.0000.060
model_train0.0710.0000.072
mv_boxplot0.4010.0000.402
mv_feature_filter0.1660.0000.167
mv_feature_filter_hist0.0010.0000.001
mv_histogram0.3620.0000.362
mv_sample_filter0.020.000.02
mv_sample_filter_hist0.0010.0000.001
nroot_transform0.0180.0000.018
ontology_cache000
pairs_filter0.0220.0000.021
pareto_scale0.0750.0000.075
pca_biplot0.0270.0000.027
pca_correlation_plot0.0160.0000.015
pca_dstat_plot0.0190.0000.018
pca_loadings_plot0.0190.0000.019
pca_scores_plot0.7310.0040.737
pca_scree_plot0.0150.0000.015
permutation_test0.0240.0000.023
permutation_test_plot0.0040.0000.004
permute_sample_order0.0200.0000.021
pls_regcoeff_plot0.4650.0000.466
pls_scores_plot0.9450.0000.948
pls_vip_plot0.5760.0040.582
plsda_feature_importance_plot0.7860.0080.796
plsda_predicted_plot0.6170.0120.631
plsda_roc_plot1.6190.0001.623
plsr_cook_dist0.0160.0000.016
plsr_prediction_plot0.0150.0000.016
plsr_qq_plot0.0160.0000.016
plsr_residual_hist0.0150.0000.015
pqn_norm0.4890.0000.490
pqn_norm_hist0.0000.0000.001
prop_na0.0220.0000.022
r_squared0.0010.0000.001
resample0.0330.0000.033
resample_chart0.0040.0000.004
rsd_filter0.0280.0000.029
rsd_filter_hist0.0010.0000.001
run0.0410.0000.042
sb_corr0.0470.0000.048
scatter_chart0.5020.0040.506
split_data0.0180.0000.018
stratified_split0.1650.0000.165
svm_plot_2d0.8980.0080.908
tSNE0.0480.0000.048
tSNE_scatter0.0170.0000.017
tic_chart0.2910.0000.292
ttest0.030.000.03
vec_norm0.0010.0000.001
wilcox_p_hist0.0010.0000.001
wilcox_test0.0340.0000.034