Welcome to mirrors.dotsrc.org

All our mirrors of open source software are available via http, https, ftp and an onion service. More information about our mirrors including statistics and contact information is available on our mirror info pages.

For information about dotsrc.org and our other services please go to our website.

Index of /bioconductor/checkResults/3.21/bioc-LATEST/

File Name  ↓ File Size  ↓ Date  ↓ 
Parent directory/--
zlibbioc/-2025-02-04 16:45:26
zitools/-2025-02-04 16:45:26
zinbwave/-2025-02-04 16:45:26
zenith/-2025-02-04 16:45:26
zellkonverter/-2025-02-04 16:45:26
zFPKM/-2025-02-04 16:45:26
yarn/-2025-02-04 16:45:26
yamss/-2025-02-04 16:45:26
xmapbridge/-2025-02-04 16:45:25
xenLite/-2025-02-04 16:45:25
xcore/-2025-02-04 16:45:25
xcms/-2025-02-04 16:45:25
xCell2/-2025-02-04 16:45:25
wppi/-2025-02-04 16:45:25
wpm/-2025-02-04 16:45:25
wiggleplotr/-2025-02-04 16:45:25
widgetTools/-2025-02-04 16:45:25
weitrix/-2025-02-04 16:45:25
webbioc/-2025-02-04 16:45:25
weaver/-2025-02-04 16:45:25
wavClusteR/-2025-02-04 16:45:25
wateRmelon/-2025-02-04 16:45:25
waddR/-2025-02-04 16:45:25
vulcan/-2025-02-04 16:45:25
vtpnet/-2025-02-04 16:45:25
vsn/-2025-02-04 16:45:25
vsclust/-2025-02-04 16:45:25
vissE/-2025-02-04 16:45:24
visiumStitched/-2025-02-04 16:45:24
viper/-2025-02-04 16:45:24
vidger/-2025-02-04 16:45:24
veloviz/-2025-02-04 16:45:24
velociraptor/-2025-02-04 16:45:24
vbmp/-2025-02-04 16:45:24
variancePartition/-2025-02-04 16:45:24
updateObject/-2025-02-04 16:45:23
universalmotif/-2025-02-04 16:45:23
unifiedWMWqPCR/-2025-02-04 16:45:23
uncoverappLib/-2025-02-04 16:45:23
uSORT/-2025-02-04 16:45:23
tximport/-2025-02-04 16:45:23
tximeta/-2025-02-04 16:45:23
txdbmaker/-2025-02-04 16:45:23
txcutr/-2025-02-04 16:45:23
twoddpcr/-2025-02-04 16:45:23
twilight/-2025-02-04 16:39:40
tweeDEseq/-2025-02-04 16:45:23
ttgsea/-2025-02-04 16:45:23
tripr/-2025-02-04 16:45:22
triplex/-2025-02-04 16:45:22
trio/-2025-02-04 16:45:22
trigger/-2025-02-04 16:45:22
tricycle/-2025-02-04 16:45:22
treekoR/-2025-02-04 16:45:22
treeio/-2025-02-04 16:45:22
treeclimbR/-2025-02-04 16:45:22
traviz/-2025-02-04 16:45:22
traseR/-2025-02-04 16:45:22
transomics2cytoscape/-2025-02-04 16:45:22
transmogR/-2025-02-04 16:45:21
transite/-2025-02-04 16:45:21
transformGamPoi/-2025-02-04 16:45:21
transcriptogramer/-2025-02-04 16:45:21
transcriptR/-2025-02-04 16:45:21
tradeSeq/-2025-02-04 16:45:21
tracktables/-2025-02-04 16:45:21
trackViewer/-2025-02-04 16:45:21
tpSVG/-2025-02-04 16:45:21
topdownr/-2025-02-04 16:45:21
topconfects/-2025-02-04 16:45:21
topGO/-2025-02-04 16:45:21
tomoseqr/-2025-02-04 16:45:21
tomoda/-2025-02-04 16:45:21
tkWidgets/-2025-02-04 16:45:20
timescape/-2025-02-04 16:45:20
timecourse/-2025-02-04 16:45:20
timeOmics/-2025-02-04 16:45:20
tilingArray/-2025-02-04 16:45:20
tigre/-2025-02-04 16:45:20
tidytof/-2025-02-04 16:45:20
tidysbml/-2025-02-04 16:45:20
tidyomics/-2025-02-04 16:45:20
tidybulk/-2025-02-04 16:45:20
tidySummarizedExperiment/-2025-02-04 16:45:20
tidySpatialExperiment/-2025-02-04 16:45:20
tidySingleCellExperiment/-2025-02-04 16:45:20
tidyFlowCore/-2025-02-04 16:45:20
tidyCoverage/-2025-02-04 16:45:20
terraTCGAdata/-2025-02-04 16:45:19
ternarynet/-2025-02-04 16:45:19
tenXplore/-2025-02-04 16:45:19
target/-2025-02-04 16:45:19
tanggle/-2025-02-04 16:45:19
tadar/-2025-02-04 16:45:19
tRanslatome/-2025-02-04 16:45:21
tRNAscanImport/-2025-02-04 16:45:22
tRNAdbImport/-2025-02-04 16:45:22
tRNA/-2025-02-04 16:45:22
tLOH/-2025-02-04 16:45:20
systemPipeTools/-2025-02-04 16:45:19
systemPipeShiny/-2025-02-04 16:45:19
systemPipeR/-2025-02-04 16:45:18
syntenet/-2025-02-04 16:45:18
synlet/-2025-02-04 16:45:18
synergyfinder/-2025-02-04 16:45:18
synapter/-2025-02-04 16:45:18
synapsis/-2025-02-04 16:45:18
switchde/-2025-02-04 16:45:18
switchBox/-2025-02-04 16:45:18
swfdr/-2025-02-04 16:45:18
svaRetro/-2025-02-04 16:45:18
svaNUMT/-2025-02-04 16:45:18
sva/-2025-02-04 16:45:18
survtype/-2025-02-04 16:45:18
survcomp/-2025-02-04 16:45:18
survClust/-2025-02-04 16:45:18
surfaltr/-2025-02-04 16:45:18
supraHex/-2025-02-04 16:45:18
supersigs/-2025-02-04 16:45:18
subSeq/-2025-02-04 16:45:17
structToolbox/-2025-02-04 16:45:17
struct/-2025-02-04 16:45:17
strandCheckR/-2025-02-04 16:45:17
stepNorm/-2025-02-04 16:45:17
statTarget/-2025-02-04 16:45:17
standR/-2025-02-04 16:45:17
stageR/-2025-02-04 16:45:17
staRank/-2025-02-04 16:45:17
stJoincount/-2025-02-04 16:45:17
ssviz/-2025-02-04 16:45:17
ssrch/-2025-02-04 16:45:17
ssize/-2025-02-04 16:45:16
sscu/-2025-02-04 16:45:16
ssPATHS/-2025-02-04 16:45:17
srnadiff/-2025-02-04 16:45:16
squallms/-2025-02-04 16:45:16
spqn/-2025-02-04 16:45:16
spoon/-2025-02-04 16:45:16
splots/-2025-02-04 16:45:16
splineTimeR/-2025-02-04 16:45:16
splatter/-2025-02-04 16:45:16
spkTools/-2025-02-04 16:45:16
spillR/-2025-02-04 16:45:16
spiky/-2025-02-04 16:45:16
spikeLI/-2025-02-04 16:45:15
spicyR/-2025-02-04 16:45:15
speckle/-2025-02-04 16:45:15
specL/-2025-02-04 16:45:15
spatzie/-2025-02-04 16:45:15
spatialSimGP/-2025-02-04 16:45:15
spatialHeatmap/-2025-02-04 16:45:15
spatialFDA/-2025-02-04 16:45:15
spatialDE/-2025-02-04 16:45:15
sparsenetgls/-2025-02-04 16:45:15
sparseMatrixStats/-2025-02-04 16:45:14
sparrow/-2025-02-04 16:45:14
spaSim/-2025-02-04 16:45:15
sosta/-2025-02-04 16:45:14
soGGi/-2025-02-04 16:45:14
snpStats/-2025-02-04 16:45:14
snm/-2025-02-04 16:45:14
snifter/-2025-02-04 16:45:14
snapcount/-2025-02-04 16:45:14
smoppix/-2025-02-04 16:45:14
smoothclust/-2025-02-04 16:45:14
smartid/-2025-02-04 16:45:14
slingshot/-2025-02-04 16:45:13
slalom/-2025-02-04 16:45:13
skewr/-2025-02-04 16:45:13
sketchR/-2025-02-04 16:45:13
sizepower/-2025-02-04 16:45:13
sitePath/-2025-02-04 16:45:13
sitadela/-2025-02-04 16:45:13
singscore/-2025-02-04 16:45:13
singleCellTK/-2025-02-04 16:45:13
single/-2024-10-24 15:04:43
sincell/-2025-02-04 16:45:13
simplifyEnrichment/-2025-02-04 16:45:13
simpleSeg/-2025-02-04 16:45:13
simona/-2025-02-04 16:45:13
similaRpeak/-2025-02-04 16:45:13
simPIC/-2025-02-04 16:45:13
sigsquared/-2025-02-04 16:45:12
signifinder/-2025-02-04 16:45:12
signeR/-2025-02-04 16:45:12
signatureSearch/-2025-02-04 16:45:12
sights/-2025-02-04 16:45:12
siggenes/-2025-02-04 16:45:12
sigFeature/-2025-02-04 16:45:12
shinyepico/-2025-02-04 16:45:12
shinyMethyl/-2025-02-04 16:45:12
shiny.gosling/-2025-02-04 16:45:12
sevenbridges/-2025-02-04 16:45:12
sevenC/-2025-02-04 16:45:12
sesame/-2025-02-04 16:45:11
seqsetvis/-2025-02-04 16:45:11
seqcombo/-2025-02-04 16:45:11
seqTools/-2025-02-04 16:45:11
seqPattern/-2025-02-04 16:45:11
seqLogo/-2025-02-04 16:45:11
seqCAT/-2025-02-04 16:45:11
seqArchRplus/-2025-02-04 16:45:11
seqArchR/-2025-02-04 16:45:11
seq2pathway/-2025-02-04 16:45:11
seq.hotSPOT/-2025-02-04 16:45:11
semisup/-2025-02-04 16:45:11
selectKSigs/-2025-02-04 16:45:11
segmenter/-2025-02-04 16:45:11
segmentSeq/-2025-02-04 16:45:11
sechm/-2025-02-04 16:45:11
seahtrue/-2025-02-04 16:45:11
scviR/-2025-02-04 16:45:10
scuttle/-2025-02-04 16:45:10
scry/-2025-02-04 16:45:10
scruff/-2025-02-04 16:45:10
screenCounter/-2025-02-04 16:45:10
scrapper/-2025-02-04 16:45:10
scran/-2025-02-04 16:45:10
scp/-2025-02-04 16:45:10
scoup/-2025-02-04 16:45:10
scoreInvHap/-2025-02-04 16:45:09
scone/-2025-02-04 16:45:09
scmeth/-2025-02-04 16:45:09
scmap/-2025-02-04 16:45:09
scifer/-2025-02-04 16:45:09
scider/-2025-02-04 16:45:09
schex/-2025-02-04 16:45:09
scds/-2025-02-04 16:45:09
scde/-2025-02-04 16:45:09
sccomp/-2025-02-04 16:45:08
scatterHatch/-2025-02-04 16:45:08
scater/-2025-02-04 16:45:08
scanMiRApp/-2025-02-04 16:45:08
scanMiR/-2025-02-04 16:45:08
scTreeViz/-2025-02-04 16:45:10
scTensor/-2025-02-04 16:45:10
scTHI/-2025-02-04 16:45:10
scTGIF/-2025-02-04 16:45:10
scShapes/-2025-02-04 16:45:10
scRepertoire/-2025-02-04 16:45:10
scRecover/-2025-02-04 16:45:10
scReClassify/-2025-02-04 16:45:10
scRNAseqApp/-2025-02-04 16:45:10
scQTLtools/-2025-02-04 16:45:10
scPipe/-2025-02-04 16:45:10
scPCA/-2025-02-04 16:45:10
scMultiSim/-2025-02-04 16:45:09
scMitoMut/-2025-02-04 16:45:09
scMerge/-2025-02-04 16:45:09
scMET/-2025-02-04 16:45:09
scHOT/-2025-02-04 16:45:09
scGPS/-2025-02-04 16:45:09
scFeatures/-2025-02-04 16:45:09
scFeatureFilter/-2025-02-04 16:45:09
scDotPlot/-2025-02-04 16:45:09
scDiagnostics/-2025-02-04 16:45:09
scDesign3/-2025-02-04 16:45:09
scDblFinder/-2025-02-04 16:45:08
scDataviz/-2025-02-04 16:45:08
scDDboost/-2025-02-04 16:45:09
scDD/-2025-02-04 16:45:08
scClassify/-2025-02-04 16:45:08
scCB2/-2025-02-04 16:45:08
scBubbletree/-2025-02-04 16:45:08
scBFA/-2025-02-04 16:45:08
scAnnotatR/-2025-02-04 16:45:08
satuRn/-2025-02-04 16:45:08
saseR/-2025-02-04 16:45:08
sarks/-2025-02-04 16:45:08
sangerseqR/-2025-02-04 16:45:07
sangeranalyseR/-2025-02-04 16:45:07
sampleClassifier/-2025-02-04 16:45:07
sagenhaft/-2025-02-04 16:45:07
safe/-2025-02-04 16:45:07
sSeq/-2025-02-04 16:45:16
sSNAPPY/-2025-02-04 16:45:17
sRACIPE/-2025-02-04 16:45:16
runibic/-2025-02-04 16:42:03
rtracklayer/-2025-02-04 16:45:07
rsemmed/-2025-02-04 16:45:06
rsbml/-2025-02-04 16:42:02
rrvgo/-2025-02-04 16:45:06
rqubic/-2025-02-04 16:45:06
rqt/-2025-02-04 16:45:06
rpx/-2025-02-04 16:45:06
rprimer/-2025-02-04 16:45:06
ropls/-2025-02-04 16:45:06
rols/-2025-02-04 16:45:06
roastgsa/-2025-02-04 16:45:05
roar/-2025-02-04 16:45:05
rnaseqcomp/-2025-02-04 16:45:05
rnaEditr/-2025-02-04 16:45:05
rmspc/-2025-02-04 16:45:05
rmelting/-2025-02-04 16:45:05
rifiComparative/-2025-02-04 16:45:04
rifi/-2025-02-04 16:45:04
ribosomeProfilingQC/-2025-02-04 16:45:04
ribor/-2025-02-04 16:45:04
riboSeqR/-2025-02-04 16:45:04
rhinotypeR/-2025-02-04 16:45:04
rhdf5filters/-2025-02-04 16:45:04
rhdf5client/-2025-02-04 16:45:04
rhdf5/-2025-02-04 16:45:04
rgsepd/-2025-02-04 16:45:04
rgoslin/-2025-02-04 16:45:04
rfaRm/-2025-02-04 16:45:03
rfPred/-2025-02-04 16:45:03
rexposome/-2025-02-04 16:45:03
retrofit/-2025-02-04 16:45:03
regutools/-2025-02-04 16:45:03
regsplice/-2025-02-04 16:45:03
regioneReloaded/-2025-02-04 16:45:03
regioneR/-2025-02-04 16:45:03
regionalpcs/-2025-02-04 16:45:03
regionReport/-2025-02-04 16:45:03
recoup/-2025-02-04 16:45:02
recountmethylation/-2025-02-04 16:45:02
recount3/-2025-02-04 16:45:02
recount/-2025-02-04 16:45:02
reconsi/-2025-02-04 16:45:02
receptLoss/-2025-02-04 16:45:02
rebook/-2025-02-04 16:45:02
rcellminer/-2025-02-04 16:45:01
rbsurv/-2025-02-04 16:45:01
rawrr/-2025-02-04 16:45:01
rawDiag/-2025-02-04 16:45:01
randRotation/-2025-02-04 16:45:01
randPack/-2025-02-04 16:45:01
ramwas/-2025-02-04 16:45:01
ramr/-2025-02-04 16:45:01
rain/-2025-02-04 16:45:01
raer/-2025-02-04 16:45:00
rWikiPathways/-2025-02-04 16:45:07
rTRMui/-2025-02-04 16:45:07
rTRM/-2025-02-04 16:45:07
rScudo/-2025-02-04 16:45:06
rSWeeP/-2025-02-04 16:45:06
rRDP/-2025-02-04 16:45:06
rGenomeTracks/-2025-02-04 16:45:03
rGREAT/-2025-02-04 16:45:04
rGADEM/-2025-02-04 16:45:03
rDGIdb/-2024-10-24 15:04:42
rCGH/-2025-02-04 16:45:02
rBiopaxParser/-2025-02-04 16:45:01
rBLAST/-2025-02-04 16:45:01
r3Cseq/-2025-02-04 16:45:00
qvalue/-2025-02-04 16:45:00
qusage/-2025-02-04 16:45:00
quantsmooth/-2025-02-04 16:45:00
quantro/-2025-02-04 16:45:00
quantiseqr/-2025-02-04 16:45:00
qsvaR/-2025-02-04 16:45:00
qsmooth/-2025-02-04 16:45:00
qsea/-2025-02-04 16:45:00
qpgraph/-2025-02-04 16:45:00
qpcrNorm/-2025-02-04 16:45:00
qmtools/-2025-02-04 16:45:00
qcmetrics/-2025-02-04 16:44:59
qckitfastq/-2025-02-04 16:44:59
qPLEXanalyzer/-2025-02-04 16:45:00
pwalign/-2025-02-04 16:44:59
pvca/-2025-02-04 16:44:59
pvac/-2025-02-04 16:44:59
puma/-2025-02-04 16:44:59
ptairMS/-2025-02-04 16:44:59
psygenet2r/-2024-10-24 15:04:42
psichomics/-2025-02-04 16:44:59
proteinProfiles/-2025-02-04 16:44:59
protGear/-2025-02-04 16:44:59
projectR/-2025-02-04 16:44:58
progeny/-2025-02-04 16:44:58
profileplyr/-2025-02-04 16:44:58
profileScoreDist/-2025-02-04 16:44:58
procoil/-2025-02-04 16:44:58
proDA/-2025-02-04 16:44:58
proBAMr/-2025-02-04 16:44:58
proActiv/-2025-02-04 16:44:58
primirTSS/-2025-02-04 16:44:58
preprocessCore/-2025-02-04 16:44:58
preciseTAD/-2025-02-04 16:44:58
prebs/-2025-02-04 16:44:58
pram/-2025-02-04 16:44:58
pqsfinder/-2025-02-04 16:44:58
ppcseq/-2025-02-04 16:44:58
powerTCR/-2025-02-04 16:44:58
polyester/-2024-10-24 15:04:42
pogos/-2025-02-04 16:44:58
podkat/-2025-02-04 16:44:57
pmp/-2025-02-04 16:44:57
pmm/-2025-02-04 16:44:57
plyxp/-2025-02-04 16:44:57
plyranges/-2025-02-04 16:44:57
plyinteractions/-2025-02-04 16:44:57
plotgardener/-2025-02-04 16:44:57
plotGrouper/-2025-02-04 16:44:57
plier/-2025-02-04 16:44:57
plgem/-2025-02-04 16:44:57
plasmut/-2025-02-04 16:44:57
planttfhunter/-2025-02-04 16:44:57
planet/-2025-02-04 16:44:57
pipeFrame/-2025-02-04 16:44:57
pipeComp/-2025-02-04 16:44:57
pickgene/-2025-02-04 16:44:57
piano/-2025-02-04 16:44:56
phyloseq/-2025-02-04 16:44:56
phosphonormalizer/-2025-02-04 16:44:56
philr/-2025-02-04 16:44:56
phenopath/-2025-02-04 16:44:56
phenomis/-2025-02-04 16:44:56
phenoTest/-2025-02-04 16:44:56
phantasusLite/-2025-02-04 16:44:56
phantasus/-2025-02-04 16:44:56
pgxRpi/-2025-02-04 16:44:56
pgca/-2025-02-04 16:44:56
pfamAnalyzeR/-2025-02-04 16:44:56
periodicDNA/-2025-02-04 16:44:56
pepXMLTab/-2025-02-04 16:44:56
pepStat/-2025-02-04 16:44:56
pengls/-2025-02-04 16:44:56
peco/-2025-02-04 16:44:56
peakPantheR/-2025-02-04 16:44:55
pdInfoBuilder/-2025-02-04 16:44:55
pcaMethods/-2025-02-04 16:44:55
pcaExplorer/-2025-02-04 16:44:55
paxtoolsr/-2025-02-04 16:44:55
pathwayPCA/-2025-02-04 16:44:55
pathview/-2025-02-04 16:44:55
pathlinkR/-2025-02-04 16:44:55
pathifier/-2025-02-04 16:44:55
pathRender/-2025-02-04 16:44:55
partCNV/-2025-02-04 16:44:55
parody/-2025-02-04 16:44:55
parglms/-2025-02-04 16:44:55
pareg/-2025-02-04 16:44:55
panp/-2025-02-04 16:44:55
panelcn.mops/-2025-02-04 16:44:55
pandaR/-2025-02-04 16:44:54
pairkat/-2025-02-04 16:44:54
pairedGSEA/-2025-02-04 16:44:54
paircompviz/-2025-02-04 16:44:54
pageRank/-2025-02-04 16:44:54
padma/-2025-02-04 16:44:54
packFinder/-2025-02-04 16:44:54
pRolocGUI/-2025-02-04 16:44:59
pRoloc/-2025-02-04 16:44:59
orthos/-2025-02-04 16:44:54
orthogene/-2025-02-04 16:44:54
optimalFlow/-2025-02-04 16:44:54
oppti/-2025-02-04 16:44:54
oppar/-2025-02-04 16:44:53
oposSOM/-2025-02-04 16:44:53
openPrimeR/-2025-02-04 16:44:53
openCyto/-2025-02-04 16:44:53
ontoProc/-2025-02-04 16:44:53
onlineFDR/-2025-02-04 16:44:53
oncoscanR/-2025-02-04 16:44:53
oncomix/-2025-02-04 16:44:53
ompBAM/-2025-02-04 16:44:53
omicsViewer/-2025-02-04 16:44:53
omicsPrint/-2025-02-04 16:44:53
omicplotR/-2025-02-04 16:44:53
omicade4/-2025-02-04 16:44:53
omicRexposome/-2025-02-04 16:44:53
omada/-2025-02-04 16:44:53
omXplore/-2025-02-04 16:44:53
oligoClasses/-2025-02-04 16:44:51
oligo/-2025-02-04 16:44:51
odseq/-2025-02-04 16:44:51
octad/-2025-02-04 16:44:51
occugene/-2025-02-04 16:44:51
nullranges/-2025-02-04 16:44:51
nucleoSim/-2025-02-04 16:44:51
nucleR/-2025-02-04 16:44:51
nuCpos/-2025-02-04 16:44:51
npGSEA/-2025-02-04 16:44:51
normr/-2025-02-04 16:44:51
normalize450K/-2025-02-04 16:44:51
nondetects/-2025-02-04 16:44:51
nnSVG/-2025-02-04 16:44:50
nnNorm/-2025-02-04 16:44:50
nipalsMCIA/-2025-02-04 16:44:50
ngsReports/-2025-02-04 16:44:50
netresponse/-2025-02-04 16:44:50
netprioR/-2025-02-04 16:44:50
nethet/-2025-02-04 16:44:50
netboost/-2025-02-04 16:44:50
netZooR/-2025-02-04 16:44:50
netSmooth/-2025-02-04 16:44:50
netOmics/-2024-10-24 15:04:41
netDx/-2025-02-04 16:44:50
nempi/-2025-02-04 16:44:50
nearBynding/-2025-02-04 16:44:50
ndexr/-2025-02-04 16:44:50
ncdfFlow/-2025-02-04 16:44:50
ncRNAtools/-2025-02-04 16:44:50
ncGTW/-2025-02-04 16:44:50
nanotatoR/-2024-10-24 15:04:41
mzR/-2025-02-04 16:44:49
mzID/-2025-02-04 16:44:49
myvariant/-2025-02-04 16:44:49
mygene/-2025-02-04 16:44:49
musicatk/-2025-02-04 16:44:49
muscle/-2025-02-04 16:44:49
muscat/-2025-02-04 16:44:49
mumosa/-2025-02-04 16:44:49
multtest/-2025-02-04 16:44:49
multistateQTL/-2025-02-04 16:44:49
multiscan/-2025-02-04 16:44:49
multicrispr/-2025-02-04 16:44:48
multiWGCNA/-2025-02-04 16:44:49
multiMiR/-2025-02-04 16:44:49
multiHiCcompare/-2025-02-04 16:44:49
multiGSEA/-2025-02-04 16:44:49
multiClust/-2025-02-04 16:44:48
msqrob2/-2025-02-04 16:44:48
mspms/-2025-02-04 16:44:48
msmsTests/-2025-02-04 16:44:48
msmsEDA/-2025-02-04 16:44:47
mslp/-2025-02-04 16:44:47
msgbsR/-2025-02-04 16:44:47
msa/-2025-02-04 16:44:47
msPurity/-2025-02-04 16:44:48
msImpute/-2025-02-04 16:44:47
mpra/-2025-02-04 16:44:47
motifmatchr/-2025-02-04 16:44:46
motifcounter/-2025-02-04 16:44:46
motifbreakR/-2025-02-04 16:44:46
motifTestR/-2025-02-04 16:44:47
motifStack/-2025-02-04 16:44:47
mosdef/-2025-02-04 16:44:46
mosbi/-2025-02-04 16:44:46
mosaics/-2025-02-04 16:44:46
monocle/-2025-02-04 16:44:46
monaLisa/-2025-02-04 16:44:46
mogsa/-2025-02-04 16:44:46
mobileRNA/-2025-02-04 16:44:46
moanin/-2025-02-04 16:44:46
mnem/-2025-02-04 16:44:46
mixOmics/-2025-02-04 16:44:45
mitoClone2/-2025-02-04 16:44:45
mitch/-2025-02-04 16:44:45
mistyR/-2025-02-04 16:44:45
mist/-2025-02-04 16:44:45
missRows/-2025-02-04 16:44:45
missMethyl/-2025-02-04 16:44:45
mirTarRnaSeq/-2025-02-04 16:44:45
mirIntegrator/-2025-02-04 16:44:45
minfi/-2025-02-04 16:44:45
minet/-2025-02-04 16:44:44
mina/-2025-02-04 16:44:44
mimager/-2025-02-04 16:44:44
miloR/-2025-02-04 16:44:44
midasHLA/-2025-02-04 16:44:44
microbiomeMarker/-2024-10-24 15:04:41
microbiomeExplorer/-2025-02-04 16:44:44
microbiomeDASim/-2025-02-04 16:44:44
microbiome/-2025-02-04 16:44:44
microSTASIS/-2025-02-04 16:44:44
microRNA/-2025-02-04 16:44:44
miaViz/-2025-02-04 16:44:44
miaSim/-2025-02-04 16:44:44
mia/-2025-02-04 16:44:44
miRspongeR/-2025-02-04 16:44:45
miRcomp/-2025-02-04 16:44:45
miRSM/-2025-02-04 16:44:45
miRNAtap/-2025-02-04 16:44:45
miRNApath/-2025-02-04 16:44:45
miRNAmeConverter/-2025-02-04 16:44:45
miRLAB/-2025-02-04 16:44:45
miRBaseConverter/-2025-02-04 16:44:45
miQC/-2025-02-04 16:44:45
mgsa/-2025-02-04 16:44:44
mfa/-2025-02-04 16:44:44
methylumi/-2025-02-04 16:44:43
methylscaper/-2025-02-04 16:44:43
methylclock/-2025-02-04 16:44:43
methylSig/-2025-02-04 16:44:43
methylPipe/-2025-02-04 16:44:43
methylMnM/-2025-02-04 16:44:43
methylKit/-2025-02-04 16:44:43
methylInheritance/-2025-02-04 16:44:43
methylGSA/-2025-02-04 16:44:43
methylCC/-2025-02-04 16:44:43
methyLImp2/-2025-02-04 16:44:43
methrix/-2025-02-04 16:44:43
methodical/-2025-02-04 16:44:43
methimpute/-2025-02-04 16:44:43
methInheritSim/-2025-02-04 16:44:43
metaseqR2/-2025-02-04 16:44:43
metapone/-2025-02-04 16:44:43
metapod/-2025-02-04 16:44:43
metahdep/-2025-02-04 16:44:42
metagenomeSeq/-2025-02-04 16:44:42
metagene2/-2025-02-04 16:44:42
metabomxtr/-2025-02-04 16:44:42
metabolomicsWorkbenchR/-2025-02-04 16:44:42
metabinR/-2025-02-04 16:44:42
metabCombiner/-2025-02-04 16:44:42
metaSeq/-2025-02-04 16:44:43
metaMS/-2025-02-04 16:44:42
metaCCA/-2025-02-04 16:44:42
messina/-2025-02-04 16:44:42
meshr/-2025-02-04 16:44:42
meshes/-2025-02-04 16:44:42
memes/-2025-02-04 16:44:42
megadepth/-2025-02-04 16:44:42
mdqc/-2025-02-04 16:44:39
mdp/-2025-02-04 16:44:39
mbkmeans/-2025-02-04 16:44:38
mbQTL/-2025-02-04 16:44:39
matter/-2025-02-04 16:44:38
matchBox/-2025-02-04 16:44:38
mastR/-2025-02-04 16:44:38
massiR/-2025-02-04 16:44:38
maskBAD/-2025-02-04 16:44:38
maser/-2025-02-04 16:44:38
martini/-2025-02-04 16:44:38
marray/-2025-02-04 16:44:38
marr/-2025-02-04 16:44:38
mariner/-2025-02-04 16:44:38
mapscape/-2025-02-04 16:44:38
makecdfenv/-2025-02-04 16:44:37
magrene/-2025-02-04 16:44:37
magpie/-2025-02-04 16:44:37
maftools/-2025-02-04 16:44:37
made4/-2025-02-04 16:44:37
maaslin3/-2025-02-04 16:44:37
maSigPro/-2025-02-04 16:44:38
maPredictDSC/-2025-02-04 16:44:37
maCorrPlot/-2025-02-04 16:44:37
mCSEA/-2025-02-04 16:44:39
mBPCR/-2025-02-04 16:44:38
m6Aboost/-2025-02-04 16:44:37
lute/-2025-02-04 16:44:37
lumi/-2025-02-04 16:44:37
lpsymphony/-2025-02-04 16:44:36
lpNet/-2025-02-04 16:44:36
logicFS/-2025-02-04 16:44:36
loci2path/-2025-02-04 16:44:36
lmdme/-2025-02-04 16:44:36
lisaClust/-2025-02-04 16:44:36
lipidr/-2025-02-04 16:44:36
lionessR/-2025-02-04 16:44:36
lineagespot/-2025-02-04 16:44:36
limpca/-2025-02-04 16:44:36
limmaGUI/-2025-02-04 16:44:36
limma/-2025-02-04 16:44:36
lfa/-2025-02-04 16:44:36
levi/-2025-02-04 16:44:36
les/-2025-02-04 16:44:36
lemur/-2025-02-04 16:44:36
lefser/-2025-02-04 16:44:36
ldblock/-2025-02-04 16:44:35
lapmix/-2025-02-04 16:44:35
koinar/-2025-02-04 16:44:35
knowYourCG/-2025-02-04 16:44:35
kmcut/-2025-02-04 16:44:35
kissDE/-2025-02-04 16:44:35
keggorthology/-2025-02-04 16:44:35
kebabs/-2025-02-04 16:44:35
katdetectr/-2025-02-04 16:44:35
karyoploteR/-2025-02-04 16:44:35
ivygapSE/-2025-02-04 16:44:35
iterativeBMAsurv/-2025-02-04 16:44:35
iterativeBMA/-2025-02-04 16:44:35
isomiRs/-2025-02-04 16:44:35
isobar/-2025-02-04 16:44:34
ipdDb/-2025-02-04 16:44:34
interactiveDisplayBase/-2025-02-04 16:44:34
interactiveDisplay/-2025-02-04 16:44:34
interacCircos/-2025-02-04 16:44:33
intansv/-2025-02-04 16:44:33
infinityFlow/-2025-02-04 16:44:33
infercnv/-2025-02-04 16:44:33
impute/-2025-02-04 16:44:33
immunotation/-2025-02-04 16:44:33
immunogenViewer/-2025-02-04 16:44:33
immunoClust/-2025-02-04 16:44:33
immApex/-2025-02-04 16:44:33
imcRtools/-2025-02-04 16:44:33
illuminaio/-2025-02-04 16:44:33
igvShiny/-2025-02-04 16:44:33
igvR/-2025-02-04 16:44:32
idr2d/-2025-02-04 16:44:32
idpr/-2025-02-04 16:44:32
idiogram/-2025-02-04 16:44:32
ideal/-2025-02-04 16:44:32
icetea/-2025-02-04 16:44:32
ibh/-2025-02-04 16:44:32
iasva/-2025-02-04 16:44:32
iSeq/-2025-02-04 16:44:34
iSEEu/-2025-02-04 16:44:34
iSEEtree/-2025-02-04 16:44:34
iSEEpathways/-2025-02-04 16:44:34
iSEEindex/-2025-02-04 16:44:34
iSEEhub/-2025-02-04 16:44:34
iSEEhex/-2025-02-04 16:44:34
iSEEfier/-2025-02-04 16:44:34
iSEEde/-2025-02-04 16:44:34
iSEE/-2025-02-04 16:44:34
iPath/-2025-02-04 16:44:34
iPAC/-2025-02-04 16:44:34
iNETgrate/-2025-02-04 16:44:33
iGC/-2025-02-04 16:44:32
iClusterPlus/-2025-02-04 16:44:32
iChip/-2025-02-04 16:44:32
iCheck/-2025-02-04 16:44:32
iCOBRA/-2025-02-04 16:44:32
iCNV/-2025-02-04 16:44:32
iCARE/-2025-02-04 16:44:32
iBMQ/-2025-02-04 16:41:27
iBBiG/-2025-02-04 16:44:32
iASeq/-2025-02-04 16:44:32
hypergraph/-2025-02-04 16:44:32
hyperdraw/-2025-02-04 16:44:32
hypeR/-2025-02-04 16:44:32
hummingbird/-2025-02-04 16:44:31
hpar/-2025-02-04 16:44:31
hopach/-2025-02-04 16:44:31
hoodscanR/-2025-02-04 16:44:31
hmdbQuery/-2025-02-04 16:44:31
hipathia/-2025-02-04 16:44:31
hierinf/-2025-02-04 16:44:31
hierGWAS/-2025-02-04 16:44:31
hicVennDiagram/-2025-02-04 16:44:31
hiReadsProcessor/-2025-02-04 16:44:31
hiAnnotator/-2025-02-04 16:44:30
hermes/-2025-02-04 16:44:30
heatmaps/-2025-02-04 16:44:30
hdxmsqc/-2025-02-04 16:44:30
hca/-2025-02-04 16:44:30
hapFabia/-2025-02-04 16:44:30
h5vc/-2025-02-04 16:44:30
h5mread/-2025-02-04 16:44:30
gypsum/-2025-02-04 16:44:30
gwasurvivr/-2025-02-04 16:44:29
gwascat/-2025-02-04 16:44:29
gtrellis/-2025-02-04 16:44:29
gsean/-2025-02-04 16:44:29
gscreend/-2025-02-04 16:44:29
groHMM/-2025-02-04 16:44:29
graphite/-2025-02-04 16:44:29
graph/-2025-02-04 16:44:28
graper/-2025-02-04 16:44:28
granulator/-2025-02-04 16:44:28
gpuMagic/-2025-02-04 16:44:28
gpls/-2025-02-04 16:44:28
goseq/-2025-02-04 16:44:28
goTools/-2025-02-04 16:44:28
goSorensen/-2025-02-04 16:44:28
goSTAG/-2025-02-04 16:44:28
goProfiles/-2025-02-04 16:44:28
gmoviz/-2025-02-04 16:44:28
gmapR/-2025-02-04 16:44:28
globaltest/-2025-02-04 16:44:27
globalSeq/-2025-02-04 16:44:27
glmSparseNet/-2025-02-04 16:44:27
glmGamPoi/-2025-02-04 16:44:27
girafe/-2025-02-04 16:44:27
ginmappeR/-2025-02-04 16:44:27
ggtreeSpace/-2025-02-04 16:44:27
ggtreeExtra/-2025-02-04 16:44:27
ggtreeDendro/-2025-02-04 16:44:27
ggtree/-2025-02-04 16:44:27
ggspavis/-2025-02-04 16:44:27
ggseqalign/-2025-02-04 16:44:27
ggsc/-2025-02-04 16:44:27
ggmsa/-2025-02-04 16:44:27
ggmanh/-2025-02-04 16:44:27
ggkegg/-2025-02-04 16:44:27
ggcyto/-2025-02-04 16:44:27
ggbio/-2025-02-04 16:44:27
gg4way/-2025-02-04 16:44:27
geyser/-2025-02-04 16:44:27
geva/-2025-02-04 16:44:26
getDEE2/-2025-02-04 16:44:26
gespeR/-2025-02-04 16:44:26
gep2pep/-2025-02-04 16:44:26
geomeTriD/-2025-02-04 16:44:26
genomicInstability/-2025-02-04 16:44:26
genomes/-2025-02-04 16:44:25
genomeIntervals/-2025-02-04 16:44:25
genomation/-2025-02-04 16:44:25
genoCN/-2025-02-04 16:44:25
geneplotter/-2025-02-04 16:44:25
geneplast/-2025-02-04 16:44:25
genefu/-2025-02-04 16:44:25
genefilter/-2025-02-04 16:44:25
geneXtendeR/-2025-02-04 16:44:25
geneRxCluster/-2025-02-04 16:44:25
geneRecommender/-2025-02-04 16:44:25
geneClassifiers/-2025-02-04 16:44:25
geneAttribution/-2025-02-04 16:44:24
genArise/-2025-02-04 16:44:24
gemma.R/-2025-02-04 16:44:24
gemini/-2025-02-04 16:44:24
geNetClassifier/-2025-02-04 16:44:25
gdsfmt/-2025-02-04 16:44:24
gcrma/-2025-02-04 16:44:24
gcatest/-2025-02-04 16:44:24
gcapc/-2025-02-04 16:44:24
gatom/-2025-02-04 16:44:24
garfield/-2025-02-04 16:44:24
gage/-2025-02-04 16:44:24
gaga/-2025-02-04 16:44:23
gINTomics/-2025-02-04 16:44:27
gDRutils/-2025-02-04 16:44:24
gDRstyle/-2025-02-04 16:44:24
gDRimport/-2025-02-04 16:44:24
gDRcore/-2025-02-04 16:44:24
gDR/-2025-02-04 16:44:24
gDNAx/-2025-02-04 16:44:24
gCrisprTools/-2025-02-04 16:44:24
funtooNorm/-2025-02-04 16:44:23
funOmics/-2025-02-04 16:44:23
frmaTools/-2025-02-04 16:44:23
frma/-2025-02-04 16:44:23
frenchFISH/-2025-02-04 16:44:23
fobitools/-2025-02-04 16:44:23
fmrs/-2025-02-04 16:44:23
fmcsR/-2025-02-04 16:44:23
flowcatchR/-2025-02-04 16:44:22
flowWorkspace/-2025-02-04 16:44:23
flowViz/-2025-02-04 16:44:23
flowVS/-2025-02-04 16:44:23
flowTrans/-2025-02-04 16:44:23
flowTime/-2025-02-04 16:44:23
flowStats/-2025-02-04 16:44:23
flowSpecs/-2025-02-04 16:44:23
flowPlots/-2025-02-04 16:44:23
flowPloidy/-2025-02-04 16:44:23
flowPeaks/-2025-02-04 16:44:23
flowMerge/-2025-02-04 16:44:23
flowMeans/-2025-02-04 16:44:23
flowMatch/-2025-02-04 16:44:23
flowGraph/-2025-02-04 16:44:23
flowGate/-2025-02-04 16:44:22
flowFP/-2025-02-04 16:44:22
flowDensity/-2025-02-04 16:44:22
flowCyBar/-2025-02-04 16:44:22
flowCut/-2025-02-04 16:44:22
flowCore/-2025-02-04 16:44:22
flowClust/-2025-02-04 16:44:22
flowClean/-2025-02-04 16:44:22
flowCHIC/-2025-02-04 16:44:22
flowBin/-2025-02-04 16:44:22
flowBeads/-2025-02-04 16:44:22
flowAI/-2025-02-04 16:44:22
flagme/-2025-02-04 16:44:22
fishpond/-2025-02-04 16:44:22
findIPs/-2025-02-04 16:44:22
fgsea/-2025-02-04 16:44:22
fgga/-2025-02-04 16:44:22
ffpe/-2025-02-04 16:44:22
fenr/-2025-02-04 16:44:22
fedup/-2025-02-04 16:44:22
fdrame/-2025-02-04 16:44:21
fcScan/-2025-02-04 16:44:21
fastseg/-2025-02-04 16:44:21
fastreeR/-2025-02-04 16:44:21
fastLiquidAssociation/-2025-02-04 16:44:21
famat/-2025-02-04 16:44:21
faers/-2025-02-04 16:44:21
factR/-2025-02-04 16:44:21
factDesign/-2025-02-04 16:44:21
fabia/-2025-02-04 16:44:21
fCI/-2025-02-04 16:44:21
fCCAC/-2025-02-04 16:44:21
extraChIPs/-2025-02-04 16:44:21
evaluomeR/-2025-02-04 16:44:21
eudysbiome/-2025-02-04 16:44:21
esetVis/-2025-02-04 16:44:21
escheR/-2025-02-04 16:44:20
escape/-2025-02-04 16:44:20
esATAC/-2025-02-04 16:44:20
erma/-2025-02-04 16:44:20
erccdashboard/-2025-02-04 16:44:20
epivizrStandalone/-2025-02-04 16:44:20
epivizrServer/-2025-02-04 16:44:20
epivizrData/-2025-02-04 16:44:20
epivizrChart/-2025-02-04 16:44:20
epivizr/-2025-02-04 16:44:20
epistasisGA/-2025-02-04 16:44:20
epistack/-2025-02-04 16:44:20
epiregulon.extra/-2025-02-04 16:44:20
epiregulon/-2025-02-04 16:44:20
epimutacions/-2025-02-04 16:44:20
epigraHMM/-2025-02-04 16:44:20
epigenomix/-2025-02-04 16:44:20
epidecodeR/-2025-02-04 16:44:20
epialleleR/-2025-02-04 16:44:20
epiNEM/-2025-02-04 16:44:20
ensembldb/-2025-02-04 16:44:20
enrichplot/-2025-02-04 16:44:20
enrichViewNet/-2025-02-04 16:44:20
enhancerHomologSearch/-2025-02-04 16:44:19
eisaR/-2025-02-04 16:44:19
eiR/-2025-02-04 16:44:19
eds/-2025-02-04 16:44:19
edgeR/-2025-02-04 16:44:19
edge/-2025-02-04 16:44:19
ecolitk/-2025-02-04 16:44:19
easyreporting/-2025-02-04 16:44:19
easylift/-2025-02-04 16:44:19
easyRNASeq/-2025-02-04 16:44:19
easier/-2025-02-04 16:44:19
dyebias/-2025-02-04 16:44:18
dupRadar/-2025-02-04 16:44:18
drugTargetInteractions/-2025-02-04 16:44:18
dreamlet/-2025-02-04 16:44:18
drawProteins/-2025-02-04 16:44:18
doubletrouble/-2025-02-04 16:44:18
doseR/-2025-02-04 16:44:18
doppelgangR/-2025-02-04 16:44:18
dominoSignal/-2025-02-04 16:44:18
dmrseq/-2025-02-04 16:44:18
dks/-2025-02-04 16:44:17
divergence/-2025-02-04 16:44:17
dittoSeq/-2025-02-04 16:44:17
distinct/-2025-02-04 16:44:17
discordant/-2025-02-04 16:44:17
dir.expiry/-2025-02-04 16:44:16
dinoR/-2025-02-04 16:44:16
diggit/-2025-02-04 16:44:16
diffuStats/-2025-02-04 16:44:16
diffcyt/-2025-02-04 16:44:16
diffcoexp/-2025-02-04 16:44:16
diffUTR/-2025-02-04 16:44:16
diffHic/-2025-02-04 16:44:16
diffGeneAnalysis/-2025-02-04 16:44:16
destiny/-2025-02-04 16:44:15
derfinderPlot/-2025-02-04 16:44:15
derfinderHelper/-2025-02-04 16:44:15
derfinder/-2025-02-04 16:44:15
densvis/-2025-02-04 16:44:15
demuxmix/-2025-02-04 16:44:15
demuxSNP/-2025-02-04 16:44:15
deltaGseg/-2025-02-04 16:44:15
deltaCaptureC/-2025-02-04 16:44:15
deepSNV/-2025-02-04 16:44:14
decoupleR/-2025-02-04 16:44:14
deconvR/-2025-02-04 16:44:14
decontam/-2025-02-04 16:44:14
decontX/-2025-02-04 16:44:14
decompTumor2Sig/-2025-02-04 16:44:14
debrowser/-2025-02-04 16:44:14
debCAM/-2025-02-04 16:44:14
dearseq/-2025-02-04 16:44:14
ddPCRclust/-2025-02-04 16:44:14
ddCt/-2025-02-04 16:44:14
dce/-2025-02-04 16:44:14
dcanr/-2025-02-04 16:44:14
dcGSA/-2025-02-04 16:44:14
dar/-2025-02-04 16:44:14
dagLogo/-2025-02-04 16:44:14
dada2/-2025-02-04 16:44:13
daMA/-2025-02-04 16:44:14
dStruct/-2025-02-04 16:44:18
cytoviewer/-2025-02-04 16:44:13
cytomapper/-2025-02-04 16:44:13
cytolib/-2025-02-04 16:44:13
cytofQC/-2025-02-04 16:44:13
cytoMEM/-2025-02-04 16:44:13
cytoKernel/-2025-02-04 16:44:13
cypress/-2025-02-04 16:44:13
cydar/-2025-02-04 16:44:13
cycle/-2025-02-04 16:44:13
cyanoFilter/-2025-02-04 16:44:13
customProDB/-2025-02-04 16:44:13
customCMPdb/-2025-02-04 16:44:13
cummeRbund/-2025-02-04 16:44:13
ctsGE/-2025-02-04 16:44:13
ctc/-2025-02-04 16:44:12
csdR/-2025-02-04 16:44:12
csaw/-2025-02-04 16:44:12
crossmeta/-2025-02-04 16:44:12
crlmm/-2025-02-04 16:44:12
crisprViz/-2025-02-04 16:44:12
crisprVerse/-2025-02-04 16:44:12
crisprShiny/-2025-02-04 16:44:12
crisprScore/-2025-02-04 16:44:12
crisprDesign/-2025-02-04 16:44:12
crisprBwa/-2025-02-04 16:44:12
crisprBowtie/-2025-02-04 16:44:12
crisprBase/-2025-02-04 16:44:12
cqn/-2025-02-04 16:44:12
cpvSNP/-2025-02-04 16:44:12
covRNA/-2025-02-04 16:44:12
covEB/-2025-02-04 16:44:12
countsimQC/-2025-02-04 16:44:12
cosmosR/-2025-02-04 16:44:12
cosmiq/-2025-02-04 16:44:12
coseq/-2025-02-04 16:44:11
corral/-2025-02-04 16:44:11
copa/-2025-02-04 16:44:11
convert/-2025-02-04 16:44:11
conumee/-2025-02-04 16:44:11
consensusSeekeR/-2025-02-04 16:44:11
consensusOV/-2025-02-04 16:44:11
consensusDE/-2025-02-04 16:44:11
consensus/-2025-02-04 16:44:11
consICA/-2025-02-04 16:44:11
condiments/-2025-02-04 16:44:11
concordexR/-2025-02-04 16:44:11
compcodeR/-2025-02-04 16:44:11
compSPOT/-2025-02-04 16:44:11
compEpiTools/-2025-02-04 16:44:11
combi/-2025-02-04 16:44:10
comapr/-2025-02-04 16:44:10
cola/-2025-02-04 16:44:10
cogeqc/-2025-02-04 16:44:10
cogena/-2025-02-04 16:44:10
codelink/-2025-02-04 16:44:10
coRdon/-2025-02-04 16:44:11
coMethDMR/-2025-02-04 16:44:11
coMET/-2025-02-04 16:44:11
coGPS/-2025-02-04 16:44:10
cnvGSA/-2025-02-04 16:44:10
cn.mops/-2025-02-04 16:44:10
cn.farms/-2025-02-04 16:44:10
cmapR/-2025-02-04 16:44:10
clustifyr/-2025-02-04 16:44:09
clusterStab/-2025-02-04 16:44:09
clusterSeq/-2025-02-04 16:44:09
clusterProfiler/-2025-02-04 16:44:09
clusterExperiment/-2025-02-04 16:44:09
clustComp/-2025-02-04 16:44:09
clstutils/-2025-02-04 16:44:09
clst/-2025-02-04 16:44:09
cliqueMS/-2025-02-04 16:44:09
clipper/-2025-02-04 16:44:09
clippda/-2025-02-04 16:44:09
cliProfiler/-2025-02-04 16:44:09
clevRvis/-2025-02-04 16:44:09
cleaver/-2025-02-04 16:44:09
cleanUpdTSeq/-2025-02-04 16:44:09
cisPath/-2025-02-04 16:44:09
circRNAprofiler/-2025-02-04 16:44:09
cicero/-2025-02-04 16:44:09
chromstaR/-2025-02-04 16:44:08
chromVAR/-2025-02-04 16:44:08
chromPlot/-2025-02-04 16:44:08
chromDraw/-2025-02-04 16:44:08
chopsticks/-2025-02-04 16:44:08
chipseq/-2025-02-04 16:44:08
chipenrich/-2025-02-04 16:44:08
chimeraviz/-2025-02-04 16:44:08
chihaya/-2025-02-04 16:44:08
chevreulShiny/-2025-02-04 16:44:08
chevreulProcess/-2025-02-04 16:44:08
chevreulPlot/-2025-02-04 16:44:08
cghMCR/-2025-02-04 16:44:08
cfdnakit/-2025-02-04 16:44:07
cfTools/-2025-02-04 16:44:07
cfDNAPro/-2025-02-04 16:44:07
censcyt/-2025-02-04 16:44:07
cellxgenedp/-2025-02-04 16:44:07
cellscape/-2025-02-04 16:44:07
cellmigRation/-2025-02-04 16:44:07
cellity/-2025-02-04 16:44:07
cellbaseR/-2025-02-04 16:44:07
celda/-2025-02-04 16:44:06
celaref/-2025-02-04 16:44:06
ceRNAnetsim/-2025-02-04 16:44:07
ccrepe/-2025-02-04 16:44:06
ccmap/-2025-02-04 16:44:06
ccfindR/-2025-02-04 16:44:06
ccImpute/-2025-02-04 16:44:06
cbpManager/-2025-02-04 16:44:06
cbaf/-2025-02-04 16:44:06
categoryCompare/-2025-02-04 16:44:06
casper/-2025-02-04 16:44:06
cardelino/-2025-02-04 16:44:06
cancerclass/-2025-02-04 16:44:06
canceR/-2025-02-04 16:44:06
calm/-2025-02-04 16:44:06
cageminer/-2025-02-04 16:44:06
cTRAP/-2025-02-04 16:44:13
cBioPortalData/-2025-02-04 16:44:06
bumphunter/-2025-02-04 16:44:05
bugsigdbr/-2025-02-04 16:44:05
bsseq/-2025-02-04 16:44:05
broadSeq/-2025-02-04 16:44:05
brendaDb/-2025-02-04 16:44:05
breakpointR/-2025-02-04 16:44:05
branchpointer/-2025-02-04 16:44:05
brainflowprobes/-2024-10-24 15:04:38
borealis/-2025-02-04 16:44:05
bnem/-2025-02-04 16:44:04
bnbc/-2025-02-04 16:44:04
bluster/-2025-02-04 16:44:04
blima/-2025-02-04 16:44:04
blacksheepr/-2025-02-04 16:44:04
biscuiteer/-2025-02-04 16:44:04
biovizBase/-2025-02-04 16:44:04
biotmle/-2025-02-04 16:44:04
biosigner/-2025-02-04 16:44:04
biomvRCNS/-2025-02-04 16:44:04
biomformat/-2025-02-04 16:44:03
biomaRt/-2025-02-04 16:44:03
biodbUniprot/-2025-02-04 16:44:03
biodbNci/-2025-02-04 16:44:03
biodbNcbi/-2025-02-04 16:44:03
biodbKegg/-2024-10-24 15:04:38
biodbHmdb/-2025-02-04 16:44:03
biodbExpasy/-2024-10-24 15:04:38
biodbChebi/-2025-02-04 16:44:03
biodb/-2025-02-04 16:44:03
biocthis/-2025-02-04 16:44:03
biocroxytest/-2025-02-04 16:44:02
biocmake/-2025-02-04 16:44:02
biocViews/-2025-02-04 16:44:03
biocGraph/-2025-02-04 16:44:02
biobtreeR/-2025-02-04 16:42:28
biobroom/-2025-02-04 16:44:02
bioassayR/-2025-02-04 16:44:02
bioDist/-2025-02-04 16:44:03
bioCancer/-2025-02-04 16:44:02
bigmelon/-2025-02-04 16:44:02
bgx/-2025-02-04 16:44:02
bettr/-2025-02-04 16:44:01
betaHMM/-2025-02-04 16:44:01
benchdamic/-2025-02-04 16:44:01
beer/-2025-02-04 16:44:01
beadarray/-2025-02-04 16:44:01
beachmat.tiledb/-2025-02-04 16:44:01
beachmat.hdf5/-2025-02-04 16:44:01
beachmat/-2025-02-04 16:44:01
bcSeq/-2025-02-04 16:44:01
baySeq/-2025-02-04 16:44:01
bayNorm/-2025-02-04 16:44:01
batchelor/-2025-02-04 16:44:01
basilisk.utils/-2025-02-04 16:44:01
basilisk/-2025-02-04 16:44:01
basecallQC/-2025-02-04 16:44:00
barcodetrackR/-2025-02-04 16:44:00
banocc/-2025-02-04 16:44:00
bandle/-2025-02-04 16:44:00
bamsignals/-2025-02-04 16:44:00
bambu/-2025-02-04 16:44:00
ballgown/-2025-02-04 16:44:00
bacon/-2025-02-04 16:44:00
awst/-2025-02-04 16:44:00
autonomics/-2025-02-04 16:44:00
attract/-2025-02-04 16:44:00
atena/-2025-02-04 16:44:00
atSNP/-2025-02-04 16:44:00
assorthead/-2025-02-04 16:44:00
artMS/-2025-02-04 16:43:59
arrayQualityMetrics/-2025-02-04 16:43:59
arrayQuality/-2025-02-04 16:43:59
arrayMvout/-2025-02-04 16:43:59
aroma.light/-2025-02-04 16:43:59
appreci8R/-2025-02-04 16:43:59
apeglm/-2025-02-04 16:43:59
apComplex/-2025-02-04 16:43:59
antiProfiles/-2025-02-04 16:43:59
anota2seq/-2025-02-04 16:43:59
anota/-2025-02-04 16:43:59
annotatr/-2025-02-04 16:43:59
annotationTools/-2025-02-04 16:43:59
annotate/-2025-02-04 16:43:59
annmap/-2025-02-04 16:43:58
annaffy/-2025-02-04 16:43:58
animalcules/-2025-02-04 16:43:58
amplican/-2025-02-04 16:43:58
altcdfenvs/-2025-02-04 16:43:58
alevinQC/-2025-02-04 16:43:58
alabaster.vcf/-2025-02-04 16:43:58
alabaster.string/-2025-02-04 16:43:58
alabaster.spatial/-2025-02-04 16:43:58
alabaster.se/-2025-02-04 16:43:58
alabaster.schemas/-2025-02-04 16:43:58
alabaster.sce/-2025-02-04 16:43:58
alabaster.ranges/-2025-02-04 16:43:58
alabaster.matrix/-2025-02-04 16:43:58
alabaster.mae/-2025-02-04 16:43:58
alabaster.files/-2025-02-04 16:43:58
alabaster.bumpy/-2025-02-04 16:43:58
alabaster.base/-2025-02-04 16:43:58
alabaster/-2025-02-04 16:43:58
airpart/-2025-02-04 16:43:58
agilp/-2025-02-04 16:43:57
aggregateBioVar/-2025-02-04 16:43:57
affylmGUI/-2025-02-04 16:43:57
affyio/-2025-02-04 16:43:57
affycoretools/-2025-02-04 16:43:57
affycomp/-2025-02-04 16:43:56
affyPLM/-2025-02-04 16:43:57
affyILM/-2025-02-04 16:43:57
affyContam/-2025-02-04 16:43:56
affy/-2025-02-04 16:43:56
affxparser/-2025-02-04 16:43:56
adverSCarial/-2025-02-04 16:43:56
adductomicsR/-2025-02-04 16:43:56
adSplit/-2025-02-04 16:43:56
acde/-2025-02-04 16:43:55
abseqR/-2025-02-04 16:43:55
aCGH/-2025-02-04 16:43:56
a4Reporting/-2025-02-04 16:43:55
a4Preproc/-2025-02-04 16:43:55
a4Core/-2025-02-04 16:43:55
a4Classif/-2025-02-04 16:43:55
a4Base/-2025-02-04 16:43:55
a4/-2025-02-04 16:43:55
ZygosityPredictor/-2025-02-04 16:45:26
YAPSA/-2025-02-04 16:45:26
Xeva/-2025-02-04 16:45:25
XVector/-2025-02-04 16:45:26
XNAString/-2025-02-04 16:45:26
XINA/-2025-02-04 16:45:25
XDE/-2025-02-04 16:45:25
Wrench/-2025-02-04 16:45:25
VplotR/-2025-02-04 16:45:25
Voyager/-2025-02-04 16:45:24
VisiumIO/-2025-02-04 16:45:24
ViSEAGO/-2025-02-04 16:45:24
VennDetail/-2025-02-04 16:45:24
VegaMC/-2025-02-04 16:45:24
VariantTools/-2025-02-04 16:45:24
VariantFiltering/-2025-02-04 16:45:24
VariantExperiment/-2025-02-04 16:45:24
VariantAnnotation/-2025-02-04 16:45:24
VarCon/-2025-02-04 16:45:24
VanillaICE/-2025-02-04 16:45:24
VaSP/-2025-02-04 16:45:24
VERSO/-2025-02-04 16:45:24
VDJdive/-2025-02-04 16:45:24
VCFArray/-2025-02-04 16:45:24
VAExprs/-2025-02-04 16:45:24
Uniquorn/-2025-02-04 16:45:23
UniProt.ws/-2025-02-04 16:45:23
Ularcirc/-2025-02-04 16:45:23
UPDhmm/-2025-02-04 16:45:23
UNDO/-2025-02-04 16:45:23
UMI4Cats/-2025-02-04 16:45:23
UCell/-2025-02-04 16:45:23
UCSC.utils/-2025-02-04 16:45:23
TypeInfo/-2025-02-04 16:45:23
TurboNorm/-2025-02-04 16:45:23
Trendy/-2025-02-04 16:45:22
TreeSummarizedExperiment/-2025-02-04 16:45:22
TreeAndLeaf/-2025-02-04 16:45:22
TransView/-2025-02-04 16:45:22
TrajectoryUtils/-2025-02-04 16:45:21
TrajectoryGeometry/-2025-02-04 16:45:21
TrIdent/-2025-02-04 16:45:22
ToxicoGx/-2025-02-04 16:45:21
TnT/-2025-02-04 16:45:21
TitanCNA/-2025-02-04 16:45:20
TissueEnrich/-2025-02-04 16:45:20
TileDBArray/-2025-02-04 16:45:20
TargetSearch/-2025-02-04 16:45:19
TargetScore/-2025-02-04 16:45:19
TargetDecoy/-2025-02-04 16:45:19
TVTB/-2025-02-04 16:45:23
TTMap/-2025-02-04 16:45:23
TSCAN/-2025-02-04 16:45:22
TSAR/-2025-02-04 16:45:22
TRONCO/-2025-02-04 16:45:22
TRESS/-2025-02-04 16:45:22
TREG/-2025-02-04 16:45:22
TPP2D/-2025-02-04 16:45:21
TPP/-2025-02-04 16:45:21
TOP/-2025-02-04 16:45:21
TOAST/-2025-02-04 16:45:21
TMixClust/-2025-02-04 16:45:20
TMSig/-2025-02-04 16:45:21
TIN/-2025-02-04 16:45:20
TFutils/-2025-02-04 16:45:20
TFHAZ/-2025-02-04 16:45:20
TFEA.ChIP/-2025-02-04 16:45:20
TFBSTools/-2025-02-04 16:45:19
TFARM/-2025-02-04 16:45:19
TEQC/-2025-02-04 16:45:19
TENxIO/-2025-02-04 16:45:19
TEKRABber/-2025-02-04 16:45:19
TDbasedUFEadv/-2025-02-04 16:45:19
TDbasedUFE/-2025-02-04 16:45:19
TCseq/-2025-02-04 16:45:19
TCGAutils/-2025-02-04 16:45:19
TCGAbiolinks/-2025-02-04 16:45:19
TCC/-2025-02-04 16:45:19
TBSignatureProfiler/-2025-02-04 16:45:19
TAPseq/-2025-02-04 16:45:19
TADCompare/-2025-02-04 16:45:19
SynMut/-2025-02-04 16:45:18
SynExtend/-2025-02-04 16:45:18
SwathXtend/-2025-02-04 16:45:18
SurfR/-2025-02-04 16:45:18
Summix/-2025-02-04 16:45:18
SummarizedExperiment/-2025-02-04 16:45:17
SummarizedBenchmark/-2024-10-24 15:04:43
SubCellBarCode/-2025-02-04 16:45:17
StructuralVariantAnnotation/-2025-02-04 16:45:17
Structstrings/-2025-02-04 16:45:17
Streamer/-2025-02-04 16:45:17
Statial/-2025-02-04 16:45:17
StabMap/-2025-02-04 16:45:17
SpotSweeper/-2025-02-04 16:45:16
SpotClean/-2025-02-04 16:45:16
SplineDV/-2025-02-04 16:45:16
SplicingGraphs/-2025-02-04 16:45:16
SplicingFactory/-2025-02-04 16:45:16
SpliceWiz/-2025-02-04 16:45:16
SpectralTAD/-2025-02-04 16:45:15
SpectraQL/-2025-02-04 16:45:15
Spectra/-2025-02-04 16:45:15
SpeCond/-2025-02-04 16:45:15
SpatialOmicsOverlay/-2025-02-04 16:45:15
SpatialFeatureExperiment/-2025-02-04 16:45:15
SpatialExperimentIO/-2025-02-04 16:45:15
SpatialExperiment/-2025-02-04 16:45:15
SpatialDecon/-2025-02-04 16:45:15
SpatialCPie/-2025-02-04 16:45:15
SparseSignatures/-2025-02-04 16:45:15
SparseArray/-2025-02-04 16:45:14
Spaniel/-2025-02-04 16:45:14
SpacePAC/-2025-02-04 16:45:14
SpaceMarkers/-2025-02-04 16:45:14
SpaNorm/-2025-02-04 16:45:14
SomaticSignatures/-2025-02-04 16:45:14
SingleR/-2025-02-04 16:45:13
SingleMoleculeFootprinting/-2025-02-04 16:45:13
SingleCellSignalR/-2025-02-04 16:45:13
SingleCellExperiment/-2025-02-04 16:45:13
SingleCellAlleleExperiment/-2025-02-04 16:45:13
SimFFPE/-2025-02-04 16:45:13
SimBu/-2025-02-04 16:45:12
SigsPack/-2025-02-04 16:45:12
SigFuge/-2025-02-04 16:45:12
SigCheck/-2025-02-04 16:45:12
SiPSiC/-2025-02-04 16:45:13
ShortRead/-2025-02-04 16:45:12
SharedObject/-2025-02-04 16:45:12
SeqVarTools/-2025-02-04 16:45:11
SeqSQC/-2025-02-04 16:45:11
SeqGate/-2025-02-04 16:45:11
SeqGSEA/-2025-02-04 16:45:11
SeqArray/-2025-02-04 16:45:11
SemDist/-2025-02-04 16:45:11
ScreenR/-2025-02-04 16:45:10
Sconify/-2025-02-04 16:45:09
ScaledMatrix/-2025-02-04 16:45:08
Scale4C/-2025-02-04 16:45:08
SamSPECTRAL/-2025-02-04 16:45:07
SWATH2stats/-2025-02-04 16:45:18
SVMDO/-2025-02-04 16:45:18
SUITOR/-2025-02-04 16:45:17
STdeconvolve/-2025-02-04 16:45:17
STRINGdb/-2025-02-04 16:45:17
STATegRa/-2025-02-04 16:45:17
SRAdb/-2025-02-04 16:45:16
SQLDataFrame/-2025-02-04 16:45:16
SPsimSeq/-2025-02-04 16:45:16
SPOTlight/-2025-02-04 16:45:16
SPONGE/-2025-02-04 16:45:16
SPLINTER/-2025-02-04 16:45:16
SPIAT/-2025-02-04 16:45:15
SPIA/-2025-02-04 16:45:15
SPEM/-2025-02-04 16:45:15
SOMNiBUS/-2025-02-04 16:45:14
SNPhood/-2025-02-04 16:45:14
SNPediaR/-2025-02-04 16:45:14
SNPRelate/-2025-02-04 16:45:14
SNAGEE/-2025-02-04 16:45:14
SMITE/-2025-02-04 16:45:14
SMAD/-2025-02-04 16:45:14
SLqPCR/-2025-02-04 16:45:13
SIMLR/-2025-02-04 16:45:13
SIMD/-2025-02-04 16:45:12
SIMAT/-2025-02-04 16:45:12
SIM/-2025-02-04 16:45:12
SICtools/-2025-02-04 16:45:12
SIAMCAT/-2025-02-04 16:45:12
SGSeq/-2025-02-04 16:45:12
SGCP/-2025-02-04 16:45:12
SEtools/-2025-02-04 16:45:11
SELEX/-2025-02-04 16:45:11
SDAMS/-2025-02-04 16:45:10
SCnorm/-2025-02-04 16:45:09
SCOPE/-2025-02-04 16:45:09
SCFA/-2025-02-04 16:45:09
SCBN/-2025-02-04 16:45:08
SCArray.sat/-2025-02-04 16:45:08
SCArray/-2025-02-04 16:45:08
SCANVIS/-2025-02-04 16:45:08
SCAN.UPC/-2025-02-04 16:45:08
SC3/-2025-02-04 16:45:08
SBMLR/-2025-02-04 16:45:08
SBGNview/-2025-02-04 16:45:08
SARC/-2025-02-04 16:45:08
SANTA/-2025-02-04 16:45:07
SAIGEgds/-2025-02-04 16:45:07
S4Vectors/-2025-02-04 16:45:07
S4Arrays/-2025-02-04 16:45:07
Rvisdiff/-2025-02-04 16:45:07
Rtreemix/-2025-02-04 16:45:07
Rtpca/-2025-02-04 16:45:07
Rsubread/-2025-02-04 16:45:06
Rsamtools/-2025-02-04 16:45:06
Rqc/-2025-02-04 16:45:06
RolDE/-2025-02-04 16:45:05
Rnits/-2025-02-04 16:45:05
RnaSeqSampleSize/-2025-02-04 16:45:05
RnBeads/-2025-02-04 16:45:05
Rmmquant/-2025-02-04 16:45:05
Rmagpie/-2025-02-04 16:45:05
Risa/-2024-10-24 15:04:43
RiboProfiling/-2025-02-04 16:45:04
RiboDiPA/-2025-02-04 16:45:04
RiboCrypt/-2025-02-04 16:45:04
Rhtslib/-2025-02-04 16:45:04
Rhisat2/-2025-02-04 16:45:04
Rhdf5lib/-2025-02-04 16:45:04
Rgraphviz/-2025-02-04 16:45:04
RgnTX/-2025-02-04 16:45:03
Rfastp/-2025-02-04 16:45:03
ResidualMatrix/-2025-02-04 16:45:03
ReportingTools/-2025-02-04 16:45:03
Repitools/-2025-02-04 16:45:03
RepViz/-2025-02-04 16:45:03
RegionalST/-2025-02-04 16:45:03
RegEnrich/-2025-02-04 16:45:03
ReducedExperiment/-2025-02-04 16:45:03
RedisParam/-2025-02-04 16:45:03
RedeR/-2025-02-04 16:45:02
ReadqPCR/-2025-02-04 16:45:02
ReactomePA/-2025-02-04 16:45:02
ReactomeGraph4R/-2025-02-04 16:45:02
ReactomeGSA/-2025-02-04 16:45:02
ReactomeContentService4R/-2025-02-04 16:45:02
ReUseData/-2025-02-04 16:45:03
Rdisop/-2025-02-04 16:45:02
RcwlPipelines/-2025-02-04 16:45:02
Rcwl/-2025-02-04 16:45:02
Rcpi/-2025-02-04 16:45:02
Rcollectl/-2025-02-04 16:40:33
RcisTarget/-2025-02-04 16:45:02
Rbwa/-2025-02-04 16:45:01
Rbowtie2/-2025-02-04 16:45:01
Rbowtie/-2025-02-04 16:45:01
Rbec/-2025-02-04 16:45:01
RbcBook1/-2025-02-04 16:45:01
Rarr/-2025-02-04 16:45:01
RareVariantVis/-2025-02-04 16:45:01
RankProd/-2025-02-04 16:45:01
RandomWalkRestartMH/-2024-10-24 15:04:42
RaggedExperiment/-2025-02-04 16:45:00
RadioGx/-2025-02-04 16:45:00
RVS/-2025-02-04 16:45:07
RUVnormalize/-2025-02-04 16:45:07
RUVcorr/-2025-02-04 16:45:07
RUVSeq/-2025-02-04 16:45:07
RTopper/-2025-02-04 16:45:07
RTNsurvival/-2025-02-04 16:45:07
RTNduals/-2025-02-04 16:45:07
RTN/-2025-02-04 16:45:07
RTCGAToolbox/-2025-02-04 16:45:06
RTCGA/-2025-02-04 16:45:06
RTCA/-2025-02-04 16:45:06
RSeqAn/-2025-02-04 16:45:06
RSVSim/-2025-02-04 16:45:06
RRHO/-2025-02-04 16:45:06
RProtoBufLib/-2025-02-04 16:45:06
RPA/-2025-02-04 16:45:06
ROntoTools/-2025-02-04 16:45:06
ROTS/-2025-02-04 16:45:06
ROSeq/-2025-02-04 16:45:06
ROCpAI/-2025-02-04 16:45:05
ROC/-2025-02-04 16:45:05
RNAseqCovarImpute/-2025-02-04 16:45:05
RNAsense/-2025-02-04 16:45:05
RNAmodR.RiboMethSeq/-2025-02-04 16:45:05
RNAmodR.ML/-2025-02-04 16:45:05
RNAmodR.AlkAnilineSeq/-2025-02-04 16:45:05
RNAmodR/-2025-02-04 16:45:05
RNAinteract/-2024-10-24 15:04:43
RNAdecay/-2025-02-04 16:45:05
RNASeqPower/-2025-02-04 16:45:05
RNAAgeCalc/-2025-02-04 16:45:05
RMassBank/-2025-02-04 16:45:05
RLassoCox/-2025-02-04 16:45:05
RLMM/-2025-02-04 16:45:05
RJMCMCNucleosomes/-2025-02-04 16:45:04
RImmPort/-2025-02-04 16:45:04
RIVER/-2025-02-04 16:45:04
RITAN/-2025-02-04 16:45:04
RGraph2js/-2025-02-04 16:45:04
RGSEA/-2025-02-04 16:45:04
RGMQL/-2025-02-04 16:42:00
RESOLVE/-2025-02-04 16:45:03
REMP/-2025-02-04 16:45:03
REDseq/-2025-02-04 16:45:03
REBET/-2025-02-04 16:45:02
RDRToolbox/-2025-02-04 16:45:02
RCyjs/-2025-02-04 16:45:02
RCy3/-2025-02-04 16:45:02
RCX/-2025-02-04 16:45:02
RCSL/-2025-02-04 16:45:02
RCM/-2025-02-04 16:45:02
RCASPAR/-2025-02-04 16:45:01
RCAS/-2025-02-04 16:45:01
RBioinf/-2025-02-04 16:45:01
RBioFormats/-2025-02-04 16:45:01
RBM/-2025-02-04 16:45:01
RBGL/-2025-02-04 16:45:01
RAREsim/-2025-02-04 16:45:01
RAIDS/-2025-02-04 16:45:00
R4RNA/-2025-02-04 16:45:00
R453Plus1Toolbox/-2025-02-04 16:45:00
R3CPET/-2025-02-04 16:41:56
QuaternaryProd/-2025-02-04 16:45:00
QuasR/-2025-02-04 16:45:00
QuartPAC/-2025-02-04 16:45:00
Qtlizer/-2025-02-04 16:45:00
QUBIC/-2025-02-04 16:45:00
QTLExperiment/-2025-02-04 16:45:00
QSutils/-2025-02-04 16:45:00
QFeatures/-2025-02-04 16:44:59
QDNAseq/-2025-02-04 16:44:59
Pviz/-2025-02-04 16:44:59
PureCN/-2025-02-04 16:44:59
ProteoMM/-2025-02-04 16:44:59
ProteoDisco/-2025-02-04 16:44:59
ProtGenerics/-2025-02-04 16:44:59
Prostar/-2025-02-04 16:44:59
PrInCE/-2025-02-04 16:44:58
Polytect/-2025-02-04 16:44:58
PolySTest/-2025-02-04 16:44:58
PoDCall/-2025-02-04 16:44:57
Pirat/-2025-02-04 16:44:57
Pigengene/-2025-02-04 16:44:57
Pi/-2024-10-24 15:04:42
PhyloProfile/-2025-02-04 16:44:56
PhosR/-2025-02-04 16:44:56
PhenoGeneRanker/-2025-02-04 16:44:56
PhenStat/-2025-02-04 16:44:56
PharmacoGx/-2025-02-04 16:44:56
PhIPData/-2025-02-04 16:44:56
PepsNMR/-2025-02-04 16:44:56
PepSetTest/-2025-02-04 16:44:56
Pedixplorer/-2025-02-04 16:44:56
PeacoQC/-2025-02-04 16:44:55
PathoStat/-2025-02-04 16:44:55
PathNet/-2025-02-04 16:44:55
Path2PPI/-2025-02-04 16:44:55
PanomiR/-2025-02-04 16:44:55
PanViz/-2025-02-04 16:44:55
PWMEnrich/-2025-02-04 16:44:59
PSMatch/-2025-02-04 16:44:59
PROcess/-2025-02-04 16:44:58
PROPS/-2025-02-04 16:44:59
PROPER/-2025-02-04 16:44:59
PRONE/-2025-02-04 16:44:59
PROMISE/-2025-02-04 16:44:59
PREDA/-2025-02-04 16:44:58
PPInfer/-2025-02-04 16:44:58
POWSC/-2025-02-04 16:44:58
POMA/-2025-02-04 16:44:58
PLSDAbatch/-2025-02-04 16:44:57
PLPE/-2025-02-04 16:44:57
PIUMA/-2025-02-04 16:44:57
PIPETS/-2025-02-04 16:44:57
PING/-2025-02-04 16:44:57
PICS/-2025-02-04 16:44:57
PICB/-2025-02-04 16:44:57
PECA/-2025-02-04 16:44:55
PDATK/-2025-02-04 16:44:55
PCAtools/-2025-02-04 16:44:55
PCAN/-2025-02-04 16:44:55
PAST/-2025-02-04 16:44:55
PANR/-2025-02-04 16:44:55
PAIRADISE/-2025-02-04 16:44:54
PADOG/-2025-02-04 16:44:54
PAA/-2025-02-04 16:44:54
OutSplice/-2025-02-04 16:44:54
Oscope/-2025-02-04 16:44:54
OrganismDbi/-2025-02-04 16:44:54
Organism.dplyr/-2025-02-04 16:44:54
OrderedList/-2025-02-04 16:44:54
OpenStats/-2025-02-04 16:44:53
OncoSimulR/-2025-02-04 16:43:17
OncoScore/-2025-02-04 16:44:53
OmnipathR/-2025-02-04 16:44:53
Omixer/-2025-02-04 16:44:53
OmicsMLRepoR/-2025-02-04 16:44:53
OmicCircos/-2025-02-04 16:44:53
OmaDB/-2025-02-04 16:44:53
OVESEG/-2025-02-04 16:44:54
OUTRIDER/-2025-02-04 16:44:54
OTUbase/-2025-02-04 16:44:54
OSAT/-2025-02-04 16:44:54
ORFik/-2025-02-04 16:44:54
ORFhunteR/-2025-02-04 16:44:54
OPWeight/-2025-02-04 16:44:54
OMICsPCA/-2025-02-04 16:44:53
OLINgui/-2025-02-04 16:44:53
OLIN/-2025-02-04 16:44:53
OGRE/-2025-02-04 16:44:51
OCplus/-2025-02-04 16:44:51
NuPoP/-2025-02-04 16:44:51
NormqPCR/-2025-02-04 16:44:51
NormalyzerDE/-2025-02-04 16:44:51
NoRCE/-2025-02-04 16:44:51
NewWave/-2025-02-04 16:44:50
NeuCA/-2025-02-04 16:44:50
NetSAM/-2025-02-04 16:44:50
NetPathMiner/-2025-02-04 16:44:50
NetActivity/-2025-02-04 16:44:50
Nebulosa/-2025-02-04 16:44:50
NanoTube/-2025-02-04 16:44:50
NanoStringNCTools/-2025-02-04 16:44:50
NanoStringDiff/-2025-02-04 16:44:49
NanoMethViz/-2025-02-04 16:44:49
NTW/-2025-02-04 16:44:51
NPARC/-2025-02-04 16:44:51
NOISeq/-2025-02-04 16:44:51
NCIgraph/-2025-02-04 16:40:24
NBAMSeq/-2025-02-04 16:44:50
NADfinder/-2025-02-04 16:44:49
MutationalPatterns/-2025-02-04 16:44:49
MungeSumstats/-2025-02-04 16:44:49
MultimodalExperiment/-2025-02-04 16:44:49
MultiRNAflow/-2025-02-04 16:44:49
MultiMed/-2025-02-04 16:44:49
MultiDataSet/-2025-02-04 16:44:48
MultiBaC/-2025-02-04 16:44:48
MultiAssayExperiment/-2025-02-04 16:44:48
Mulcom/-2025-02-04 16:44:48
MuData/-2025-02-04 16:44:48
MsQuality/-2025-02-04 16:44:48
MsFeatures/-2025-02-04 16:44:47
MsExperiment/-2025-02-04 16:44:47
MsDataHub/-2025-02-04 16:44:47
MsCoreUtils/-2025-02-04 16:44:47
MsBackendSql/-2025-02-04 16:44:47
MsBackendRawFileReader/-2025-02-04 16:44:47
MsBackendMsp/-2025-02-04 16:44:47
MsBackendMgf/-2025-02-04 16:44:47
MsBackendMetaboLights/-2025-02-04 16:44:47
MsBackendMassbank/-2025-02-04 16:44:47
MouseFM/-2025-02-04 16:44:47
MotifPeeker/-2025-02-04 16:44:47
MotifDb/-2025-02-04 16:44:46
Motif2Site/-2025-02-04 16:44:46
MoonlightR/-2025-02-04 16:44:46
Moonlight2R/-2025-02-04 16:44:46
MoleculeExperiment/-2025-02-04 16:44:46
Modstrings/-2025-02-04 16:44:46
ModCon/-2025-02-04 16:44:46
MinimumDistance/-2025-02-04 16:44:45
MineICA/-2025-02-04 16:44:44
MicrobiotaProcess/-2025-02-04 16:44:44
MicrobiomeProfiler/-2025-02-04 16:44:44
MiRaGE/-2025-02-04 16:44:45
MiPP/-2025-02-04 16:44:45
MiChip/-2025-02-04 16:44:44
Mfuzz/-2025-02-04 16:44:44
MethylSeekR/-2025-02-04 16:44:43
MethylMix/-2025-02-04 16:44:43
MethylAid/-2025-02-04 16:44:43
MethTargetedNGS/-2025-02-04 16:44:43
MethReg/-2025-02-04 16:44:43
MethPed/-2025-02-04 16:44:43
MetaboSignal/-2025-02-04 16:44:42
MetaboDynamics/-2025-02-04 16:44:42
MetaboCoreUtils/-2025-02-04 16:44:42
MetaboAnnotation/-2025-02-04 16:44:42
MetaPhOR/-2025-02-04 16:44:42
MetaNeighbor/-2025-02-04 16:44:42
MetaCyto/-2025-02-04 16:44:42
MetNet/-2025-02-04 16:44:44
MetMashR/-2025-02-04 16:44:43
MetID/-2025-02-04 16:44:43
MetCirc/-2025-02-04 16:44:43
MesKit/-2025-02-04 16:44:42
Mergeomics/-2025-02-04 16:44:42
Melissa/-2025-02-04 16:44:42
MeasurementError.cor/-2025-02-04 16:44:41
MeSHDbi/-2025-02-04 16:44:42
MatrixRider/-2025-02-04 16:44:38
MatrixQCvis/-2025-02-04 16:44:38
MatrixGenerics/-2025-02-04 16:44:38
MassSpecWavelet/-2025-02-04 16:44:38
MassArray/-2025-02-04 16:44:38
MantelCorr/-2025-02-04 16:44:37
Macarron/-2025-02-04 16:44:37
Maaslin2/-2025-02-04 16:44:37
MWASTools/-2025-02-04 16:44:49
MVCClass/-2025-02-04 16:44:49
MSstatsTMT/-2025-02-04 16:44:48
MSstatsShiny/-2025-02-04 16:44:48
MSstatsQCgui/-2025-02-04 16:44:48
MSstatsQC/-2025-02-04 16:44:48
MSstatsPTM/-2025-02-04 16:44:48
MSstatsLiP/-2025-02-04 16:44:48
MSstatsLOBD/-2025-02-04 16:44:48
MSstatsConvert/-2025-02-04 16:44:48
MSstatsBig/-2025-02-04 16:44:48
MSstats/-2025-02-04 16:44:48
MSnbase/-2025-02-04 16:44:48
MSnID/-2025-02-04 16:44:48
MSPrep/-2025-02-04 16:44:48
MSA2dist/-2025-02-04 16:44:47
MQmetrics/-2024-10-24 15:04:41
MPRAnalyze/-2025-02-04 16:44:47
MPFE/-2025-02-04 16:44:47
MPAC/-2025-02-04 16:44:47
MOSim/-2025-02-04 16:44:46
MOSClip/-2025-02-04 16:44:46
MOMA/-2025-02-04 16:44:46
MOGAMUN/-2025-02-04 16:44:46
MOFA2/-2025-02-04 16:44:46
MODA/-2025-02-04 16:44:46
MMUPHin/-2025-02-04 16:44:46
MMDiff2/-2025-02-04 16:44:45
MLSeq/-2025-02-04 16:44:45
MLP/-2025-02-04 16:44:45
MLInterfaces/-2025-02-04 16:44:45
MIRit/-2025-02-04 16:44:45
MIRA/-2025-02-04 16:44:45
MICSQTL/-2025-02-04 16:44:44
MGnifyR/-2025-02-04 16:44:44
MGFR/-2025-02-04 16:44:44
MGFM/-2025-02-04 16:44:44
MEIGOR/-2025-02-04 16:44:42
MEDME/-2025-02-04 16:44:42
MEDIPS/-2025-02-04 16:44:41
MEB/-2025-02-04 16:44:41
MEAT/-2025-02-04 16:44:41
MEAL/-2025-02-04 16:44:39
MDTS/-2025-02-04 16:44:39
MCbiclust/-2025-02-04 16:44:39
MBttest/-2025-02-04 16:44:39
MBQN/-2025-02-04 16:44:39
MBECS/-2025-02-04 16:44:38
MBCB/-2025-02-04 16:44:38
MBAmethyl/-2025-02-04 16:44:38
MBASED/-2025-02-04 16:44:38
MAST/-2025-02-04 16:44:38
MAPFX/-2025-02-04 16:44:37
MANOR/-2025-02-04 16:44:37
MAIT/-2025-02-04 16:44:37
MAI/-2025-02-04 16:44:37
MAGeCKFlute/-2025-02-04 16:44:37
MAGAR/-2025-02-04 16:44:37
MADSEQ/-2025-02-04 16:44:37
MACSr/-2025-02-04 16:44:37
MACSQuantifyR/-2025-02-04 16:44:37
M3Drop/-2025-02-04 16:44:37
M3C/-2025-02-04 16:44:37
LymphoSeq/-2025-02-04 16:44:37
LoomExperiment/-2025-02-04 16:44:36
LiquidAssociation/-2025-02-04 16:44:36
Linnorm/-2025-02-04 16:44:36
LinkHD/-2025-02-04 16:44:36
LinTInd/-2025-02-04 16:44:36
LimROTS/-2025-02-04 16:44:36
LedPred/-2025-02-04 16:44:36
LRcell/-2025-02-04 16:44:37
LRBaseDbi/-2025-02-04 16:44:37
LPE/-2025-02-04 16:44:36
LOLA/-2025-02-04 16:44:36
LOBSTAHS/-2025-02-04 16:44:36
LEA/-2025-02-04 16:44:36
LBE/-2025-02-04 16:44:35
LACE/-2025-02-04 16:44:35
KnowSeq/-2025-02-04 16:44:35
KinSwingR/-2025-02-04 16:44:35
KEGGlincs/-2025-02-04 16:44:35
KEGGgraph/-2025-02-04 16:44:35
KEGGREST/-2025-02-04 16:44:35
KCsmart/-2025-02-04 16:44:35
KBoost/-2025-02-04 16:44:35
IsoformSwitchAnalyzeR/-2025-02-04 16:44:35
IsoCorrectoRGUI/-2025-02-04 16:44:34
IsoCorrectoR/-2025-02-04 16:44:34
IsoBayes/-2025-02-04 16:44:34
IntramiRExploreR/-2025-02-04 16:44:34
InteractiveComplexHeatmap/-2025-02-04 16:44:33
InteractionSet/-2025-02-04 16:44:33
InterCellar/-2025-02-04 16:44:34
IntEREst/-2025-02-04 16:44:34
Informeasure/-2025-02-04 16:44:33
InTAD/-2025-02-04 16:44:33
InPAS/-2025-02-04 16:44:33
IgGeneUsage/-2025-02-04 16:44:32
IdeoViz/-2025-02-04 16:44:32
Icens/-2025-02-04 16:44:32
IWTomics/-2025-02-04 16:44:35
IVAS/-2025-02-04 16:44:35
ITALICS/-2025-02-04 16:44:35
ISoLDE/-2025-02-04 16:44:35
ISLET/-2025-02-04 16:44:34
ISAnalytics/-2025-02-04 16:44:34
IRanges/-2025-02-04 16:44:34
IPO/-2025-02-04 16:44:34
IONiseR/-2025-02-04 16:44:34
INTACT/-2025-02-04 16:44:33
INSPEcT/-2025-02-04 16:44:33
INPower/-2025-02-04 16:44:33
INDEED/-2025-02-04 16:44:33
IMPCdata/-2025-02-04 16:44:33
IMMAN/-2025-02-04 16:44:33
IMAS/-2025-02-04 16:44:33
ILoReg/-2025-02-04 16:44:33
IHW/-2025-02-04 16:44:33
IFAA/-2025-02-04 16:44:32
HybridMTest/-2025-02-04 16:44:31
HybridExpress/-2025-02-04 16:44:31
HubPub/-2025-02-04 16:44:31
HuBMAPR/-2025-02-04 16:44:31
HoloFoodR/-2025-02-04 16:44:31
HilbertVisGUI/-2025-02-04 16:40:11
HilbertVis/-2025-02-04 16:44:31
HilbertCurve/-2025-02-04 16:44:31
HicAggR/-2025-02-04 16:44:30
HiTC/-2025-02-04 16:44:31
HiLDA/-2025-02-04 16:44:31
HiCool/-2025-02-04 16:44:31
HiContacts/-2025-02-04 16:44:31
HiCcompare/-2025-02-04 16:44:30
HiCExperiment/-2025-02-04 16:44:31
HiCDOC/-2025-02-04 16:44:31
HiCDCPlus/-2025-02-04 16:44:30
HiCBricks/-2025-02-04 16:44:30
Herper/-2025-02-04 16:44:30
HelloRanges/-2025-02-04 16:44:30
Heatplus/-2025-02-04 16:44:30
Harshlight/-2025-02-04 16:44:30
HarmonizR/-2025-02-04 16:44:30
Harman/-2025-02-04 16:44:30
HTqPCR/-2024-10-24 15:04:40
HTSeqGenie/-2025-02-04 16:40:11
HTSFilter/-2025-02-04 16:44:31
HPiP/-2025-02-04 16:44:31
HPAanalyze/-2025-02-04 16:44:31
HMMcopy/-2025-02-04 16:44:31
HIREewas/-2025-02-04 16:44:31
HIPPO/-2025-02-04 16:44:31
HIBAG/-2025-02-04 16:44:30
HGC/-2025-02-04 16:44:30
HERON/-2025-02-04 16:44:30
HEM/-2025-02-04 16:44:30
HELP/-2025-02-04 16:44:30
HDTD/-2025-02-04 16:44:30
HDF5Array/-2025-02-04 16:44:30
Gviz/-2025-02-04 16:44:29
Guitar/-2025-02-04 16:44:29
GreyListChIP/-2025-02-04 16:44:29
GraphPAC/-2025-02-04 16:44:29
GraphAlignment/-2025-02-04 16:44:28
GraphAT/-2025-02-04 16:44:29
GrafGen/-2025-02-04 16:44:28
GmicR/-2025-02-04 16:44:28
GlobalAncova/-2025-02-04 16:44:27
GloScope/-2025-02-04 16:44:27
Glimma/-2025-02-04 16:44:27
GladiaTOX/-2025-02-04 16:44:27
GeomxTools/-2025-02-04 16:44:26
GeoTcgaData/-2025-02-04 16:44:26
GeoDiff/-2025-02-04 16:44:26
GenomicTuples/-2025-02-04 16:44:26
GenomicSuperSignature/-2025-02-04 16:44:26
GenomicScores/-2025-02-04 16:44:26
GenomicRanges/-2025-02-04 16:44:26
GenomicPlot/-2025-02-04 16:44:26
GenomicOZone/-2025-02-04 16:44:26
GenomicInteractions/-2025-02-04 16:44:26
GenomicInteractionNodes/-2025-02-04 16:44:26
GenomicFiles/-2025-02-04 16:44:26
GenomicFeatures/-2025-02-04 16:44:26
GenomicDistributions/-2025-02-04 16:44:26
GenomicDataCommons/-2025-02-04 16:44:26
GenomicAlignments/-2025-02-04 16:44:26
GenomeInfoDb/-2025-02-04 16:44:25
GenomAutomorphism/-2025-02-04 16:44:25
GeneticsPed/-2025-02-04 16:44:25
GeneTonic/-2025-02-04 16:44:25
GeneStructureTools/-2025-02-04 16:44:25
GeneSelectMMD/-2025-02-04 16:44:25
GeneRegionScan/-2025-02-04 16:44:25
GeneOverlap/-2025-02-04 16:44:25
GeneNetworkBuilder/-2025-02-04 16:44:25
GeneMeta/-2025-02-04 16:44:25
GeneGeneInteR/-2025-02-04 16:44:25
GeneGA/-2025-02-04 16:44:25
GeneExpressionSignature/-2025-02-04 16:44:25
GeneBreak/-2025-02-04 16:44:25
GenVisR/-2025-02-04 16:44:26
GenProSeq/-2025-02-04 16:44:26
GeDi/-2025-02-04 16:44:24
GateFinder/-2025-02-04 16:44:24
GWENA/-2025-02-04 16:44:30
GWASTools/-2025-02-04 16:44:29
GWAS.BAYES/-2025-02-04 16:44:29
GUIDEseq/-2025-02-04 16:44:29
GSgalgoR/-2025-02-04 16:44:29
GSVA/-2025-02-04 16:44:29
GSReg/-2025-02-04 16:44:29
GSRI/-2025-02-04 16:44:29
GSEAmining/-2025-02-04 16:44:29
GSEAlm/-2025-02-04 16:44:29
GSEABenchmarkeR/-2025-02-04 16:44:29
GSEABase/-2025-02-04 16:44:29
GSCA/-2025-02-04 16:44:29
GSAR/-2025-02-04 16:44:29
GSALightning/-2025-02-04 16:44:29
GRmetrics/-2025-02-04 16:44:29
GRaNIE/-2025-02-04 16:44:28
GRENITS/-2025-02-04 16:44:29
GPA/-2025-02-04 16:44:28
GOstats/-2025-02-04 16:44:28
GOpro/-2025-02-04 16:44:28
GOfuncR/-2025-02-04 16:44:28
GOexpress/-2025-02-04 16:44:28
GOTHiC/-2025-02-04 16:44:28
GOSemSim/-2025-02-04 16:44:28
GNOSIS/-2025-02-04 16:44:28
GNET2/-2025-02-04 16:44:28
GMRP/-2025-02-04 16:44:28
GLAD/-2025-02-04 16:44:27
GIGSEA/-2025-02-04 16:44:27
GGPA/-2025-02-04 16:44:27
GEWIST/-2025-02-04 16:44:26
GEOsubmission/-2025-02-04 16:44:26
GEOquery/-2025-02-04 16:44:26
GEOmetadb/-2025-02-04 16:44:26
GEOfastq/-2025-02-04 16:44:26
GEOexplorer/-2025-02-04 16:44:26
GENIE3/-2025-02-04 16:44:25
GENESIS/-2025-02-04 16:44:25
GEM/-2025-02-04 16:44:24
GDSArray/-2025-02-04 16:44:24
GDCRNATools/-2025-02-04 16:44:24
GBScleanR/-2025-02-04 16:44:24
GAprediction/-2025-02-04 16:44:24
GARS/-2025-02-04 16:44:24
GA4GHshiny/-2025-02-04 16:44:23
GA4GHclient/-2025-02-04 16:44:23
G4SNVHunter/-2025-02-04 16:44:23
FuseSOM/-2025-02-04 16:44:23
FlowSOM/-2025-02-04 16:44:23
FitHiC/-2025-02-04 16:44:22
FindIT2/-2025-02-04 16:44:22
FilterFFPE/-2025-02-04 16:44:22
FeatSeekR/-2025-02-04 16:44:21
FastqCleaner/-2025-02-04 16:44:21
FamAgg/-2025-02-04 16:44:21
FRGEpistasis/-2025-02-04 16:44:23
FRASER/-2025-02-04 16:44:23
FLAMES/-2025-02-04 16:44:22
FISHalyseR/-2025-02-04 16:44:22
FGNet/-2025-02-04 16:44:22
FELLA/-2025-02-04 16:44:22
FEAST/-2025-02-04 16:44:21
ExpressionAtlas/-2025-02-04 16:44:21
ExploreModelMatrix/-2025-02-04 16:44:21
ExperimentSubset/-2025-02-04 16:44:21
ExperimentHubData/-2025-02-04 16:44:21
ExperimentHub/-2025-02-04 16:44:21
ExiMiR/-2025-02-04 16:44:21
ExCluster/-2025-02-04 16:44:21
EventPointer/-2025-02-04 16:44:21
EpipwR/-2025-02-04 16:44:20
EpiTxDb/-2025-02-04 16:44:20
EpiMix/-2025-02-04 16:44:20
EpiDISH/-2025-02-04 16:44:20
EpiCompare/-2025-02-04 16:44:20
EnrichmentBrowser/-2025-02-04 16:44:19
EnrichedHeatmap/-2025-02-04 16:44:19
EnrichDO/-2025-02-04 16:44:19
EnhancedVolcano/-2025-02-04 16:44:19
EnMCB/-2025-02-04 16:44:19
EmpiricalBrownsMethod/-2025-02-04 16:44:19
EasyCellType/-2025-02-04 16:44:19
EWCE/-2025-02-04 16:44:21
ERSSA/-2025-02-04 16:44:20
ENmix/-2025-02-04 16:44:19
EMDomics/-2025-02-04 16:44:19
ELMER/-2025-02-04 16:44:19
EGSEA/-2025-02-04 16:44:19
EGAD/-2025-02-04 16:44:19
EDIRquery/-2025-02-04 16:44:19
EDASeq/-2025-02-04 16:44:19
EBcoexpress/-2025-02-04 16:44:19
EBarrays/-2025-02-04 16:44:19
EBSeq/-2025-02-04 16:44:19
EBSEA/-2025-02-04 16:44:19
EBImage/-2025-02-04 16:44:19
DynDoc/-2025-02-04 16:44:18
DuplexDiscovereR/-2025-02-04 16:44:18
Dune/-2025-02-04 16:44:18
DrugVsDisease/-2025-02-04 16:44:18
DropletUtils/-2025-02-04 16:44:18
DriverNet/-2025-02-04 16:44:18
Doscheda/-2025-02-04 16:44:18
DominoEffect/-2025-02-04 16:44:18
DiscoRhythm/-2025-02-04 16:44:17
DirichletMultinomial/-2025-02-04 16:44:17
Director/-2025-02-04 16:44:16
Dino/-2025-02-04 16:44:16
DifferentialRegulation/-2025-02-04 16:44:16
DiffLogo/-2025-02-04 16:44:16
DiffBind/-2025-02-04 16:44:16
DepecheR/-2025-02-04 16:44:15
DepInfeR/-2025-02-04 16:44:15
DelayedTensor/-2025-02-04 16:44:15
DelayedRandomArray/-2025-02-04 16:44:15
DelayedMatrixStats/-2025-02-04 16:44:15
DelayedDataFrame/-2025-02-04 16:44:15
DelayedArray/-2025-02-04 16:44:15
DegNorm/-2025-02-04 16:44:14
DegCre/-2025-02-04 16:44:14
DeepTarget/-2025-02-04 16:44:14
DeepPINCS/-2025-02-04 16:44:14
DeconRNASeq/-2025-02-04 16:44:14
DeProViR/-2025-02-04 16:44:15
DeMixT/-2025-02-04 16:44:15
DeMAND/-2025-02-04 16:44:15
Damsel/-2025-02-04 16:44:14
DaMiRseq/-2025-02-04 16:44:14
DTA/-2025-02-04 16:44:18
DSS/-2025-02-04 16:44:18
DRIMSeq/-2025-02-04 16:44:18
DOSE/-2025-02-04 16:44:18
DNAshapeR/-2025-02-04 16:44:18
DNAfusion/-2025-02-04 16:44:18
DNAcopy/-2025-02-04 16:44:18
DNABarcodes/-2025-02-04 16:44:18
DNABarcodeCompatibility/-2025-02-04 16:44:18
DMRcate/-2025-02-04 16:44:18
DMRcaller/-2025-02-04 16:44:18
DMRScan/-2025-02-04 16:44:18
DMCHMM/-2025-02-04 16:44:18
DMCFB/-2025-02-04 16:44:17
DIAlignR/-2025-02-04 16:44:16
DFplyr/-2025-02-04 16:44:16
DFP/-2025-02-04 16:44:16
DExMA/-2025-02-04 16:44:16
DEsubs/-2025-02-04 16:44:15
DEsingle/-2025-02-04 16:44:15
DEqMS/-2025-02-04 16:44:15
DEXSeq/-2025-02-04 16:44:16
DEWSeq/-2025-02-04 16:44:15
DESpace/-2025-02-04 16:44:15
DESeq2/-2025-02-04 16:44:15
DEScan2/-2025-02-04 16:44:15
DEP/-2025-02-04 16:44:15
DELocal/-2025-02-04 16:44:15
DEGseq/-2025-02-04 16:44:15
DEGreport/-2025-02-04 16:44:15
DEGraph/-2025-02-04 16:39:58
DEFormats/-2025-02-04 16:44:14
DECIPHER/-2025-02-04 16:44:14
DCATS/-2025-02-04 16:44:14
DART/-2025-02-04 16:44:14
DAPAR/-2025-02-04 16:44:14
DAMEfinder/-2025-02-04 16:44:14
CytoPipelineGUI/-2025-02-04 16:44:13
CytoPipeline/-2025-02-04 16:44:13
CytoML/-2025-02-04 16:44:13
CytoMDS/-2025-02-04 16:44:13
CytoGLMM/-2025-02-04 16:44:13
CytoDx/-2025-02-04 16:44:13
CyTOFpower/-2025-02-04 16:44:13
CuratedAtlasQueryR/-2025-02-04 16:44:13
CrispRVariants/-2025-02-04 16:44:12
CoverageView/-2025-02-04 16:44:12
Cormotif/-2025-02-04 16:44:11
CoreGx/-2025-02-04 16:44:11
CopyNumberPlots/-2025-02-04 16:44:11
ConsensusClusterPlus/-2025-02-04 16:44:11
CompoundDb/-2025-02-04 16:44:11
ComplexHeatmap/-2025-02-04 16:44:11
ComPrAn/-2025-02-04 16:44:11
Cogito/-2025-02-04 16:44:10
CoSIA/-2025-02-04 16:44:11
CoGAPS/-2025-02-04 16:44:10
CoCiteStats/-2025-02-04 16:44:10
ClusterSignificance/-2025-02-04 16:44:09
ClusterJudge/-2025-02-04 16:44:09
ClusterFoldSimilarity/-2025-02-04 16:44:09
ClustIRR/-2025-02-04 16:44:09
ClustAll/-2025-02-04 16:44:09
CluMSID/-2025-02-04 16:44:09
Clomial/-2025-02-04 16:44:09
CleanUpRNAseq/-2025-02-04 16:44:09
ClassifyR/-2025-02-04 16:44:09
CiteFuse/-2025-02-04 16:44:09
CircSeqAlignTk/-2025-02-04 16:44:09
ChromSCape/-2025-02-04 16:44:08
ChromHeatMap/-2025-02-04 16:44:08
Chicago/-2025-02-04 16:44:08
ChemmineR/-2025-02-04 16:44:08
ChemmineOB/-2025-02-04 16:44:08
ChIPsim/-2025-02-04 16:44:08
ChIPseqR/-2025-02-04 16:44:08
ChIPseeker/-2025-02-04 16:44:08
ChIPpeakAnno/-2025-02-04 16:44:08
ChIPexoQual/-2025-02-04 16:44:08
ChIPanalyser/-2025-02-04 16:44:08
ChIPXpress/-2025-02-04 16:44:08
ChIPQC/-2025-02-04 16:44:08
ChIPComp/-2025-02-04 16:44:08
ChAMP/-2025-02-04 16:44:08
CexoR/-2025-02-04 16:44:07
Cepo/-2025-02-04 16:44:07
CelliD/-2025-02-04 16:44:07
CellaRepertorium/-2024-10-24 15:04:38
CellTrails/-2025-02-04 16:44:07
CellScore/-2025-02-04 16:44:07
CellNOptR/-2025-02-04 16:44:07
CellMixS/-2025-02-04 16:44:07
CellMapper/-2025-02-04 16:44:07
CellBench/-2025-02-04 16:44:07
CellBarcode/-2025-02-04 16:44:07
CeTF/-2025-02-04 16:44:07
CausalR/-2025-02-04 16:44:06
CatsCradle/-2025-02-04 16:44:06
Category/-2025-02-04 16:44:06
CardinalIO/-2025-02-04 16:44:06
Cardinal/-2025-02-04 16:44:06
CaMutQC/-2025-02-04 16:44:06
CaDrA/-2025-02-04 16:44:05
CTexploreR/-2025-02-04 16:44:13
CTdata/-2025-02-04 16:44:12
CTSV/-2025-02-04 16:44:13
CTDquerier/-2025-02-04 16:44:13
CSSQ/-2025-02-04 16:44:12
CSAR/-2025-02-04 16:44:12
CRImage/-2025-02-04 16:44:12
CRISPRseek/-2025-02-04 16:44:12
CRISPRball/-2025-02-04 16:44:12
COTAN/-2025-02-04 16:44:12
COSNet/-2025-02-04 16:44:12
CONSTANd/-2025-02-04 16:44:11
CONFESS/-2025-02-04 16:44:11
COMPASS/-2025-02-04 16:44:11
CODEX/-2025-02-04 16:44:10
COCOA/-2025-02-04 16:44:10
CNVrd2/-2025-02-04 16:44:10
CNViz/-2025-02-04 16:44:10
CNVfilteR/-2025-02-04 16:44:10
CNVRanger/-2025-02-04 16:44:10
CNVPanelizer/-2025-02-04 16:44:10
CNVMetrics/-2025-02-04 16:44:10
CNTools/-2025-02-04 16:44:10
CNORode/-2025-02-04 16:44:10
CNORfuzzy/-2025-02-04 16:44:10
CNORfeeder/-2025-02-04 16:44:10
CNORdt/-2025-02-04 16:44:10
CNEr/-2025-02-04 16:44:10
CNAnorm/-2025-02-04 16:44:10
CMA/-2025-02-04 16:44:10
CINdex/-2025-02-04 16:44:09
CIMICE/-2025-02-04 16:44:09
CHRONOS/-2025-02-04 16:44:09
CHETAH/-2025-02-04 16:44:08
CGHregions/-2025-02-04 16:44:08
CGHnormaliter/-2025-02-04 16:44:08
CGHcall/-2025-02-04 16:44:07
CGHbase/-2025-02-04 16:44:07
CGEN/-2025-02-04 16:44:07
CFAssay/-2025-02-04 16:44:07
CEMiTool/-2025-02-04 16:44:07
CDI/-2025-02-04 16:44:06
CCPlotR/-2025-02-04 16:44:06
CCPROMISE/-2025-02-04 16:44:06
CBNplot/-2025-02-04 16:44:06
CBEA/-2025-02-04 16:44:06
CATALYST/-2025-02-04 16:44:06
CARNIVAL/-2025-02-04 16:44:06
CAMERA/-2025-02-04 16:44:06
CAGEr/-2025-02-04 16:44:06
CAGEfightR/-2025-02-04 16:44:05
CAFE/-2025-02-04 16:44:05
CAEN/-2025-02-04 16:44:05
BumpyMatrix/-2025-02-04 16:44:05
BulkSignalR/-2025-02-04 16:44:05
BufferedMatrixMethods/-2025-02-04 16:44:05
BufferedMatrix/-2025-02-04 16:44:05
BubbleTree/-2025-02-04 16:44:05
BrowserViz/-2025-02-04 16:44:05
BridgeDbR/-2025-02-04 16:44:05
BloodGen3Module/-2025-02-04 16:44:04
Biostrings/-2025-02-04 16:44:04
BiocWorkflowTools/-2025-02-04 16:44:03
BiocVersion/-2025-02-04 16:44:03
BiocStyle/-2025-02-04 16:44:03
BiocSklearn/-2025-02-04 16:44:02
BiocSingular/-2025-02-04 16:44:02
BiocSet/-2025-02-04 16:44:02
BiocPkgTools/-2025-02-04 16:44:02
BiocParallel/-2025-02-04 16:44:02
BiocOncoTK/-2024-10-24 15:04:38
BiocNeighbors/-2025-02-04 16:44:02
BiocIO/-2025-02-04 16:44:02
BiocHubsShiny/-2025-02-04 16:44:02
BiocHail/-2025-02-04 16:39:47
BiocGenerics/-2025-02-04 16:44:02
BiocFileCache/-2025-02-04 16:44:02
BiocFHIR/-2025-02-04 16:44:02
BiocCheck/-2025-02-04 16:44:02
BiocBook/-2025-02-04 16:44:02
BiocBaseUtils/-2025-02-04 16:44:02
Biobase/-2025-02-04 16:44:02
BioTIP/-2025-02-04 16:44:04
BioQC/-2025-02-04 16:44:04
BioNet/-2025-02-04 16:44:04
BioNERO/-2025-02-04 16:44:04
BioNAR/-2025-02-04 16:44:04
BioMVCClass/-2025-02-04 16:44:04
BioGA/-2025-02-04 16:44:03
BioCor/-2025-02-04 16:44:02
BioCartaImage/-2025-02-04 16:44:02
BindingSiteFinder/-2025-02-04 16:44:02
BicARE/-2025-02-04 16:44:02
BiSeq/-2025-02-04 16:44:04
BiRewire/-2025-02-04 16:44:04
BiGGR/-2025-02-04 16:40:58
BiFET/-2025-02-04 16:44:02
BgeeDB/-2025-02-04 16:44:02
BgeeCall/-2025-02-04 16:44:01
BeadDataPackR/-2025-02-04 16:44:01
BayesSpace/-2025-02-04 16:44:01
BayesKnockdown/-2025-02-04 16:44:01
BatchQC/-2025-02-04 16:44:01
BasicSTARRseq/-2025-02-04 16:44:01
Basic4Cseq/-2025-02-04 16:44:01
BaseSpaceR/-2025-02-04 16:44:01
Banksy/-2025-02-04 16:44:00
BadRegionFinder/-2025-02-04 16:44:00
BaalChIP/-2025-02-04 16:44:00
BUSseq/-2025-02-04 16:44:05
BUSpaRse/-2025-02-04 16:44:05
BUScorrect/-2025-02-04 16:44:05
BUS/-2025-02-04 16:44:05
BUMHMM/-2025-02-04 16:44:05
BSgenomeForge/-2025-02-04 16:44:05
BSgenome/-2025-02-04 16:44:05
BRGenomics/-2024-10-24 15:04:38
BREW3R.r/-2025-02-04 16:44:05
BRAIN/-2025-02-04 16:44:05
BPRMeth/-2025-02-04 16:44:05
BOBaFIT/-2025-02-04 16:44:05
BLMA/-2025-02-04 16:44:04
BG2/-2025-02-04 16:44:01
BEclear/-2025-02-04 16:44:01
BERT/-2025-02-04 16:44:01
BEAT/-2025-02-04 16:44:01
BEARscc/-2025-02-04 16:44:01
BCRANK/-2025-02-04 16:44:01
BBCAnalyzer/-2025-02-04 16:44:01
BASiCStan/-2025-02-04 16:44:01
BASiCS/-2025-02-04 16:44:01
BANDITS/-2025-02-04 16:44:00
BAGS/-2025-02-04 16:44:00
BADER/-2025-02-04 16:44:00
AssessORF/-2025-02-04 16:44:00
ArrayExpress/-2025-02-04 16:43:59
AnnotationHubData/-2025-02-04 16:43:59
AnnotationHub/-2025-02-04 16:43:59
AnnotationForge/-2025-02-04 16:43:59
AnnotationFilter/-2025-02-04 16:43:59
AnnotationDbi/-2025-02-04 16:43:59
AneuFinder/-2025-02-04 16:43:58
Anaquin/-2025-02-04 16:43:58
AnVILWorkflow/-2025-02-04 16:43:59
AnVILPublish/-2025-02-04 16:43:59
AnVILGCP/-2025-02-04 16:43:59
AnVILBilling/-2025-02-04 16:43:59
AnVILBase/-2025-02-04 16:43:59
AnVILAz/-2025-02-04 16:43:59
AnVIL/-2025-02-04 16:43:59
AlpsNMR/-2025-02-04 16:43:58
AlphaMissenseR/-2025-02-04 16:43:58
AlphaBeta/-2025-02-04 16:43:58
AllelicImbalance/-2025-02-04 16:43:58
AgiMicroRna/-2025-02-04 16:43:57
AffyRNADegradation/-2025-02-04 16:43:57
AffiXcan/-2025-02-04 16:43:56
AWFisher/-2025-02-04 16:44:00
AUCell/-2025-02-04 16:44:00
ATACseqTFEA/-2025-02-04 16:44:00
ATACseqQC/-2025-02-04 16:44:00
ATACCoGAPS/-2024-10-24 15:04:37
ASpli/-2025-02-04 16:44:00
ASURAT/-2025-02-04 16:44:00
ASSIGN/-2025-02-04 16:44:00
ASSET/-2025-02-04 16:44:00
ASICS/-2025-02-04 16:44:00
ASGSCA/-2025-02-04 16:44:00
ASEB/-2025-02-04 16:43:59
ASAFE/-2025-02-04 16:43:59
ARRmNormalization/-2025-02-04 16:43:59
APL/-2025-02-04 16:43:59
APAlyzer/-2025-02-04 16:43:59
ANF/-2025-02-04 16:43:58
ANCOMBC/-2025-02-04 16:43:58
AMOUNTAIN/-2025-02-04 16:43:58
AMARETTO/-2025-02-04 16:43:58
ALDEx2/-2025-02-04 16:43:58
AIMS/-2025-02-04 16:43:58
AHMassBank/-2025-02-04 16:43:58
AGDEX/-2025-02-04 16:43:57
ADaCGH2/-2025-02-04 16:43:56
ADImpute/-2025-02-04 16:43:56
ADAPT/-2025-02-04 16:43:56
ADAMgui/-2025-02-04 16:43:56
ADAM/-2025-02-04 16:43:56
ACME/-2025-02-04 16:43:56
ACE/-2025-02-04 16:43:55
ABarray/-2025-02-04 16:43:55
ABSSeq/-2025-02-04 16:43:55
skipped-index.dcf19 B2025-02-04 16:38:22
report.tgz90.8 MiB2025-02-04 16:47:06
report.js6.0 KiB2025-02-04 16:38:22
report.css11.0 KiB2025-02-04 16:38:22
pkg_dep_graph.txt376.9 KiB2025-02-04 16:38:22
palomino7-index.html3.3 MiB2025-02-04 16:45:30
palomino7-R-instpkgs.html460.2 KiB2025-02-04 16:38:23
palomino7-NodeInfo.html7.0 KiB2025-02-04 16:38:22
nebbiolo1-index.html2.9 MiB2025-02-04 16:45:28
nebbiolo1-R-instpkgs.html516.8 KiB2025-02-04 16:38:23
nebbiolo1-NodeInfo.html6.9 KiB2025-02-04 16:38:22
meat-index.dcf236.1 KiB2025-02-04 16:38:22
long-report.html14.0 MiB2025-02-04 16:45:56
lconway-index.html3.3 MiB2025-02-04 16:45:35
lconway-R-instpkgs.html601.6 KiB2025-02-04 16:38:23
lconway-NodeInfo.html6.8 KiB2025-02-04 16:38:23
kunpeng2-index.html2.0 MiB2025-01-30 18:13:52
kunpeng2-R-instpkgs.html531.9 KiB2025-01-30 18:08:43
kunpeng2-NodeInfo.html7.7 KiB2025-01-30 18:08:43
kjohnson3-index.html3.3 MiB2025-02-04 16:45:41
kjohnson3-R-instpkgs.html591.0 KiB2025-02-04 16:38:23
kjohnson3-NodeInfo.html6.7 KiB2025-02-04 16:38:23
index.html1.3 MiB2025-02-04 16:45:41
Renviron.bioc3.3 KiB2025-02-04 16:38:22
PROPAGATION_STATUS_DB.txt711.8 KiB2025-02-04 16:38:22
DEVEL3b.png2.6 KiB2025-02-04 16:38:22
BUILD_STATUS_DB.txt1.0 MiB2025-02-04 16:38:22
120px-Red_Light_Icon.svg.png7.0 KiB2025-02-04 16:38:22
120px-Green_Light_Icon.svg.png7.1 KiB2025-02-04 16:38:22
120px-Blue_Light_Icon.svg.png7.1 KiB2025-02-04 16:38:22