Back to Multiple platform build/check report for BioC 3.21:   simplified   long
[A]BCDEFGHIJKLMNOPQRSTUVWXYZ

This page was generated on 2025-02-10 11:40 -0500 (Mon, 10 Feb 2025).

HostnameOSArch (*)R versionInstalled pkgs
nebbiolo1Linux (Ubuntu 24.04.1 LTS)x86_64R Under development (unstable) (2025-01-20 r87609) -- "Unsuffered Consequences" 4719
palomino7Windows Server 2022 Datacenterx64R Under development (unstable) (2025-01-21 r87610 ucrt) -- "Unsuffered Consequences" 4480
lconwaymacOS 12.7.1 Montereyx86_64R Under development (unstable) (2025-01-22 r87618) -- "Unsuffered Consequences" 4491
kjohnson3macOS 13.7.1 Venturaarm64R Under development (unstable) (2025-01-20 r87609) -- "Unsuffered Consequences" 4444
Click on any hostname to see more info about the system (e.g. compilers)      (*) as reported by 'uname -p', except on Windows and Mac OS X

Package 58/2295HostnameOS / ArchINSTALLBUILDCHECKBUILD BIN
AlpsNMR 4.9.0  (landing page)
Sergio Oller Moreno
Snapshot Date: 2025-02-09 13:40 -0500 (Sun, 09 Feb 2025)
git_url: https://git.bioconductor.org/packages/AlpsNMR
git_branch: devel
git_last_commit: f8b70f5
git_last_commit_date: 2024-10-29 10:53:23 -0500 (Tue, 29 Oct 2024)
nebbiolo1Linux (Ubuntu 24.04.1 LTS) / x86_64  OK    OK    OK  UNNEEDED, same version is already published
palomino7Windows Server 2022 Datacenter / x64  OK    OK    OK    OK  UNNEEDED, same version is already published
lconwaymacOS 12.7.1 Monterey / x86_64  OK    OK    OK    OK  UNNEEDED, same version is already published
kjohnson3macOS 13.7.1 Ventura / arm64  OK    OK    OK    OK  UNNEEDED, same version is already published


CHECK results for AlpsNMR on palomino7

To the developers/maintainers of the AlpsNMR package:
- Allow up to 24 hours (and sometimes 48 hours) for your latest push to git@git.bioconductor.org:packages/AlpsNMR.git to reflect on this report. See Troubleshooting Build Report for more information.
- Use the following Renviron settings to reproduce errors and warnings.
- If 'R CMD check' started to fail recently on the Linux builder(s) over a missing dependency, add the missing dependency to 'Suggests:' in your DESCRIPTION file. See Renviron.bioc for more information.

raw results


Summary

Package: AlpsNMR
Version: 4.9.0
Command: E:\biocbuild\bbs-3.21-bioc\R\bin\R.exe CMD check --no-multiarch --install=check:AlpsNMR.install-out.txt --library=E:\biocbuild\bbs-3.21-bioc\R\library --no-vignettes --timings AlpsNMR_4.9.0.tar.gz
StartedAt: 2025-02-09 22:34:09 -0500 (Sun, 09 Feb 2025)
EndedAt: 2025-02-09 22:44:06 -0500 (Sun, 09 Feb 2025)
EllapsedTime: 597.3 seconds
RetCode: 0
Status:   OK  
CheckDir: AlpsNMR.Rcheck
Warnings: 0

Command output

##############################################################################
##############################################################################
###
### Running command:
###
###   E:\biocbuild\bbs-3.21-bioc\R\bin\R.exe CMD check --no-multiarch --install=check:AlpsNMR.install-out.txt --library=E:\biocbuild\bbs-3.21-bioc\R\library --no-vignettes --timings AlpsNMR_4.9.0.tar.gz
###
##############################################################################
##############################################################################


* using log directory 'E:/biocbuild/bbs-3.21-bioc/meat/AlpsNMR.Rcheck'
* using R Under development (unstable) (2025-01-21 r87610 ucrt)
* using platform: x86_64-w64-mingw32
* R was compiled by
    gcc.exe (GCC) 13.3.0
    GNU Fortran (GCC) 13.3.0
* running under: Windows Server 2022 x64 (build 20348)
* using session charset: UTF-8
* using option '--no-vignettes'
* checking for file 'AlpsNMR/DESCRIPTION' ... OK
* checking extension type ... Package
* this is package 'AlpsNMR' version '4.9.0'
* package encoding: UTF-8
* checking package namespace information ... OK
* checking package dependencies ... OK
* checking if this is a source package ... OK
* checking if there is a namespace ... OK
* checking for hidden files and directories ... OK
* checking for portable file names ... OK
* checking whether package 'AlpsNMR' can be installed ... OK
* checking installed package size ... OK
* checking package directory ... OK
* checking 'build' directory ... OK
* checking DESCRIPTION meta-information ... OK
* checking top-level files ... OK
* checking for left-over files ... OK
* checking index information ... OK
* checking package subdirectories ... OK
* checking code files for non-ASCII characters ... OK
* checking R files for syntax errors ... OK
* checking whether the package can be loaded ... OK
* checking whether the package can be loaded with stated dependencies ... OK
* checking whether the package can be unloaded cleanly ... OK
* checking whether the namespace can be loaded with stated dependencies ... OK
* checking whether the namespace can be unloaded cleanly ... OK
* checking dependencies in R code ... OK
* checking S3 generic/method consistency ... OK
* checking replacement functions ... OK
* checking foreign function calls ... OK
* checking R code for possible problems ... OK
* checking Rd files ... OK
* checking Rd metadata ... OK
* checking Rd cross-references ... NOTE
Found the following Rd file(s) with Rd \link{} targets missing package
anchors:
  filter.nmr_dataset_family.Rd: dplyr
Please provide package anchors for all Rd \link{} targets not in the
package itself and the base packages.
* checking for missing documentation entries ... OK
* checking for code/documentation mismatches ... OK
* checking Rd \usage sections ... OK
* checking Rd contents ... OK
* checking for unstated dependencies in examples ... OK
* checking contents of 'data' directory ... OK
* checking data for non-ASCII characters ... OK
* checking data for ASCII and uncompressed saves ... OK
* checking sizes of PDF files under 'inst/doc' ... OK
* checking files in 'vignettes' ... OK
* checking examples ... OK
Examples with CPU (user + system) or elapsed time > 5s
                                               user system elapsed
SummarizedExperiment_to_nmr_data_1r            7.17   0.37   13.03
nmr_pca_outliers_robust                        6.86   0.21   11.67
Peak_detection                                 3.02   0.18   29.56
plsda_auroc_vip_compare                        3.14   0.06   18.37
nmr_meta_add                                   2.25   0.06   11.36
bp_VIP_analysis                                2.06   0.08   14.61
permutation_test_model                         2.11   0.03   15.98
validate_nmr_dataset                           2.04   0.08   11.08
permutation_test_plot                          2.06   0.04   16.04
nmr_pca_build_model                            1.93   0.06   10.22
nmr_interpolate_1D                             1.86   0.06   10.45
nmr_read_samples                               1.78   0.03   11.26
plot_plsda_multimodel                          1.53   0.03    9.92
nmr_data_analysis                              1.45   0.03    9.50
bp_kfold_VIP_analysis                          1.36   0.05    9.75
plot_plsda_samples                             1.36   0.04    9.68
SummarizedExperiment_to_nmr_dataset_peak_table 1.35   0.03    5.98
AlpsNMR-package                                1.25   0.13    5.58
nmr_dataset_peak_table_to_SummarizedExperiment 1.28   0.08    5.92
to_ChemoSpec                                   1.25   0.10    6.17
nmr_data_1r_to_SummarizedExperiment            1.27   0.05    5.70
models_stability_plot_plsda                    1.25   0.01   10.82
nmr_pca_outliers_filter                        1.13   0.04    5.31
tidy.nmr_dataset_1D                            1.04   0.08    6.35
nmr_pca_outliers                               1.07   0.02    5.13
print.nmr_dataset_peak_table                   1.05   0.01    5.50
sub-.nmr_dataset_peak_table                    1.00   0.03    5.32
validate_nmr_dataset_family                    1.00   0.02    5.39
nmr_export_data_1r                             0.97   0.03    5.45
sub-.nmr_dataset_1D                            0.95   0.05    5.52
filter.nmr_dataset_family                      0.97   0.02    5.25
plot_interactive                               0.94   0.04    5.51
format.nmr_dataset_1D                          0.91   0.03    5.31
is.nmr_dataset_peak_table                      0.90   0.03    5.22
format.nmr_dataset_peak_table                  0.87   0.05    5.16
nmr_autophase                                  0.86   0.05    6.71
load_and_save_functions                        0.86   0.04    7.00
print.nmr_dataset_1D                           0.90   0.00    5.25
is.nmr_dataset                                 0.86   0.03    5.14
is.nmr_dataset_1D                              0.86   0.03    5.34
nmr_meta_export                                0.86   0.03    5.25
sub-.nmr_dataset                               0.86   0.03    5.44
new_nmr_dataset_peak_table                     0.84   0.03    6.03
format.nmr_dataset                             0.77   0.04    5.33
* checking for unstated dependencies in 'tests' ... OK
* checking tests ...
  Running 'testthat.R'
 OK
* checking for unstated dependencies in vignettes ... OK
* checking package vignettes ... OK
* checking running R code from vignettes ... SKIPPED
* checking re-building of vignette outputs ... SKIPPED
* checking PDF version of manual ... OK
* DONE

Status: 1 NOTE
See
  'E:/biocbuild/bbs-3.21-bioc/meat/AlpsNMR.Rcheck/00check.log'
for details.


Installation output

AlpsNMR.Rcheck/00install.out

##############################################################################
##############################################################################
###
### Running command:
###
###   E:\biocbuild\bbs-3.21-bioc\R\bin\R.exe CMD INSTALL AlpsNMR
###
##############################################################################
##############################################################################


* installing to library 'E:/biocbuild/bbs-3.21-bioc/R/library'
* installing *source* package 'AlpsNMR' ...
** this is package 'AlpsNMR' version '4.9.0'
** using staged installation
** R
** data
** inst
** byte-compile and prepare package for lazy loading
** help
*** installing help indices
*** copying figures
** building package indices
** installing vignettes
** testing if installed package can be loaded from temporary location
** testing if installed package can be loaded from final location
** testing if installed package keeps a record of temporary installation path
* DONE (AlpsNMR)

Tests output

AlpsNMR.Rcheck/tests/testthat.Rout


R Under development (unstable) (2025-01-21 r87610 ucrt) -- "Unsuffered Consequences"
Copyright (C) 2025 The R Foundation for Statistical Computing
Platform: x86_64-w64-mingw32/x64

R is free software and comes with ABSOLUTELY NO WARRANTY.
You are welcome to redistribute it under certain conditions.
Type 'license()' or 'licence()' for distribution details.

R is a collaborative project with many contributors.
Type 'contributors()' for more information and
'citation()' on how to cite R or R packages in publications.

Type 'demo()' for some demos, 'help()' for on-line help, or
'help.start()' for an HTML browser interface to help.
Type 'q()' to quit R.

> library(testthat)
> library(AlpsNMR)

Attaching package: 'AlpsNMR'

The following object is masked from 'package:stats':

    filter

> 
> test_check("AlpsNMR")
[ FAIL 0 | WARN 0 | SKIP 1 | PASS 93 ]

══ Skipped tests (1) ═══════════════════════════════════════════════════════════
• On Bioconductor (1): 'test_rDolphin.R:2:5'

[ FAIL 0 | WARN 0 | SKIP 1 | PASS 93 ]
> 
> proc.time()
   user  system elapsed 
  23.28    1.42   83.54 

Example timings

AlpsNMR.Rcheck/AlpsNMR-Ex.timings

nameusersystemelapsed
AlpsNMR-package1.250.135.58
HMDB_blood0.010.000.02
HMDB_cell0.020.000.02
HMDB_urine000
Parameters_blood0.000.020.01
Parameters_cell000
Parameters_urine0.010.000.02
Peak_detection 3.02 0.1829.56
Pipelines0.000.020.01
ROI_blood000
ROI_cell0.020.000.02
ROI_urine000
SummarizedExperiment_to_nmr_data_1r 7.17 0.3713.03
SummarizedExperiment_to_nmr_dataset_peak_table1.350.035.98
bp_VIP_analysis 2.06 0.0814.61
bp_kfold_VIP_analysis1.360.059.75
download_MTBLS242000
file_lister0.030.030.06
files_to_rDolphin000
filter.nmr_dataset_family0.970.025.25
format.nmr_dataset0.770.045.33
format.nmr_dataset_1D0.910.035.31
format.nmr_dataset_peak_table0.870.055.16
get_integration_with_metadata0.050.000.04
hmdb0.080.110.19
is.nmr_dataset0.860.035.14
is.nmr_dataset_1D0.860.035.34
is.nmr_dataset_peak_table0.900.035.22
load_and_save_functions0.860.047.00
models_stability_plot_bootstrap000
models_stability_plot_plsda 1.25 0.0110.82
new_nmr_dataset000
new_nmr_dataset_1D000
new_nmr_dataset_peak_table0.840.036.03
nmr_autophase0.860.056.71
nmr_baseline_estimation0.000.000.04
nmr_baseline_removal0.020.000.02
nmr_baseline_threshold000
nmr_baseline_threshold_plot0.220.010.23
nmr_batman000
nmr_batman_options000
nmr_build_peak_table0.050.000.05
nmr_data0.070.000.08
nmr_data_1r_to_SummarizedExperiment1.270.055.70
nmr_data_analysis1.450.039.50
nmr_dataset000
nmr_dataset_1D000
nmr_dataset_peak_table_to_SummarizedExperiment1.280.085.92
nmr_exclude_region000
nmr_export_data_1r0.970.035.45
nmr_get_peak_distances0.010.000.02
nmr_identify_regions_blood0.000.000.03
nmr_identify_regions_cell0.050.000.06
nmr_identify_regions_urine0.020.000.03
nmr_integrate_regions0.010.000.02
nmr_interpolate_1D 1.86 0.0610.45
nmr_meta_add 2.25 0.0611.36
nmr_meta_export0.860.035.25
nmr_meta_get0.920.024.97
nmr_meta_get_column0.780.024.72
nmr_meta_groups0.770.014.90
nmr_normalize0.230.020.25
nmr_pca_build_model 1.93 0.0610.22
nmr_pca_outliers1.070.025.13
nmr_pca_outliers_filter1.130.045.31
nmr_pca_outliers_plot000
nmr_pca_outliers_robust 6.86 0.2111.67
nmr_pca_plots0.480.000.49
nmr_peak_clustering0.100.000.09
nmr_ppm_resolution0.000.010.02
nmr_read_bruker_fid000
nmr_read_samples 1.78 0.0311.26
nmr_zip_bruker_samples0.030.010.45
peaklist_accept_peaks000
permutation_test_model 2.11 0.0315.98
permutation_test_plot 2.06 0.0416.04
plot.nmr_dataset_1D000
plot_bootstrap_multimodel000
plot_interactive0.940.045.51
plot_plsda_multimodel1.530.039.92
plot_plsda_samples1.360.049.68
plot_vip_scores000
plot_webgl000
plsda_auroc_vip_compare 3.14 0.0618.37
plsda_auroc_vip_method000
ppm_resolution000
print.nmr_dataset0.840.034.92
print.nmr_dataset_1D0.900.005.25
print.nmr_dataset_peak_table1.050.015.50
random_subsampling000
save_files_to_rDolphin000
save_profiling_output000
sub-.nmr_dataset0.860.035.44
sub-.nmr_dataset_1D0.950.055.52
sub-.nmr_dataset_peak_table1.000.035.32
tidy.nmr_dataset_1D1.040.086.35
to_ASICS1.260.151.42
to_ChemoSpec1.250.106.17
validate_nmr_dataset 2.04 0.0811.08
validate_nmr_dataset_family1.000.025.39
validate_nmr_dataset_peak_table000
zzz0.000.002.03