Back to Multiple platform build/check report for BioC 3.21: simplified long |
|
This page was generated on 2025-02-06 11:43 -0500 (Thu, 06 Feb 2025).
Hostname | OS | Arch (*) | R version | Installed pkgs |
---|---|---|---|---|
nebbiolo1 | Linux (Ubuntu 24.04.1 LTS) | x86_64 | R Under development (unstable) (2025-01-20 r87609) -- "Unsuffered Consequences" | 4719 |
palomino7 | Windows Server 2022 Datacenter | x64 | R Under development (unstable) (2025-01-21 r87610 ucrt) -- "Unsuffered Consequences" | 4480 |
lconway | macOS 12.7.1 Monterey | x86_64 | R Under development (unstable) (2025-01-22 r87618) -- "Unsuffered Consequences" | 4491 |
kjohnson3 | macOS 13.7.1 Ventura | arm64 | R Under development (unstable) (2025-01-20 r87609) -- "Unsuffered Consequences" | 4444 |
Click on any hostname to see more info about the system (e.g. compilers) (*) as reported by 'uname -p', except on Windows and Mac OS X |
Package 213/2295 | Hostname | OS / Arch | INSTALL | BUILD | CHECK | BUILD BIN | ||||||||
BioNAR 1.9.1 (landing page) Anatoly Sorokin
| nebbiolo1 | Linux (Ubuntu 24.04.1 LTS) / x86_64 | OK | OK | OK | ![]() | ||||||||
palomino7 | Windows Server 2022 Datacenter / x64 | OK | OK | OK | OK | ![]() | ||||||||
lconway | macOS 12.7.1 Monterey / x86_64 | OK | OK | OK | OK | ![]() | ||||||||
kjohnson3 | macOS 13.7.1 Ventura / arm64 | OK | OK | OK | OK | ![]() | ||||||||
To the developers/maintainers of the BioNAR package: - Allow up to 24 hours (and sometimes 48 hours) for your latest push to git@git.bioconductor.org:packages/BioNAR.git to reflect on this report. See Troubleshooting Build Report for more information. - Use the following Renviron settings to reproduce errors and warnings. - If 'R CMD check' started to fail recently on the Linux builder(s) over a missing dependency, add the missing dependency to 'Suggests:' in your DESCRIPTION file. See Renviron.bioc for more information. |
Package: BioNAR |
Version: 1.9.1 |
Command: /Library/Frameworks/R.framework/Resources/bin/R CMD check --install=check:BioNAR.install-out.txt --library=/Library/Frameworks/R.framework/Resources/library --no-vignettes --timings BioNAR_1.9.1.tar.gz |
StartedAt: 2025-02-05 18:20:27 -0500 (Wed, 05 Feb 2025) |
EndedAt: 2025-02-05 18:22:48 -0500 (Wed, 05 Feb 2025) |
EllapsedTime: 141.3 seconds |
RetCode: 0 |
Status: OK |
CheckDir: BioNAR.Rcheck |
Warnings: 0 |
############################################################################## ############################################################################## ### ### Running command: ### ### /Library/Frameworks/R.framework/Resources/bin/R CMD check --install=check:BioNAR.install-out.txt --library=/Library/Frameworks/R.framework/Resources/library --no-vignettes --timings BioNAR_1.9.1.tar.gz ### ############################################################################## ############################################################################## * using log directory ‘/Users/biocbuild/bbs-3.21-bioc/meat/BioNAR.Rcheck’ * using R Under development (unstable) (2025-01-20 r87609) * using platform: aarch64-apple-darwin20 * R was compiled by Apple clang version 14.0.0 (clang-1400.0.29.202) GNU Fortran (GCC) 14.2.0 * running under: macOS Ventura 13.7.1 * using session charset: UTF-8 * using option ‘--no-vignettes’ * checking for file ‘BioNAR/DESCRIPTION’ ... OK * this is package ‘BioNAR’ version ‘1.9.1’ * package encoding: UTF-8 * checking package namespace information ... OK * checking package dependencies ... OK * checking if this is a source package ... OK * checking if there is a namespace ... OK * checking for hidden files and directories ... OK * checking for portable file names ... OK * checking for sufficient/correct file permissions ... OK * checking whether package ‘BioNAR’ can be installed ... OK * checking installed package size ... INFO installed size is 6.8Mb sub-directories of 1Mb or more: extdata 6.1Mb * checking package directory ... OK * checking ‘build’ directory ... OK * checking DESCRIPTION meta-information ... OK * checking top-level files ... OK * checking for left-over files ... OK * checking index information ... OK * checking package subdirectories ... OK * checking code files for non-ASCII characters ... OK * checking R files for syntax errors ... OK * checking whether the package can be loaded ... OK * checking whether the package can be loaded with stated dependencies ... OK * checking whether the package can be unloaded cleanly ... OK * checking whether the namespace can be loaded with stated dependencies ... OK * checking whether the namespace can be unloaded cleanly ... OK * checking dependencies in R code ... NOTE Package in Depends field not imported from: ‘Rdpack’ These packages need to be imported from (in the NAMESPACE file) for when this namespace is loaded but not attached. There are ::: calls to the package's namespace in its code. A package almost never needs to use ::: for its own objects: ‘addNoise’ ‘gofs’ ‘highlightRate’ ‘plotSigmoid’ * checking S3 generic/method consistency ... OK * checking replacement functions ... OK * checking foreign function calls ... OK * checking R code for possible problems ... NOTE clusterORA : forafun: no visible binding for global variable ‘pathway’ clusterORA : forafun: no visible binding for global variable ‘size’ clusterORA : forafun: no visible binding for global variable ‘overlap’ clusterORA : forafun: no visible binding for global variable ‘pval’ clusterORA : forafun: no visible binding for global variable ‘padj’ clusterORA : forafun: no visible binding for global variable ‘overlapGenes’ clusterORA : forafun: no visible binding for global variable ‘FL’ clusterORA : forafun: no visible binding for global variable ‘N’ clusterORA : forafun: no visible binding for global variable ‘Fn’ clusterORA : forafun: no visible binding for global variable ‘Cn’ clusterORA : forafun: no visible binding for global variable ‘Mu’ clusterORA : forafun: no visible binding for global variable ‘OR’ clusterORA : forafun: no visible binding for global variable ‘CIw’ clusterORA : forafun: no visible binding for global variable ‘Fe’ clusterORA : forafun: no visible binding for global variable ‘Fc’ clusterORA : forafun: no visible binding for global variable ‘palt’ plotSigmoid: no visible binding for global variable ‘yiR1’ plotSigmoid: no visible binding for global variable ‘yiR2’ plotSigmoid: no visible binding for global variable ‘yiR3’ plotSigmoid: no visible binding for global variable ‘yiR4’ plotSigmoid: no visible binding for global variable ‘yiR5’ Undefined global functions or variables: CIw Cn FL Fc Fe Fn Mu N OR overlap overlapGenes padj palt pathway pval size yiR1 yiR2 yiR3 yiR4 yiR5 * checking Rd files ... NOTE checkRd: (-1) FitDegree.Rd:34: Lost braces 34 | \item{legpos}{position of the legend @seealso{legend}} | ^ checkRd: (-1) calcEntropy.Rd:52: Lost braces; missing escapes or markup? 52 | Other {Entropy Functions}: | ^ checkRd: (-1) getEntropy.Rd:66: Lost braces; missing escapes or markup? 66 | Other {Entropy Functions}: | ^ checkRd: (-1) getEntropyRate.Rd:41: Lost braces; missing escapes or markup? 41 | Other {Entropy Functions}: | ^ checkRd: (-1) getRobustness.Rd:49: Lost braces; missing escapes or markup? 49 | Other {Robustness functions}: | ^ checkRd: (-1) makeConsensusMatrix.Rd:69: Lost braces; missing escapes or markup? 69 | Other {Robustness functions}: | ^ checkRd: (-1) plotEntropy.Rd:57: Lost braces; missing escapes or markup? 57 | Other {Entropy Functions}: | ^ * checking Rd metadata ... OK * checking Rd cross-references ... NOTE Unknown package ‘clusterCons’ in Rd xrefs * checking for missing documentation entries ... OK * checking for code/documentation mismatches ... OK * checking Rd \usage sections ... OK * checking Rd contents ... OK * checking for unstated dependencies in examples ... OK * checking contents of ‘data’ directory ... OK * checking data for non-ASCII characters ... OK * checking LazyData ... OK * checking data for ASCII and uncompressed saves ... OK * checking files in ‘vignettes’ ... OK * checking examples ... OK * checking for unstated dependencies in ‘tests’ ... OK * checking tests ... Running ‘testthat.R’ OK * checking for unstated dependencies in vignettes ... OK * checking package vignettes ... OK * checking running R code from vignettes ... SKIPPED * checking re-building of vignette outputs ... SKIPPED * checking PDF version of manual ... OK * DONE Status: 4 NOTEs See ‘/Users/biocbuild/bbs-3.21-bioc/meat/BioNAR.Rcheck/00check.log’ for details.
BioNAR.Rcheck/00install.out
############################################################################## ############################################################################## ### ### Running command: ### ### /Library/Frameworks/R.framework/Resources/bin/R CMD INSTALL BioNAR ### ############################################################################## ############################################################################## * installing to library ‘/Library/Frameworks/R.framework/Versions/4.5-arm64/Resources/library’ * installing *source* package ‘BioNAR’ ... ** this is package ‘BioNAR’ version ‘1.9.1’ ** using staged installation ** R ** data *** moving datasets to lazyload DB ** inst ** byte-compile and prepare package for lazy loading ** help *** installing help indices ** building package indices ** installing vignettes ** testing if installed package can be loaded from temporary location ** testing if installed package can be loaded from final location ** testing if installed package keeps a record of temporary installation path * DONE (BioNAR)
BioNAR.Rcheck/tests/testthat.Rout
R Under development (unstable) (2025-01-20 r87609) -- "Unsuffered Consequences" Copyright (C) 2025 The R Foundation for Statistical Computing Platform: aarch64-apple-darwin20 R is free software and comes with ABSOLUTELY NO WARRANTY. You are welcome to redistribute it under certain conditions. Type 'license()' or 'licence()' for distribution details. R is a collaborative project with many contributors. Type 'contributors()' for more information and 'citation()' on how to cite R or R packages in publications. Type 'demo()' for some demos, 'help()' for on-line help, or 'help.start()' for an HTML browser interface to help. Type 'q()' to quit R. > library(testthat) > library(BioNAR) Loading required package: igraph Attaching package: 'igraph' The following object is masked from 'package:testthat': compare The following objects are masked from 'package:stats': decompose, spectrum The following object is masked from 'package:base': union Loading required package: poweRlaw Loading required package: latex2exp Loading required package: RSpectra Loading required package: Rdpack Attaching package: 'BioNAR' The following object is masked from 'package:igraph': permute > > test_check("BioNAR") [ FAIL 0 | WARN 0 | SKIP 2 | PASS 129 ] ══ Skipped tests (2) ═══════════════════════════════════════════════════════════ • On CRAN (2): 'test_bridgeness.R:38:5', 'test_bridgeness.R:81:5' [ FAIL 0 | WARN 0 | SKIP 2 | PASS 129 ] > > proc.time() user system elapsed 12.159 0.981 17.613
BioNAR.Rcheck/BioNAR-Ex.timings
name | user | system | elapsed | |
FitDegree | 0.305 | 0.025 | 1.866 | |
addEdgeAtts | 3.804 | 1.070 | 4.938 | |
annotateGOont | 1.617 | 0.289 | 1.952 | |
annotateGeneNames | 0.091 | 0.007 | 0.102 | |
annotateGoBP | 1.303 | 0.316 | 1.657 | |
annotateGoCC | 0.970 | 0.317 | 1.368 | |
annotateGoMF | 1.150 | 0.316 | 1.496 | |
annotatePresynaptic | 0.392 | 0.109 | 0.507 | |
annotateSCHanno | 1.965 | 0.429 | 2.422 | |
annotateTopOntoOVG | 2.862 | 0.543 | 3.441 | |
annotateVertex | 0.001 | 0.000 | 0.002 | |
applpMatrixToGraph | 0.000 | 0.001 | 0.001 | |
buildNetwork | 0.001 | 0.000 | 0.001 | |
calcAllClustering | 1.698 | 0.003 | 1.702 | |
calcBridgeness | 0.020 | 0.001 | 0.021 | |
calcCentrality | 0.026 | 0.001 | 0.028 | |
calcCentralityExternalDistances | 0.139 | 0.012 | 0.151 | |
calcCentralityInternalDistances | 0.121 | 0.003 | 0.124 | |
calcClustering | 0.001 | 0.000 | 0.002 | |
calcDiseasePairs | 0.20 | 0.01 | 0.21 | |
calcEntropy | 3.615 | 0.885 | 4.586 | |
calcMembership | 0.002 | 0.000 | 0.002 | |
calcReclusterMatrix | 0.011 | 0.001 | 0.014 | |
calcSparsness | 1.953 | 0.489 | 2.480 | |
clusterORA | 0.106 | 0.007 | 0.115 | |
clusteringSummary | 3.935 | 0.006 | 3.945 | |
degreeBinnedGDAs | 0.086 | 0.009 | 0.095 | |
escapeAnnotation | 0 | 0 | 0 | |
evalCentralitySignificance | 0.139 | 0.018 | 0.174 | |
findLCC | 0.002 | 0.000 | 0.009 | |
getAnnotationList | 0.019 | 0.003 | 0.046 | |
getAnnotationVertexList | 0.023 | 0.004 | 0.027 | |
getBridgeness | 0.018 | 0.000 | 0.019 | |
getCentralityMatrix | 2.680 | 0.651 | 3.363 | |
getClusterSubgraphByID | 0.007 | 0.001 | 0.008 | |
getClustering | 0.007 | 0.000 | 0.007 | |
getCommunityGraph | 0.007 | 0.001 | 0.007 | |
getDType | 0.000 | 0.000 | 0.001 | |
getDYNAMO | 0.011 | 0.001 | 0.011 | |
getDiseases | 0 | 0 | 0 | |
getEntropy | 3.504 | 1.044 | 4.699 | |
getEntropyRate | 0.002 | 0.000 | 0.002 | |
getGNP | 0.006 | 0.000 | 0.008 | |
getGraphCentralityECDF | 2.739 | 0.692 | 3.552 | |
getPA | 0.006 | 0.000 | 0.008 | |
getRandomGraphCentrality | 0.146 | 0.010 | 4.063 | |
getRobustness | 0.144 | 0.009 | 0.155 | |
layoutByCluster | 0.034 | 0.000 | 0.034 | |
layoutByRecluster | 0.029 | 0.001 | 0.030 | |
makeConsensusMatrix | 0.154 | 0.021 | 0.178 | |
makeMembership | 0.001 | 0.001 | 0.001 | |
metlMatrix | 0.003 | 0.000 | 0.003 | |
normModularity | 1.715 | 0.525 | 2.271 | |
permute | 0.000 | 0.001 | 0.000 | |
plotBridgeness | 0.111 | 0.004 | 0.114 | |
plotEntropy | 3.622 | 0.962 | 4.653 | |
prepareGDA | 0.081 | 0.006 | 0.086 | |
recluster | 0.012 | 0.000 | 0.012 | |
removeVertexTerm | 0.002 | 0.000 | 0.002 | |
runPermDisease | 2.704 | 0.093 | 2.851 | |
sampleDegBinnedGDA | 0.109 | 0.008 | 0.118 | |
sampleGraphClust | 0.009 | 0.001 | 0.009 | |
unescapeAnnotation | 0 | 0 | 0 | |
zeroNA | 0 | 0 | 0 | |