Back to Multiple platform build/check report for BioC 3.21: simplified long |
|
This page was generated on 2025-01-28 11:47 -0500 (Tue, 28 Jan 2025).
Hostname | OS | Arch (*) | R version | Installed pkgs |
---|---|---|---|---|
nebbiolo1 | Linux (Ubuntu 24.04.1 LTS) | x86_64 | R Under development (unstable) (2025-01-20 r87609) -- "Unsuffered Consequences" | 4659 |
palomino7 | Windows Server 2022 Datacenter | x64 | R Under development (unstable) (2025-01-21 r87610 ucrt) -- "Unsuffered Consequences" | 4454 |
lconway | macOS 12.7.1 Monterey | x86_64 | R Under development (unstable) (2025-01-22 r87618) -- "Unsuffered Consequences" | 4465 |
kjohnson3 | macOS 13.7.1 Ventura | arm64 | R Under development (unstable) (2025-01-20 r87609) -- "Unsuffered Consequences" | 4419 |
kunpeng2 | Linux (openEuler 22.03 LTS-SP1) | aarch64 | R Under development (unstable) (2024-11-24 r87369) -- "Unsuffered Consequences" | 4409 |
Click on any hostname to see more info about the system (e.g. compilers) (*) as reported by 'uname -p', except on Windows and Mac OS X |
Package 1046/2286 | Hostname | OS / Arch | INSTALL | BUILD | CHECK | BUILD BIN | ||||||||
IPO 1.33.0 (landing page) Thomas Lieb
| nebbiolo1 | Linux (Ubuntu 24.04.1 LTS) / x86_64 | OK | OK | OK | ![]() | ||||||||
palomino7 | Windows Server 2022 Datacenter / x64 | OK | OK | OK | OK | ![]() | ||||||||
lconway | macOS 12.7.1 Monterey / x86_64 | OK | ERROR | skipped | skipped | |||||||||
kjohnson3 | macOS 13.7.1 Ventura / arm64 | OK | ERROR | skipped | skipped | |||||||||
kunpeng2 | Linux (openEuler 22.03 LTS-SP1) / aarch64 | OK | OK | TIMEOUT | ||||||||||
To the developers/maintainers of the IPO package: - Allow up to 24 hours (and sometimes 48 hours) for your latest push to git@git.bioconductor.org:packages/IPO.git to reflect on this report. See Troubleshooting Build Report for more information. - Use the following Renviron settings to reproduce errors and warnings. - If 'R CMD check' started to fail recently on the Linux builder(s) over a missing dependency, add the missing dependency to 'Suggests:' in your DESCRIPTION file. See Renviron.bioc for more information. - See Martin Grigorov's blog post for how to debug Linux ARM64 related issues on a x86_64 host. |
Package: IPO |
Version: 1.33.0 |
Command: /home/biocbuild/R/R/bin/R CMD check --install=check:IPO.install-out.txt --library=/home/biocbuild/R/R/site-library --no-vignettes --timings IPO_1.33.0.tar.gz |
StartedAt: 2025-01-28 11:42:46 -0000 (Tue, 28 Jan 2025) |
EndedAt: 2025-01-28 12:22:47 -0000 (Tue, 28 Jan 2025) |
EllapsedTime: 2400.8 seconds |
RetCode: None |
Status: TIMEOUT |
CheckDir: IPO.Rcheck |
Warnings: NA |
############################################################################## ############################################################################## ### ### Running command: ### ### /home/biocbuild/R/R/bin/R CMD check --install=check:IPO.install-out.txt --library=/home/biocbuild/R/R/site-library --no-vignettes --timings IPO_1.33.0.tar.gz ### ############################################################################## ############################################################################## * using log directory ‘/home/biocbuild/bbs-3.21-bioc/meat/IPO.Rcheck’ * using R Under development (unstable) (2024-11-24 r87369) * using platform: aarch64-unknown-linux-gnu * R was compiled by aarch64-unknown-linux-gnu-gcc (GCC) 14.2.0 GNU Fortran (GCC) 14.2.0 * running under: openEuler 24.03 (LTS) * using session charset: UTF-8 * using option ‘--no-vignettes’ * checking for file ‘IPO/DESCRIPTION’ ... OK * checking extension type ... Package * this is package ‘IPO’ version ‘1.33.0’ * checking package namespace information ... OK * checking package dependencies ... OK * checking if this is a source package ... OK * checking if there is a namespace ... OK * checking for hidden files and directories ... OK * checking for portable file names ... OK * checking for sufficient/correct file permissions ... OK * checking whether package ‘IPO’ can be installed ... OK * checking installed package size ... OK * checking package directory ... OK * checking ‘build’ directory ... OK * checking DESCRIPTION meta-information ... NOTE License components with restrictions not permitted: GPL (>= 2) + file LICENSE * checking top-level files ... OK * checking for left-over files ... OK * checking index information ... OK * checking package subdirectories ... OK * checking code files for non-ASCII characters ... OK * checking R files for syntax errors ... OK * checking whether the package can be loaded ... OK * checking whether the package can be loaded with stated dependencies ... OK * checking whether the package can be unloaded cleanly ... OK * checking whether the namespace can be loaded with stated dependencies ... OK * checking whether the namespace can be unloaded cleanly ... OK * checking loading without being on the library search path ... OK * checking dependencies in R code ... OK * checking S3 generic/method consistency ... OK * checking replacement functions ... OK * checking foreign function calls ... OK * checking R code for possible problems ... OK * checking Rd files ... OK * checking Rd metadata ... OK * checking Rd cross-references ... OK * checking for missing documentation entries ... OK * checking for code/documentation mismatches ... OK * checking Rd \usage sections ... OK * checking Rd contents ... OK * checking for unstated dependencies in examples ... OK * checking files in ‘vignettes’ ... OK * checking examples ... OK Examples with CPU (user + system) or elapsed time > 5s user system elapsed findIsotopes.IPO 4.168 1.364 5.432 calcPPS 4.540 0.188 8.496 * checking for unstated dependencies in ‘tests’ ... OK * checking tests ... Running ‘runTests.R’
IPO.Rcheck/00install.out
############################################################################## ############################################################################## ### ### Running command: ### ### /home/biocbuild/R/R/bin/R CMD INSTALL IPO ### ############################################################################## ############################################################################## * installing to library ‘/home/biocbuild/R/R-4.5.0-devel_2024-11-24/site-library’ * installing *source* package ‘IPO’ ... ** using staged installation ** R ** inst ** byte-compile and prepare package for lazy loading ** help *** installing help indices ** building package indices ** installing vignettes ** testing if installed package can be loaded from temporary location ** testing if installed package can be loaded from final location ** testing if installed package keeps a record of temporary installation path * DONE (IPO)
IPO.Rcheck/tests/runTests.Rout
R Under development (unstable) (2024-11-24 r87369) -- "Unsuffered Consequences" Copyright (C) 2024 The R Foundation for Statistical Computing Platform: aarch64-unknown-linux-gnu R is free software and comes with ABSOLUTELY NO WARRANTY. You are welcome to redistribute it under certain conditions. Type 'license()' or 'licence()' for distribution details. R is a collaborative project with many contributors. Type 'contributors()' for more information and 'citation()' on how to cite R or R packages in publications. Type 'demo()' for some demos, 'help()' for on-line help, or 'help.start()' for an HTML browser interface to help. Type 'q()' to quit R. > library("msdata") > > BiocGenerics:::testPackage("IPO") This is xcms version 4.5.2 Attaching package: 'xcms' The following object is masked from 'package:stats': sigma Attaching package: 'generics' The following objects are masked from 'package:base': as.difftime, as.factor, as.ordered, intersect, is.element, setdiff, setequal, union Attaching package: 'BiocGenerics' The following objects are masked from 'package:stats': IQR, mad, sd, var, xtabs The following objects are masked from 'package:base': Filter, Find, Map, Position, Reduce, anyDuplicated, aperm, append, as.data.frame, basename, cbind, colnames, dirname, do.call, duplicated, eval, evalq, get, grep, grepl, is.unsorted, lapply, mapply, match, mget, order, paste, pmax, pmax.int, pmin, pmin.int, rank, rbind, rownames, sapply, saveRDS, table, tapply, unique, unsplit, which.max, which.min Welcome to Bioconductor Vignettes contain introductory material; view with 'browseVignettes()'. To cite Bioconductor, see 'citation("Biobase")', and for packages 'citation("pkgname")'. starting new DoE with: min_peakwidth: c(3, 9.5) max_peakwidth: c(10, 20) ppm: 56 mzdiff: -0.001 snthresh: 10 noise: 0 prefilter: 3 value_of_prefilter: 100 mzCenterFun: wMean integrate: 1 fitgauss: FALSE verbose.columns: FALSE 1 Detecting mass traces at 56 ppm ... OK Detecting chromatographic peaks in 805 regions of interest ... OK: 235 found. 2 Detecting mass traces at 56 ppm ... OK Detecting chromatographic peaks in 283 regions of interest ... FAIL: none found! 3 Detecting mass traces at 56 ppm ... OK Detecting chromatographic peaks in 805 regions of interest ... OK: 88 found. 4 Detecting mass traces at 56 ppm ... OK Detecting chromatographic peaks in 283 regions of interest ... FAIL: none found! 5 Detecting mass traces at 56 ppm ... OK Detecting chromatographic peaks in 536 regions of interest ... OK: 194 found. 6 Detecting mass traces at 56 ppm ... OK Detecting chromatographic peaks in 805 regions of interest ... OK: 215 found. 7 Detecting mass traces at 56 ppm ... OK Detecting chromatographic peaks in 283 regions of interest ... FAIL: none found! 8 Detecting mass traces at 56 ppm ... OK Detecting chromatographic peaks in 536 regions of interest ... OK: 149 found. 9 Detecting mass traces at 56 ppm ... OK Detecting chromatographic peaks in 536 regions of interest ... OK: 101 found. 10 Detecting mass traces at 56 ppm ... OK Detecting chromatographic peaks in 536 regions of interest ... OK: 194 found. Detecting mass traces at 56 ppm ... OK Detecting chromatographic peaks in 628 regions of interest ... OK: 225 found. starting new DoE with: min_peakwidth: c(3, 8.2) max_peakwidth: c(9.2, 19.2) ppm: 56 mzdiff: -0.001 snthresh: 10 noise: 0 prefilter: 3 value_of_prefilter: 100 mzCenterFun: wMean integrate: 1 fitgauss: FALSE verbose.columns: FALSE 1 Detecting mass traces at 56 ppm ... OK Detecting chromatographic peaks in 805 regions of interest ... OK: 235 found. 2 Detecting mass traces at 56 ppm ... OK Detecting chromatographic peaks in 372 regions of interest ... FAIL: none found! 3 Detecting mass traces at 56 ppm ... OK Detecting chromatographic peaks in 805 regions of interest ... OK: 143 found. 4 Detecting mass traces at 56 ppm ... OK Detecting chromatographic peaks in 372 regions of interest ... FAIL: none found! 5 Detecting mass traces at 56 ppm ... OK Detecting chromatographic peaks in 628 regions of interest ... OK: 222 found. 6 Detecting mass traces at 56 ppm ... OK Detecting chromatographic peaks in 805 regions of interest ... OK: 225 found. 7 Detecting mass traces at 56 ppm ... OK Detecting chromatographic peaks in 372 regions of interest ... FAIL: none found! 8 Detecting mass traces at 56 ppm ... OK Detecting chromatographic peaks in 628 regions of interest ... OK: 144 found. 9 Detecting mass traces at 56 ppm ... OK Detecting chromatographic peaks in 628 regions of interest ... OK: 139 found. 10 Detecting mass traces at 56 ppm ... OK Detecting chromatographic peaks in 628 regions of interest ... OK: 222 found. Detecting mass traces at 56 ppm ... OK Detecting chromatographic peaks in 718 regions of interest ... OK: 220 found. no increase, stopping best parameter settings: min_peakwidth: 5.6 max_peakwidth: 13 ppm: 56 mzdiff: -0.001 snthresh: 10 noise: 0 prefilter: 3 value_of_prefilter: 100 mzCenterFun: wMean integrate: 1 fitgauss: FALSE verbose.columns: FALSE starting new DoE with: min_peakwidth: c(3, 9.5) max_peakwidth: c(10, 20) ppm: 56 mzdiff: -0.001 snthresh: 10 noise: 0 prefilter: 3 value_of_prefilter: 100 mzCenterFun: wMean integrate: 1 fitgauss: FALSE verbose.columns: FALSE 1 Detecting mass traces at 56 ppm ... OK Detecting chromatographic peaks in 805 regions of interest ... OK: 235 found. xsAnnotate contains no pseudospectra. Regroup all peaks into one! Generating peak matrix! Run isotope peak annotation % finished: 100 Found isotopes: 59 2 Detecting mass traces at 56 ppm ... OK Detecting chromatographic peaks in 283 regions of interest ... FAIL: none found! 3 Detecting mass traces at 56 ppm ... OK Detecting chromatographic peaks in 805 regions of interest ... OK: 88 found. xsAnnotate contains no pseudospectra. Regroup all peaks into one! Generating peak matrix! Run isotope peak annotation % finished: 100 Found isotopes: 18 4 Detecting mass traces at 56 ppm ... OK Detecting chromatographic peaks in 283 regions of interest ... FAIL: none found! 5 Detecting mass traces at 56 ppm ... OK Detecting chromatographic peaks in 536 regions of interest ... OK: 194 found. xsAnnotate contains no pseudospectra. Regroup all peaks into one! Generating peak matrix! Run isotope peak annotation % finished: 100 Found isotopes: 52 6 Detecting mass traces at 56 ppm ... OK Detecting chromatographic peaks in 805 regions of interest ... OK: 215 found. xsAnnotate contains no pseudospectra. Regroup all peaks into one! Generating peak matrix! Run isotope peak annotation % finished: 100 Found isotopes: 55 7 Detecting mass traces at 56 ppm ... OK Detecting chromatographic peaks in 283 regions of interest ... FAIL: none found! 8 Detecting mass traces at 56 ppm ... OK Detecting chromatographic peaks in 536 regions of interest ... OK: 149 found. xsAnnotate contains no pseudospectra. Regroup all peaks into one! Generating peak matrix! Run isotope peak annotation % finished: 100 Found isotopes: 35 9
IPO.Rcheck/IPO-Ex.timings
name | user | system | elapsed | |
IPO-package | 0.001 | 0.000 | 0.000 | |
attachList | 0.001 | 0.000 | 0.001 | |
calcPPS | 4.540 | 0.188 | 8.496 | |
calculateXcmsSet | 2.964 | 0.929 | 4.189 | |
combineParams | 0.017 | 0.004 | 0.021 | |
createModel | 3.439 | 0.907 | 0.104 | |
decode | 0.001 | 0.000 | 0.001 | |
findIsotopes.CAMERA | 3.105 | 1.077 | 4.074 | |
findIsotopes.IPO | 4.168 | 1.364 | 5.432 | |
getBbdParameter | 0.004 | 0.000 | 0.004 | |
getCcdParameter | 0.010 | 0.000 | 0.009 | |
getDefaultRetCorCenterSample | 0.001 | 0.000 | 0.000 | |
getDefaultRetGroupStartingParams | 0.001 | 0.000 | 0.001 | |
getDefaultXcmsSetStartingParams | 0.000 | 0.000 | 0.001 | |
getNormalizedResponse | 0 | 0 | 0 | |
getRGTVValues | 0 | 0 | 0 | |
optimizeRetGroup | 0 | 0 | 0 | |
optimizeXcmsSet | 0.001 | 0.000 | 0.000 | |
toMatrix | 0.002 | 0.000 | 0.001 | |
typeCastParams | 0.001 | 0.000 | 0.000 | |
writeParamsTable | 0.005 | 0.000 | 0.005 | |
writeRScript | 0.002 | 0.000 | 0.002 | |