Back to Multiple platform build/check report for BioC 3.21:   simplified   long
ABCDEFGH[I]JKLMNOPQRSTUVWXYZ

This page was generated on 2025-02-06 11:39 -0500 (Thu, 06 Feb 2025).

HostnameOSArch (*)R versionInstalled pkgs
nebbiolo1Linux (Ubuntu 24.04.1 LTS)x86_64R Under development (unstable) (2025-01-20 r87609) -- "Unsuffered Consequences" 4719
palomino7Windows Server 2022 Datacenterx64R Under development (unstable) (2025-01-21 r87610 ucrt) -- "Unsuffered Consequences" 4480
lconwaymacOS 12.7.1 Montereyx86_64R Under development (unstable) (2025-01-22 r87618) -- "Unsuffered Consequences" 4491
kjohnson3macOS 13.7.1 Venturaarm64R Under development (unstable) (2025-01-20 r87609) -- "Unsuffered Consequences" 4444
Click on any hostname to see more info about the system (e.g. compilers)      (*) as reported by 'uname -p', except on Windows and Mac OS X

Package 1052/2295HostnameOS / ArchINSTALLBUILDCHECKBUILD BIN
ISAnalytics 1.17.1  (landing page)
Francesco Gazzo
Snapshot Date: 2025-02-05 13:48 -0500 (Wed, 05 Feb 2025)
git_url: https://git.bioconductor.org/packages/ISAnalytics
git_branch: devel
git_last_commit: 3b0f63a
git_last_commit_date: 2024-12-05 05:16:21 -0500 (Thu, 05 Dec 2024)
nebbiolo1Linux (Ubuntu 24.04.1 LTS) / x86_64  OK    OK    OK  UNNEEDED, same version is already published
palomino7Windows Server 2022 Datacenter / x64  OK    OK    OK    OK  UNNEEDED, same version is already published
lconwaymacOS 12.7.1 Monterey / x86_64  OK    OK    OK    OK  UNNEEDED, same version is already published
kjohnson3macOS 13.7.1 Ventura / arm64  OK    OK    OK    OK  UNNEEDED, same version is already published


CHECK results for ISAnalytics on nebbiolo1

To the developers/maintainers of the ISAnalytics package:
- Allow up to 24 hours (and sometimes 48 hours) for your latest push to git@git.bioconductor.org:packages/ISAnalytics.git to reflect on this report. See Troubleshooting Build Report for more information.
- Use the following Renviron settings to reproduce errors and warnings.
- If 'R CMD check' started to fail recently on the Linux builder(s) over a missing dependency, add the missing dependency to 'Suggests:' in your DESCRIPTION file. See Renviron.bioc for more information.

raw results


Summary

Package: ISAnalytics
Version: 1.17.1
Command: /home/biocbuild/bbs-3.21-bioc/R/bin/R CMD check --install=check:ISAnalytics.install-out.txt --library=/home/biocbuild/bbs-3.21-bioc/R/site-library --timings ISAnalytics_1.17.1.tar.gz
StartedAt: 2025-02-05 23:29:49 -0500 (Wed, 05 Feb 2025)
EndedAt: 2025-02-05 23:39:34 -0500 (Wed, 05 Feb 2025)
EllapsedTime: 584.9 seconds
RetCode: 0
Status:   OK  
CheckDir: ISAnalytics.Rcheck
Warnings: 0

Command output

##############################################################################
##############################################################################
###
### Running command:
###
###   /home/biocbuild/bbs-3.21-bioc/R/bin/R CMD check --install=check:ISAnalytics.install-out.txt --library=/home/biocbuild/bbs-3.21-bioc/R/site-library --timings ISAnalytics_1.17.1.tar.gz
###
##############################################################################
##############################################################################


* using log directory ‘/home/biocbuild/bbs-3.21-bioc/meat/ISAnalytics.Rcheck’
* using R Under development (unstable) (2025-01-20 r87609)
* using platform: x86_64-pc-linux-gnu
* R was compiled by
    gcc (Ubuntu 13.3.0-6ubuntu2~24.04) 13.3.0
    GNU Fortran (Ubuntu 13.3.0-6ubuntu2~24.04) 13.3.0
* running under: Ubuntu 24.04.1 LTS
* using session charset: UTF-8
* checking for file ‘ISAnalytics/DESCRIPTION’ ... OK
* this is package ‘ISAnalytics’ version ‘1.17.1’
* package encoding: UTF-8
* checking package namespace information ... OK
* checking package dependencies ... OK
* checking if this is a source package ... OK
* checking if there is a namespace ... OK
* checking for hidden files and directories ... OK
* checking for portable file names ... OK
* checking for sufficient/correct file permissions ... OK
* checking whether package ‘ISAnalytics’ can be installed ... OK
* checking installed package size ... OK
* checking package directory ... OK
* checking ‘build’ directory ... OK
* checking DESCRIPTION meta-information ... OK
* checking top-level files ... OK
* checking for left-over files ... OK
* checking index information ... OK
* checking package subdirectories ... OK
* checking code files for non-ASCII characters ... OK
* checking R files for syntax errors ... OK
* checking whether the package can be loaded ... OK
* checking whether the package can be loaded with stated dependencies ... OK
* checking whether the package can be unloaded cleanly ... OK
* checking whether the namespace can be loaded with stated dependencies ... OK
* checking whether the namespace can be unloaded cleanly ... OK
* checking loading without being on the library search path ... OK
* checking whether startup messages can be suppressed ... OK
* checking dependencies in R code ... OK
* checking S3 generic/method consistency ... OK
* checking replacement functions ... OK
* checking foreign function calls ... OK
* checking R code for possible problems ... OK
* checking Rd files ... NOTE
checkRd: (-1) refGenes_hg19.Rd:21: Lost braces; missing escapes or markup?
    21 | \item Download from {http://hgdownload.soe.ucsc.edu/goldenPath/hg19/database/}
       |                     ^
* checking Rd metadata ... OK
* checking Rd cross-references ... OK
* checking for missing documentation entries ... OK
* checking for code/documentation mismatches ... OK
* checking Rd \usage sections ... OK
* checking Rd contents ... OK
* checking for unstated dependencies in examples ... OK
* checking contents of ‘data’ directory ... OK
* checking data for non-ASCII characters ... OK
* checking data for ASCII and uncompressed saves ... OK
* checking files in ‘vignettes’ ... OK
* checking examples ... OK
Examples with CPU (user + system) or elapsed time > 5s
                                user system elapsed
sharing_venn                   2.851  0.245  29.894
integration_alluvial_plot      2.820  0.073   7.972
import_parallel_Vispa2Matrices 1.978  0.209  12.403
CIS_grubbs_overtime            1.581  0.123   6.535
sharing_heatmap                1.389  0.078   8.627
import_Vispa2_stats            1.290  0.144   6.157
top_cis_overtime_heatmap       1.369  0.049   6.315
iss_source                     0.906  0.048   6.228
realign_after_collisions       0.831  0.065   5.191
HSC_population_plot            0.878  0.012   5.904
is_sharing                     0.830  0.034   6.791
compute_near_integrations      0.714  0.013   8.974
remove_collisions              0.692  0.012   5.157
HSC_population_size_estimate   0.600  0.062   5.537
* checking for unstated dependencies in ‘tests’ ... OK
* checking tests ...
  Running ‘testthat.R’
 OK
* checking for unstated dependencies in vignettes ... OK
* checking package vignettes ... OK
* checking re-building of vignette outputs ... OK
* checking PDF version of manual ... OK
* DONE

Status: 1 NOTE
See
  ‘/home/biocbuild/bbs-3.21-bioc/meat/ISAnalytics.Rcheck/00check.log’
for details.


Installation output

ISAnalytics.Rcheck/00install.out

##############################################################################
##############################################################################
###
### Running command:
###
###   /home/biocbuild/bbs-3.21-bioc/R/bin/R CMD INSTALL ISAnalytics
###
##############################################################################
##############################################################################


* installing to library ‘/home/biocbuild/bbs-3.21-bioc/R/site-library’
* installing *source* package ‘ISAnalytics’ ...
** this is package ‘ISAnalytics’ version ‘1.17.1’
** using staged installation
** R
** data
** inst
** byte-compile and prepare package for lazy loading
** help
*** installing help indices
*** copying figures
** building package indices
** installing vignettes
** testing if installed package can be loaded from temporary location
** testing if installed package can be loaded from final location
** testing if installed package keeps a record of temporary installation path
* DONE (ISAnalytics)

Tests output

ISAnalytics.Rcheck/tests/testthat.Rout


R Under development (unstable) (2025-01-20 r87609) -- "Unsuffered Consequences"
Copyright (C) 2025 The R Foundation for Statistical Computing
Platform: x86_64-pc-linux-gnu

R is free software and comes with ABSOLUTELY NO WARRANTY.
You are welcome to redistribute it under certain conditions.
Type 'license()' or 'licence()' for distribution details.

R is a collaborative project with many contributors.
Type 'contributors()' for more information and
'citation()' on how to cite R or R packages in publications.

Type 'demo()' for some demos, 'help()' for on-line help, or
'help.start()' for an HTML browser interface to help.
Type 'q()' to quit R.

> library(testthat)
> library(ISAnalytics)
> 
> test_check("ISAnalytics")
Loading required namespace: plotly
Loading required namespace: rmarkdown
Report correctly saved
i Report saved to: /tmp/Rtmp0NhMUA/file395de97f967fc4/2025-02-05_collision_removal_report.html
Report correctly saved
i Report saved to: /tmp/Rtmp0NhMUA/file395de9586be9eb/2025-02-05_outlier_test_pool_fragments_report.html
[ FAIL 0 | WARN 1 | SKIP 0 | PASS 834 ]

[ FAIL 0 | WARN 1 | SKIP 0 | PASS 834 ]
> 
> proc.time()
   user  system elapsed 
 91.461   7.201 253.358 

Example timings

ISAnalytics.Rcheck/ISAnalytics-Ex.timings

nameusersystemelapsed
CIS_grubbs0.9930.0801.076
CIS_grubbs_overtime1.5810.1236.535
CIS_volcano_plot1.1950.0211.215
HSC_population_plot0.8780.0125.904
HSC_population_size_estimate0.6000.0625.537
NGSdataExplorer000
aggregate_metadata0.1430.0010.143
aggregate_values_by_key0.0690.0010.070
annotation_issues0.0280.0000.028
as_sparse_matrix0.0530.0000.052
available_outlier_tests0.0010.0000.000
available_tags0.0230.0010.023
blood_lineages_default0.0280.0010.029
circos_genomic_density0.0000.0000.001
clinical_relevant_suspicious_genes0.0120.0000.013
comparison_matrix0.0290.0000.030
compute_abundance0.0380.0000.039
compute_near_integrations0.7140.0138.974
cumulative_count_union000
cumulative_is0.1550.0020.156
date_formats000
default_af_transform0.0010.0000.000
default_iss_file_prefixes000
default_meta_agg0.0220.0000.021
default_rec_agg_lambdas0.0010.0000.000
default_report_path0.0070.0000.007
default_stats0.9840.0581.043
enable_progress_bars0.0140.0010.015
export_ISA_settings0.0710.0000.072
fisher_scatterplot1.3880.0981.487
gene_frequency_fisher0.8710.0040.875
generate_Vispa2_launch_AF0.1790.0210.199
generate_blank_association_file0.020.000.02
generate_default_folder_structure0.3770.0970.471
import_ISA_settings0.0690.0010.070
import_Vispa2_stats1.2900.1446.157
import_association_file0.5780.1300.710
import_parallel_Vispa2Matrices 1.978 0.20912.403
import_single_Vispa2Matrix0.8440.1090.955
inspect_tags0.0110.0020.013
integration_alluvial_plot2.8200.0737.972
is_sharing0.8300.0346.791
iss_source0.9060.0486.228
known_clinical_oncogenes0.0100.0030.013
mandatory_IS_vars0.0860.0310.118
matching_options000
outlier_filter0.1600.0250.186
outliers_by_pool_fragments0.1550.0070.161
pcr_id_column0.0210.0000.020
purity_filter0.3460.0020.348
quantification_types000
realign_after_collisions0.8310.0655.191
reduced_AF_columns0.0440.0010.045
refGene_table_cols0.0000.0000.001
remove_collisions0.6920.0125.157
reset_mandatory_IS_vars0.0080.0000.007
sample_statistics0.3150.0650.380
separate_quant_matrices0.0160.0010.017
set_mandatory_IS_vars0.0970.0120.109
set_matrix_file_suffixes0.0190.0010.019
sharing_heatmap1.3890.0788.627
sharing_venn 2.851 0.24529.894
threshold_filter000
top_abund_tableGrob0.6530.0410.695
top_cis_overtime_heatmap1.3690.0496.315
top_integrations0.0270.0000.027
top_targeted_genes0.4460.0260.472
transform_columns0.0220.0020.024