Back to Multiple platform build/check report for BioC 3.21:   simplified   long
ABCDEFGH[I]JKLMNOPQRSTUVWXYZ

This page was generated on 2025-01-28 11:47 -0500 (Tue, 28 Jan 2025).

HostnameOSArch (*)R versionInstalled pkgs
nebbiolo1Linux (Ubuntu 24.04.1 LTS)x86_64R Under development (unstable) (2025-01-20 r87609) -- "Unsuffered Consequences" 4659
palomino7Windows Server 2022 Datacenterx64R Under development (unstable) (2025-01-21 r87610 ucrt) -- "Unsuffered Consequences" 4454
lconwaymacOS 12.7.1 Montereyx86_64R Under development (unstable) (2025-01-22 r87618) -- "Unsuffered Consequences" 4465
kjohnson3macOS 13.7.1 Venturaarm64R Under development (unstable) (2025-01-20 r87609) -- "Unsuffered Consequences" 4419
kunpeng2Linux (openEuler 22.03 LTS-SP1)aarch64R Under development (unstable) (2024-11-24 r87369) -- "Unsuffered Consequences" 4409
Click on any hostname to see more info about the system (e.g. compilers)      (*) as reported by 'uname -p', except on Windows and Mac OS X

Package 1048/2286HostnameOS / ArchINSTALLBUILDCHECKBUILD BIN
ISAnalytics 1.17.1  (landing page)
Francesco Gazzo
Snapshot Date: 2025-01-27 13:40 -0500 (Mon, 27 Jan 2025)
git_url: https://git.bioconductor.org/packages/ISAnalytics
git_branch: devel
git_last_commit: 3b0f63a
git_last_commit_date: 2024-12-05 05:16:21 -0500 (Thu, 05 Dec 2024)
nebbiolo1Linux (Ubuntu 24.04.1 LTS) / x86_64  OK    OK    OK  UNNEEDED, same version is already published
palomino7Windows Server 2022 Datacenter / x64  OK    OK    OK    OK  UNNEEDED, same version is already published
lconwaymacOS 12.7.1 Monterey / x86_64  OK    OK    OK    OK  UNNEEDED, same version is already published
kjohnson3macOS 13.7.1 Ventura / arm64  OK    OK    OK    OK  UNNEEDED, same version is already published
kunpeng2Linux (openEuler 22.03 LTS-SP1) / aarch64  OK    OK    OK  


CHECK results for ISAnalytics on kunpeng2

To the developers/maintainers of the ISAnalytics package:
- Allow up to 24 hours (and sometimes 48 hours) for your latest push to git@git.bioconductor.org:packages/ISAnalytics.git to reflect on this report. See Troubleshooting Build Report for more information.
- Use the following Renviron settings to reproduce errors and warnings.
- If 'R CMD check' started to fail recently on the Linux builder(s) over a missing dependency, add the missing dependency to 'Suggests:' in your DESCRIPTION file. See Renviron.bioc for more information.
- See Martin Grigorov's blog post for how to debug Linux ARM64 related issues on a x86_64 host.

raw results


Summary

Package: ISAnalytics
Version: 1.17.1
Command: /home/biocbuild/R/R/bin/R CMD check --install=check:ISAnalytics.install-out.txt --library=/home/biocbuild/R/R/site-library --no-vignettes --timings ISAnalytics_1.17.1.tar.gz
StartedAt: 2025-01-28 11:43:48 -0000 (Tue, 28 Jan 2025)
EndedAt: 2025-01-28 11:53:41 -0000 (Tue, 28 Jan 2025)
EllapsedTime: 592.7 seconds
RetCode: 0
Status:   OK  
CheckDir: ISAnalytics.Rcheck
Warnings: 0

Command output

##############################################################################
##############################################################################
###
### Running command:
###
###   /home/biocbuild/R/R/bin/R CMD check --install=check:ISAnalytics.install-out.txt --library=/home/biocbuild/R/R/site-library --no-vignettes --timings ISAnalytics_1.17.1.tar.gz
###
##############################################################################
##############################################################################


* using log directory ‘/home/biocbuild/bbs-3.21-bioc/meat/ISAnalytics.Rcheck’
* using R Under development (unstable) (2024-11-24 r87369)
* using platform: aarch64-unknown-linux-gnu
* R was compiled by
    aarch64-unknown-linux-gnu-gcc (GCC) 14.2.0
    GNU Fortran (GCC) 14.2.0
* running under: openEuler 24.03 (LTS)
* using session charset: UTF-8
* using option ‘--no-vignettes’
* checking for file ‘ISAnalytics/DESCRIPTION’ ... OK
* this is package ‘ISAnalytics’ version ‘1.17.1’
* package encoding: UTF-8
* checking package namespace information ... OK
* checking package dependencies ... OK
* checking if this is a source package ... OK
* checking if there is a namespace ... OK
* checking for hidden files and directories ... OK
* checking for portable file names ... OK
* checking for sufficient/correct file permissions ... OK
* checking whether package ‘ISAnalytics’ can be installed ... OK
* checking installed package size ... OK
* checking package directory ... OK
* checking ‘build’ directory ... OK
* checking DESCRIPTION meta-information ... OK
* checking top-level files ... OK
* checking for left-over files ... OK
* checking index information ... OK
* checking package subdirectories ...Warning: program compiled against libxml 212 using older 211
 OK
* checking code files for non-ASCII characters ... OK
* checking R files for syntax errors ... OK
* checking whether the package can be loaded ... OK
* checking whether the package can be loaded with stated dependencies ... OK
* checking whether the package can be unloaded cleanly ... OK
* checking whether the namespace can be loaded with stated dependencies ... OK
* checking whether the namespace can be unloaded cleanly ... OK
* checking loading without being on the library search path ... OK
* checking whether startup messages can be suppressed ... OK
* checking dependencies in R code ... OK
* checking S3 generic/method consistency ... OK
* checking replacement functions ... OK
* checking foreign function calls ... OK
* checking R code for possible problems ... OK
* checking Rd files ... NOTE
checkRd: (-1) refGenes_hg19.Rd:21: Lost braces; missing escapes or markup?
    21 | \item Download from {http://hgdownload.soe.ucsc.edu/goldenPath/hg19/database/}
       |                     ^
* checking Rd metadata ... OK
* checking Rd cross-references ... OK
* checking for missing documentation entries ... OK
* checking for code/documentation mismatches ... OK
* checking Rd \usage sections ... OK
* checking Rd contents ... OK
* checking for unstated dependencies in examples ... OK
* checking contents of ‘data’ directory ... OK
* checking data for non-ASCII characters ... OK
* checking data for ASCII and uncompressed saves ... OK
* checking files in ‘vignettes’ ... OK
* checking examples ... OK
Examples with CPU (user + system) or elapsed time > 5s
                                user system elapsed
integration_alluvial_plot      4.109  0.165  11.315
sharing_venn                   3.431  0.228  44.283
import_parallel_Vispa2Matrices 2.222  0.149  15.336
CIS_grubbs_overtime            1.720  0.194   8.272
sharing_heatmap                1.662  0.101  11.445
top_cis_overtime_heatmap       1.573  0.178   8.946
import_Vispa2_stats            1.441  0.133   7.313
iss_source                     1.045  0.099   7.998
HSC_population_plot            0.998  0.039   7.260
is_sharing                     0.930  0.082   9.435
realign_after_collisions       0.901  0.048   6.672
remove_collisions              0.814  0.132   6.653
compute_near_integrations      0.680  0.017  11.562
HSC_population_size_estimate   0.661  0.000   6.694
* checking for unstated dependencies in ‘tests’ ... OK
* checking tests ...
  Running ‘testthat.R’
 OK
* checking for unstated dependencies in vignettes ... OK
* checking package vignettes ... OK
* checking running R code from vignettes ... SKIPPED
* checking re-building of vignette outputs ... SKIPPED
* checking PDF version of manual ... OK
* DONE

Status: 1 NOTE
See
  ‘/home/biocbuild/bbs-3.21-bioc/meat/ISAnalytics.Rcheck/00check.log’
for details.


Installation output

ISAnalytics.Rcheck/00install.out

##############################################################################
##############################################################################
###
### Running command:
###
###   /home/biocbuild/R/R/bin/R CMD INSTALL ISAnalytics
###
##############################################################################
##############################################################################


* installing to library ‘/home/biocbuild/R/R-4.5.0-devel_2024-11-24/site-library’
* installing *source* package ‘ISAnalytics’ ...
** using staged installation
** R
** data
** inst
** byte-compile and prepare package for lazy loading
** help
*** installing help indices
*** copying figures
** building package indices
** installing vignettes
** testing if installed package can be loaded from temporary location
** testing if installed package can be loaded from final location
** testing if installed package keeps a record of temporary installation path
* DONE (ISAnalytics)

Tests output

ISAnalytics.Rcheck/tests/testthat.Rout


R Under development (unstable) (2024-11-24 r87369) -- "Unsuffered Consequences"
Copyright (C) 2024 The R Foundation for Statistical Computing
Platform: aarch64-unknown-linux-gnu

R is free software and comes with ABSOLUTELY NO WARRANTY.
You are welcome to redistribute it under certain conditions.
Type 'license()' or 'licence()' for distribution details.

R is a collaborative project with many contributors.
Type 'contributors()' for more information and
'citation()' on how to cite R or R packages in publications.

Type 'demo()' for some demos, 'help()' for on-line help, or
'help.start()' for an HTML browser interface to help.
Type 'q()' to quit R.

> library(testthat)
> library(ISAnalytics)
> 
> test_check("ISAnalytics")
Loading required namespace: plotly
Loading required namespace: rmarkdown
Report correctly saved
i Report saved to: /home/biocbuild/tmp/Rtmp20VeeY/file2e59296ed638d9/2025-01-28_collision_removal_report.html
Report correctly saved
i Report saved to: /home/biocbuild/tmp/Rtmp20VeeY/file2e5929eb35903/2025-01-28_outlier_test_pool_fragments_report.html
[ FAIL 0 | WARN 1 | SKIP 0 | PASS 834 ]

[ FAIL 0 | WARN 1 | SKIP 0 | PASS 834 ]
> 
> proc.time()
   user  system elapsed 
127.055   8.644 330.538 

Example timings

ISAnalytics.Rcheck/ISAnalytics-Ex.timings

nameusersystemelapsed
CIS_grubbs1.3720.0441.419
CIS_grubbs_overtime1.7200.1948.272
CIS_volcano_plot1.8990.1522.056
HSC_population_plot0.9980.0397.260
HSC_population_size_estimate0.6610.0006.694
NGSdataExplorer000
aggregate_metadata0.1510.0000.152
aggregate_values_by_key0.0870.0000.087
annotation_issues0.0360.0000.036
as_sparse_matrix0.0690.0000.069
available_outlier_tests000
available_tags0.0290.0000.029
blood_lineages_default0.0520.0080.061
circos_genomic_density0.0000.0000.001
clinical_relevant_suspicious_genes0.0170.0000.018
comparison_matrix0.0410.0000.042
compute_abundance0.0480.0000.048
compute_near_integrations 0.680 0.01711.562
cumulative_count_union000
cumulative_is0.2240.0000.225
date_formats0.0000.0000.001
default_af_transform0.0010.0000.001
default_iss_file_prefixes000
default_meta_agg0.0230.0000.023
default_rec_agg_lambdas0.0090.0000.009
default_report_path0.0090.0080.018
default_stats1.3820.0761.461
enable_progress_bars0.0230.0000.023
export_ISA_settings0.1010.0040.105
fisher_scatterplot1.5090.0441.557
gene_frequency_fisher1.6470.0401.691
generate_Vispa2_launch_AF0.2530.0230.277
generate_blank_association_file0.0140.0050.018
generate_default_folder_structure0.4950.0630.559
import_ISA_settings0.0880.0000.089
import_Vispa2_stats1.4410.1337.313
import_association_file0.7860.0940.882
import_parallel_Vispa2Matrices 2.222 0.14915.336
import_single_Vispa2Matrix1.1080.1731.285
inspect_tags0.020.000.02
integration_alluvial_plot 4.109 0.16511.315
is_sharing0.9300.0829.435
iss_source1.0450.0997.998
known_clinical_oncogenes0.0040.0120.016
mandatory_IS_vars0.1180.0200.138
matching_options000
outlier_filter0.2340.0240.259
outliers_by_pool_fragments0.2340.0080.243
pcr_id_column0.0260.0040.029
purity_filter0.5180.0400.559
quantification_types000
realign_after_collisions0.9010.0486.672
reduced_AF_columns0.0580.0240.081
refGene_table_cols000
remove_collisions0.8140.1326.653
reset_mandatory_IS_vars0.0070.0000.007
sample_statistics0.4440.0280.473
separate_quant_matrices0.0160.0040.019
set_mandatory_IS_vars0.1290.0120.140
set_matrix_file_suffixes0.0260.0000.026
sharing_heatmap 1.662 0.10111.445
sharing_venn 3.431 0.22844.283
threshold_filter000
top_abund_tableGrob0.9570.0551.016
top_cis_overtime_heatmap1.5730.1788.946
top_integrations0.0390.0160.055
top_targeted_genes0.6620.0600.724
transform_columns0.0200.0070.027