Back to Multiple platform build/check report for BioC 3.21:   simplified   long
ABCDEFGHIJKL[M]NOPQRSTUVWXYZ

This page was generated on 2025-02-04 11:44 -0500 (Tue, 04 Feb 2025).

HostnameOSArch (*)R versionInstalled pkgs
nebbiolo1Linux (Ubuntu 24.04.1 LTS)x86_64R Under development (unstable) (2025-01-20 r87609) -- "Unsuffered Consequences" 4716
palomino7Windows Server 2022 Datacenterx64R Under development (unstable) (2025-01-21 r87610 ucrt) -- "Unsuffered Consequences" 4478
lconwaymacOS 12.7.1 Montereyx86_64R Under development (unstable) (2025-01-22 r87618) -- "Unsuffered Consequences" 4489
kjohnson3macOS 13.7.1 Venturaarm64R Under development (unstable) (2025-01-20 r87609) -- "Unsuffered Consequences" 4442
Click on any hostname to see more info about the system (e.g. compilers)      (*) as reported by 'uname -p', except on Windows and Mac OS X

Package 1337/2295HostnameOS / ArchINSTALLBUILDCHECKBUILD BIN
MsBackendRawFileReader 1.13.1  (landing page)
Christian Panse
Snapshot Date: 2025-02-03 13:40 -0500 (Mon, 03 Feb 2025)
git_url: https://git.bioconductor.org/packages/MsBackendRawFileReader
git_branch: devel
git_last_commit: d2c3762
git_last_commit_date: 2024-11-07 01:23:44 -0500 (Thu, 07 Nov 2024)
nebbiolo1Linux (Ubuntu 24.04.1 LTS) / x86_64  OK    OK    OK  UNNEEDED, same version is already published
palomino7Windows Server 2022 Datacenter / x64  OK    OK    OK    OK  UNNEEDED, same version is already published
lconwaymacOS 12.7.1 Monterey / x86_64  OK    OK    OK    OK  UNNEEDED, same version is already published
kjohnson3macOS 13.7.1 Ventura / arm64  OK    OK    OK    OK  UNNEEDED, same version is already published


CHECK results for MsBackendRawFileReader on kjohnson3

To the developers/maintainers of the MsBackendRawFileReader package:
- Allow up to 24 hours (and sometimes 48 hours) for your latest push to git@git.bioconductor.org:packages/MsBackendRawFileReader.git to reflect on this report. See Troubleshooting Build Report for more information.
- Use the following Renviron settings to reproduce errors and warnings.
- If 'R CMD check' started to fail recently on the Linux builder(s) over a missing dependency, add the missing dependency to 'Suggests:' in your DESCRIPTION file. See Renviron.bioc for more information.

raw results


Summary

Package: MsBackendRawFileReader
Version: 1.13.1
Command: /Library/Frameworks/R.framework/Resources/bin/R CMD check --install=check:MsBackendRawFileReader.install-out.txt --library=/Library/Frameworks/R.framework/Resources/library --no-vignettes --timings MsBackendRawFileReader_1.13.1.tar.gz
StartedAt: 2025-02-03 20:54:27 -0500 (Mon, 03 Feb 2025)
EndedAt: 2025-02-03 20:56:35 -0500 (Mon, 03 Feb 2025)
EllapsedTime: 127.6 seconds
RetCode: 0
Status:   OK  
CheckDir: MsBackendRawFileReader.Rcheck
Warnings: 0

Command output

##############################################################################
##############################################################################
###
### Running command:
###
###   /Library/Frameworks/R.framework/Resources/bin/R CMD check --install=check:MsBackendRawFileReader.install-out.txt --library=/Library/Frameworks/R.framework/Resources/library --no-vignettes --timings MsBackendRawFileReader_1.13.1.tar.gz
###
##############################################################################
##############################################################################


* using log directory ‘/Users/biocbuild/bbs-3.21-bioc/meat/MsBackendRawFileReader.Rcheck’
* using R Under development (unstable) (2025-01-20 r87609)
* using platform: aarch64-apple-darwin20
* R was compiled by
    Apple clang version 14.0.0 (clang-1400.0.29.202)
    GNU Fortran (GCC) 14.2.0
* running under: macOS Ventura 13.7.1
* using session charset: UTF-8
* using option ‘--no-vignettes’
* checking for file ‘MsBackendRawFileReader/DESCRIPTION’ ... OK
* checking extension type ... Package
* this is package ‘MsBackendRawFileReader’ version ‘1.13.1’
* package encoding: UTF-8
* checking package namespace information ... OK
* checking package dependencies ... OK
* checking if this is a source package ... OK
* checking if there is a namespace ... OK
* checking for hidden files and directories ... OK
* checking for portable file names ... OK
* checking for sufficient/correct file permissions ... OK
* checking whether package ‘MsBackendRawFileReader’ can be installed ... OK
* checking installed package size ... OK
* checking package directory ... OK
* checking ‘build’ directory ... OK
* checking DESCRIPTION meta-information ... OK
* checking top-level files ... OK
* checking for left-over files ... OK
* checking index information ... OK
* checking package subdirectories ... OK
* checking code files for non-ASCII characters ... OK
* checking R files for syntax errors ... OK
* checking whether the package can be loaded ... OK
* checking whether the package can be loaded with stated dependencies ... OK
* checking whether the package can be unloaded cleanly ... OK
* checking whether the namespace can be loaded with stated dependencies ... OK
* checking whether the namespace can be unloaded cleanly ... OK
* checking whether startup messages can be suppressed ... OK
* checking dependencies in R code ... OK
* checking S3 generic/method consistency ... OK
* checking replacement functions ... OK
* checking foreign function calls ... OK
* checking R code for possible problems ... OK
* checking Rd files ... OK
* checking Rd metadata ... OK
* checking Rd cross-references ... OK
* checking for missing documentation entries ... OK
* checking for code/documentation mismatches ... OK
* checking Rd \usage sections ... OK
* checking Rd contents ... OK
* checking for unstated dependencies in examples ... OK
* checking files in ‘vignettes’ ... OK
* checking examples ... OK
Examples with CPU (user + system) or elapsed time > 5s
                         user system elapsed
ioBenchmark            34.015  8.761  12.177
MsBackendRawFileReader  8.721  3.911  13.171
* checking for unstated dependencies in ‘tests’ ... OK
* checking tests ...
  Running ‘testthat.R’
 OK
* checking for unstated dependencies in vignettes ... OK
* checking package vignettes ... OK
* checking running R code from vignettes ... SKIPPED
* checking re-building of vignette outputs ... SKIPPED
* checking PDF version of manual ... OK
* DONE

Status: OK


Installation output

MsBackendRawFileReader.Rcheck/00install.out

##############################################################################
##############################################################################
###
### Running command:
###
###   /Library/Frameworks/R.framework/Resources/bin/R CMD INSTALL MsBackendRawFileReader
###
##############################################################################
##############################################################################


* installing to library ‘/Library/Frameworks/R.framework/Versions/4.5-arm64/Resources/library’
* installing *source* package ‘MsBackendRawFileReader’ ...
** this is package ‘MsBackendRawFileReader’ version ‘1.13.1’
** using staged installation
** R
** inst
** byte-compile and prepare package for lazy loading
** help
*** installing help indices
** building package indices
** installing vignettes
** testing if installed package can be loaded from temporary location
** testing if installed package can be loaded from final location
** testing if installed package keeps a record of temporary installation path
* DONE (MsBackendRawFileReader)

Tests output

MsBackendRawFileReader.Rcheck/tests/testthat.Rout


R Under development (unstable) (2025-01-20 r87609) -- "Unsuffered Consequences"
Copyright (C) 2025 The R Foundation for Statistical Computing
Platform: aarch64-apple-darwin20

R is free software and comes with ABSOLUTELY NO WARRANTY.
You are welcome to redistribute it under certain conditions.
Type 'license()' or 'licence()' for distribution details.

R is a collaborative project with many contributors.
Type 'contributors()' for more information and
'citation()' on how to cite R or R packages in publications.

Type 'demo()' for some demos, 'help()' for on-line help, or
'help.start()' for an HTML browser interface to help.
Type 'q()' to quit R.

> library("testthat")
> library("MsBackendRawFileReader")
Loading required package: Spectra
Loading required package: S4Vectors
Loading required package: stats4
Loading required package: BiocGenerics
Loading required package: generics

Attaching package: 'generics'

The following objects are masked from 'package:base':

    as.difftime, as.factor, as.ordered, intersect, is.element, setdiff,
    setequal, union


Attaching package: 'BiocGenerics'

The following objects are masked from 'package:stats':

    IQR, mad, sd, var, xtabs

The following objects are masked from 'package:base':

    Filter, Find, Map, Position, Reduce, anyDuplicated, aperm, append,
    as.data.frame, basename, cbind, colnames, dirname, do.call,
    duplicated, eval, evalq, get, grep, grepl, is.unsorted, lapply,
    mapply, match, mget, order, paste, pmax, pmax.int, pmin, pmin.int,
    rank, rbind, rownames, sapply, saveRDS, table, tapply, unique,
    unsplit, which.max, which.min


Attaching package: 'S4Vectors'

The following object is masked from 'package:utils':

    findMatches

The following objects are masked from 'package:base':

    I, expand.grid, unname

Loading required package: BiocParallel
> library("Spectra")
> 
> 
> sample_raw_file <- file.path(system.file(package = "rawrr"),
+                                 'extdata', 'sample.raw')
> 
> sample_mzXML_file <- file.path(path.package(package = 'MsBackendRawFileReader'),
+                                 'extdata', 'sample.mzXML')
> 
> 
> sample_raw <-  backendInitialize(MsBackendRawFileReader::MsBackendRawFileReader(), files = sample_raw_file)
> 
> 
> #sample_mzr <-  backendInitialize(MsBackendMzR(), files = sample_mzXML_file)
> 
> 
> mgf_file <- file.path(system.file(package = "MsBackendRawFileReader"),
+                              'extdata', '3159619b11ed_4590_9594.mgf')
> 
> 
> rv <- lapply(1:2, function(x){
+   file.copy(from = sample_raw_file, to = tempfile(fileext='.raw'))})
> 
> 
> register(SnowParam(workers = 1, type = "SOCK") , default = TRUE); 
> sample_raw_2 <- backendInitialize(MsBackendRawFileReader(),
+     files = file.path(tempdir(),
+          list.files(path = tempdir(), pattern = 'raw$')))
> 
> 
> test_check("MsBackendRawFileReader")
[ FAIL 0 | WARN 1 | SKIP 2 | PASS 21 ]

══ Skipped tests (2) ═══════════════════════════════════════════════════════════
• isFALSE(file.exists(sample_mzXML_file)) is TRUE (1):
  'test_MsBackendMzR_MsBackendRawFileReader.R:1:1'
• isFALSE(require(MsBackendRawMgf)) is TRUE (1): 'test_top_n_mgf.R:1:1'

[ FAIL 0 | WARN 1 | SKIP 2 | PASS 21 ]
> 
> 
> be <- Spectra::backendInitialize(MsBackendRawFileReader::MsBackendRawFileReader(),
+                                  files = c(sample_raw_file))
> 
> ## Run the MsBackend spectra variable test suite
> 
> test_suite <- system.file("test_backends", "test_MsBackend",
+                           package = "Spectra")
> 
> #res <- test_file(paste0(test_suite, "/test_spectra_variables.R"),
> #                 reporter = check_reporter(), stop_on_failure = TRUE)
> 
> 
> ## Run the whole suite.
> res <- test_dir(test_suite, stop_on_failure = TRUE)
✔ | F W  S  OK | Context

⠏ |          0 | peaks_variables                                                
⠙ |          2 | peaks_variables                                                
⠸ |          4 | peaks_variables                                                
✔ |          4 | peaks_variables [3.9s]

⠏ |          0 | spectra_subsetting                                             
⠋ |          1 | spectra_subsetting                                             
⠇ |         49 | spectra_subsetting                                             
⠋ |         91 | spectra_subsetting                                             
⠴ |        136 | spectra_subsetting                                             
⠧ |        178 | spectra_subsetting                                             
⠏ |        220 | spectra_subsetting                                             
⠹ |        263 | spectra_subsetting                                             
⠙ |        302 | spectra_subsetting                                             
⠦ |        347 | spectra_subsetting                                             
⠙ |        392 | spectra_subsetting                                             
⠸ |        434 | spectra_subsetting                                             
⠧ |        478 | spectra_subsetting                                             
⠹ |        523 | spectra_subsetting                                             
⠧ |        568 | spectra_subsetting                                             
⠏ |        610 | spectra_subsetting                                             
⠙ |        652 | spectra_subsetting                                             
⠸ |        694 | spectra_subsetting                                             
⠇ |        739 | spectra_subsetting                                             
⠦ |        787 | spectra_subsetting                                             
⠸ |        834 | spectra_subsetting                                             
⠦ |        877 | spectra_subsetting                                             
⠹ |        923 | spectra_subsetting                                             
⠏ |        970 | spectra_subsetting                                             
⠧ |        1018 | spectra_subsetting                                            
⠹ |        1063 | spectra_subsetting                                            
⠇ |        1109 | spectra_subsetting                                            
⠦ |        1157 | spectra_subsetting                                            
⠸ |        1204 | spectra_subsetting                                            
⠴ |        1246 | spectra_subsetting                                            
⠙ |        1292 | spectra_subsetting                                            
⠦ |        1337 | spectra_subsetting                                            
⠸ |        1384 | spectra_subsetting                                            
⠙ |        1432 | spectra_subsetting                                            
⠦ |        1477 | spectra_subsetting                                            
⠸ |        1524 | spectra_subsetting                                            
⠋ |        1571 | spectra_subsetting                                            
⠼ |        1615 | spectra_subsetting                                            
⠋ |        1661 | spectra_subsetting                                            
⠧ |        1708 | spectra_subsetting                                            
⠏ |        1730 | spectra_subsetting                                            
⠦ |        1737 | spectra_subsetting                                            
⠸ |        1744 | spectra_subsetting                                            
⠋ |        1751 | spectra_subsetting                                            
⠧ |        1758 | spectra_subsetting                                            
⠸ |        1764 | spectra_subsetting                                            
⠋ |        1771 | spectra_subsetting                                            
⠧ |        1778 | spectra_subsetting                                            
⠼ |        1785 | spectra_subsetting                                            
⠙ |        1792 | spectra_subsetting                                            
⠇ |        1799 | spectra_subsetting                                            
⠼ |        1805 | spectra_subsetting                                            
⠙ |        1812 | spectra_subsetting                                            
⠇ |        1819 | spectra_subsetting                                            
⠴ |        1826 | spectra_subsetting                                            
⠹ |        1833 | spectra_subsetting                                            
⠇ |        1839 | spectra_subsetting                                            
⠴ |        1846 | spectra_subsetting                                            
⠹ |        1853 | spectra_subsetting                                            
⠏ |        1860 | spectra_subsetting                                            
⠦ |        1867 | spectra_subsetting                                            
⠸ |        1874 | spectra_subsetting                                            
⠋ |        1881 | spectra_subsetting                                            
⠧ |        1888 | spectra_subsetting                                            
⠇ |        1889 | spectra_subsetting                                            
⠼ |        1895 | spectra_subsetting                                            
⠙ |        1902 | spectra_subsetting                                            
⠇ |        1909 | spectra_subsetting                                            
⠴ |        1916 | spectra_subsetting                                            
⠹ |        1923 | spectra_subsetting                                            
⠏ |        1930 | spectra_subsetting                                            
⠦ |        1937 | spectra_subsetting                                            
⠸ |        1944 | spectra_subsetting                                            
⠋ |        1951 | spectra_subsetting                                            
⠧ |        1958 | spectra_subsetting                                            
⠼ |        1965 | spectra_subsetting                                            
⠙ |        1972 | spectra_subsetting                                            
⠇ |        1979 | spectra_subsetting                                            
⠴ |        1986 | spectra_subsetting                                            
⠹ |        1993 | spectra_subsetting                                            
⠏ |        2000 | spectra_subsetting                                            
⠦ |        2007 | spectra_subsetting                                            
⠸ |        2014 | spectra_subsetting                                            
⠋ |        2021 | spectra_subsetting                                            
⠧ |        2028 | spectra_subsetting                                            
⠼ |        2035 | spectra_subsetting                                            
⠙ |        2042 | spectra_subsetting                                            
⠇ |        2049 | spectra_subsetting                                            
⠴ |        2056 | spectra_subsetting                                            
⠹ |        2063 | spectra_subsetting                                            
⠏ |        2070 | spectra_subsetting                                            
⠦ |        2077 | spectra_subsetting                                            
⠸ |        2084 | spectra_subsetting                                            
⠋ |        2091 | spectra_subsetting                                            
⠧ |        2098 | spectra_subsetting                                            
⠼ |        2105 | spectra_subsetting                                            
⠙ |        2112 | spectra_subsetting                                            
⠇ |        2119 | spectra_subsetting                                            
⠴ |        2126 | spectra_subsetting                                            
⠹ |        2133 | spectra_subsetting                                            
⠏ |        2140 | spectra_subsetting                                            
⠦ |        2147 | spectra_subsetting                                            
⠸ |        2154 | spectra_subsetting                                            
⠋ |        2161 | spectra_subsetting                                            
⠇ |        2169 | spectra_subsetting                                            
⠦ |        2177 | spectra_subsetting                                            
⠸ |        2184 | spectra_subsetting                                            
⠋ |        2191 | spectra_subsetting                                            
⠇ |        2199 | spectra_subsetting                                            
⠦ |        2207 | spectra_subsetting                                            
⠸ |        2214 | spectra_subsetting                                            
⠋ |        2221 | spectra_subsetting                                            
⠧ |        2228 | spectra_subsetting                                            
⠼ |        2235 | spectra_subsetting                                            
⠙ |        2242 | spectra_subsetting                                            
⠧ |        2248 | spectra_subsetting                                            
⠼ |        2255 | spectra_subsetting                                            
⠙ |        2262 | spectra_subsetting                                            
⠇ |        2269 | spectra_subsetting                                            
⠴ |        2276 | spectra_subsetting                                            
⠹ |        2283 | spectra_subsetting                                            
⠏ |        2290 | spectra_subsetting                                            
⠦ |        2297 | spectra_subsetting                                            
⠋ |        2311 | spectra_subsetting                                            
⠸ |        2334 | spectra_subsetting                                            
✔ |        2334 | spectra_subsetting [13.2s]

⠏ |          0 | spectra_variables                                              
⠙ |         12 | spectra_variables                                              
⠸ |         14 | spectra_variables                                              
⠴ |         16 | spectra_variables                                              
⠦ |         27 | spectra_variables                                              
⠇ |         29 | spectra_variables                                              
⠋ |         31 | spectra_variables                                              
⠹ |         43 | spectra_variables                                              
✔ |      1  62 | spectra_variables [14.7s]

══ Results ═════════════════════════════════════════════════════════════════════
Duration: 31.9 s

── Skipped tests (1) ───────────────────────────────────────────────────────────
• empty test (1): 'test_spectra_variables.R:262:1'

[ FAIL 0 | WARN 0 | SKIP 1 | PASS 2400 ]
> 
> proc.time()
   user  system elapsed 
 51.435  13.699  65.320 

Example timings

MsBackendRawFileReader.Rcheck/MsBackendRawFileReader-Ex.timings

nameusersystemelapsed
MsBackendRawFileReader-class3.2631.2944.725
MsBackendRawFileReader 8.721 3.91113.171
hidden_aliases2.7941.2054.075
ioBenchmark34.015 8.76112.177