Back to Multiple platform build/check report for BioC 3.21:   simplified   long
AB[C]DEFGHIJKLMNOPQRSTUVWXYZ

This page was generated on 2025-02-05 11:39 -0500 (Wed, 05 Feb 2025).

HostnameOSArch (*)R versionInstalled pkgs
nebbiolo1Linux (Ubuntu 24.04.1 LTS)x86_64R Under development (unstable) (2025-01-20 r87609) -- "Unsuffered Consequences" 4717
palomino7Windows Server 2022 Datacenterx64R Under development (unstable) (2025-01-21 r87610 ucrt) -- "Unsuffered Consequences" 4478
lconwaymacOS 12.7.1 Montereyx86_64R Under development (unstable) (2025-01-22 r87618) -- "Unsuffered Consequences" 4489
kjohnson3macOS 13.7.1 Venturaarm64R Under development (unstable) (2025-01-20 r87609) -- "Unsuffered Consequences" 4442
Click on any hostname to see more info about the system (e.g. compilers)      (*) as reported by 'uname -p', except on Windows and Mac OS X

Package 331/2295HostnameOS / ArchINSTALLBUILDCHECKBUILD BIN
chimeraviz 1.33.0  (landing page)
Stian Lågstad
Snapshot Date: 2025-02-04 13:40 -0500 (Tue, 04 Feb 2025)
git_url: https://git.bioconductor.org/packages/chimeraviz
git_branch: devel
git_last_commit: 3819c30
git_last_commit_date: 2024-10-29 10:15:57 -0500 (Tue, 29 Oct 2024)
nebbiolo1Linux (Ubuntu 24.04.1 LTS) / x86_64  OK    OK    OK  UNNEEDED, same version is already published
palomino7Windows Server 2022 Datacenter / x64  OK    OK    OK    OK  UNNEEDED, same version is already published
lconwaymacOS 12.7.1 Monterey / x86_64  OK    OK    OK    OK  UNNEEDED, same version is already published
kjohnson3macOS 13.7.1 Ventura / arm64  OK    OK    OK    OK  UNNEEDED, same version is already published


CHECK results for chimeraviz on nebbiolo1

To the developers/maintainers of the chimeraviz package:
- Allow up to 24 hours (and sometimes 48 hours) for your latest push to git@git.bioconductor.org:packages/chimeraviz.git to reflect on this report. See Troubleshooting Build Report for more information.
- Use the following Renviron settings to reproduce errors and warnings.
- If 'R CMD check' started to fail recently on the Linux builder(s) over a missing dependency, add the missing dependency to 'Suggests:' in your DESCRIPTION file. See Renviron.bioc for more information.

raw results


Summary

Package: chimeraviz
Version: 1.33.0
Command: /home/biocbuild/bbs-3.21-bioc/R/bin/R CMD check --install=check:chimeraviz.install-out.txt --library=/home/biocbuild/bbs-3.21-bioc/R/site-library --timings chimeraviz_1.33.0.tar.gz
StartedAt: 2025-02-04 20:50:16 -0500 (Tue, 04 Feb 2025)
EndedAt: 2025-02-04 21:03:06 -0500 (Tue, 04 Feb 2025)
EllapsedTime: 770.1 seconds
RetCode: 0
Status:   OK  
CheckDir: chimeraviz.Rcheck
Warnings: 0

Command output

##############################################################################
##############################################################################
###
### Running command:
###
###   /home/biocbuild/bbs-3.21-bioc/R/bin/R CMD check --install=check:chimeraviz.install-out.txt --library=/home/biocbuild/bbs-3.21-bioc/R/site-library --timings chimeraviz_1.33.0.tar.gz
###
##############################################################################
##############################################################################


* using log directory ‘/home/biocbuild/bbs-3.21-bioc/meat/chimeraviz.Rcheck’
* using R Under development (unstable) (2025-01-20 r87609)
* using platform: x86_64-pc-linux-gnu
* R was compiled by
    gcc (Ubuntu 13.3.0-6ubuntu2~24.04) 13.3.0
    GNU Fortran (Ubuntu 13.3.0-6ubuntu2~24.04) 13.3.0
* running under: Ubuntu 24.04.1 LTS
* using session charset: UTF-8
* checking for file ‘chimeraviz/DESCRIPTION’ ... OK
* checking extension type ... Package
* this is package ‘chimeraviz’ version ‘1.33.0’
* package encoding: UTF-8
* checking package namespace information ... OK
* checking package dependencies ... INFO
Depends: includes the non-default packages:
  'Biostrings', 'GenomicRanges', 'IRanges', 'Gviz', 'S4Vectors',
  'ensembldb', 'AnnotationFilter', 'data.table'
Adding so many packages to the search path is excessive and importing
selectively is preferable.
* checking if this is a source package ... OK
* checking if there is a namespace ... OK
* checking for hidden files and directories ... OK
* checking for portable file names ... OK
* checking for sufficient/correct file permissions ... OK
* checking whether package ‘chimeraviz’ can be installed ... OK
* checking installed package size ... OK
* checking package directory ... OK
* checking ‘build’ directory ... OK
* checking DESCRIPTION meta-information ... OK
* checking top-level files ... OK
* checking for left-over files ... OK
* checking index information ... OK
* checking package subdirectories ... OK
* checking code files for non-ASCII characters ... OK
* checking R files for syntax errors ... OK
* checking whether the package can be loaded ... OK
* checking whether the package can be loaded with stated dependencies ... OK
* checking whether the package can be unloaded cleanly ... OK
* checking whether the namespace can be loaded with stated dependencies ... OK
* checking whether the namespace can be unloaded cleanly ... OK
* checking loading without being on the library search path ... OK
* checking dependencies in R code ... NOTE
Namespace in Imports field not imported from: 'magick'
  All declared Imports should be used.
* checking S3 generic/method consistency ... OK
* checking replacement functions ... OK
* checking foreign function calls ... OK
* checking R code for possible problems ... NOTE
plot_fusion_transcript_with_protein_domain: no visible binding for
  global variable 'protein_domain_location'
Undefined global functions or variables:
  protein_domain_location
* checking Rd files ... OK
* checking Rd metadata ... OK
* checking Rd cross-references ... OK
* checking for missing documentation entries ... OK
* checking for code/documentation mismatches ... OK
* checking Rd \usage sections ... OK
* checking Rd contents ... OK
* checking for unstated dependencies in examples ... OK
* checking files in ‘vignettes’ ... OK
* checking examples ... OK
Examples with CPU (user + system) or elapsed time > 5s
                                             user system elapsed
plot_fusion                                31.788  2.261  35.610
plot_transcripts                           17.333  0.506  17.823
plot_fusion_transcript                     14.369  0.295  14.654
plot_fusion_transcript_with_protein_domain  9.368  0.144   9.504
plot_fusion_transcripts_graph               9.182  0.164   9.344
get_transcripts_ensembl_db                  6.154  0.173   6.327
select_transcript                           5.511  0.029   5.543
* checking for unstated dependencies in ‘tests’ ... OK
* checking tests ...
  Running ‘testthat.R’
 OK
* checking for unstated dependencies in vignettes ... OK
* checking package vignettes ... OK
* checking re-building of vignette outputs ... OK
* checking PDF version of manual ... OK
* DONE

Status: 2 NOTEs
See
  ‘/home/biocbuild/bbs-3.21-bioc/meat/chimeraviz.Rcheck/00check.log’
for details.


Installation output

chimeraviz.Rcheck/00install.out

##############################################################################
##############################################################################
###
### Running command:
###
###   /home/biocbuild/bbs-3.21-bioc/R/bin/R CMD INSTALL chimeraviz
###
##############################################################################
##############################################################################


* installing to library ‘/home/biocbuild/bbs-3.21-bioc/R/site-library’
* installing *source* package ‘chimeraviz’ ...
** this is package ‘chimeraviz’ version ‘1.33.0’
** using staged installation
** R
** inst
** byte-compile and prepare package for lazy loading
** help
*** installing help indices
** building package indices
** installing vignettes
** testing if installed package can be loaded from temporary location
** testing if installed package can be loaded from final location
** testing if installed package keeps a record of temporary installation path
* DONE (chimeraviz)

Tests output

chimeraviz.Rcheck/tests/testthat.Rout


R Under development (unstable) (2025-01-20 r87609) -- "Unsuffered Consequences"
Copyright (C) 2025 The R Foundation for Statistical Computing
Platform: x86_64-pc-linux-gnu

R is free software and comes with ABSOLUTELY NO WARRANTY.
You are welcome to redistribute it under certain conditions.
Type 'license()' or 'licence()' for distribution details.

R is a collaborative project with many contributors.
Type 'contributors()' for more information and
'citation()' on how to cite R or R packages in publications.

Type 'demo()' for some demos, 'help()' for on-line help, or
'help.start()' for an HTML browser interface to help.
Type 'q()' to quit R.

> library(testthat)
> library(chimeraviz)
Loading required package: Biostrings
Loading required package: BiocGenerics
Loading required package: generics

Attaching package: 'generics'

The following objects are masked from 'package:base':

    as.difftime, as.factor, as.ordered, intersect, is.element, setdiff,
    setequal, union


Attaching package: 'BiocGenerics'

The following objects are masked from 'package:stats':

    IQR, mad, sd, var, xtabs

The following objects are masked from 'package:base':

    Filter, Find, Map, Position, Reduce, anyDuplicated, aperm, append,
    as.data.frame, basename, cbind, colnames, dirname, do.call,
    duplicated, eval, evalq, get, grep, grepl, is.unsorted, lapply,
    mapply, match, mget, order, paste, pmax, pmax.int, pmin, pmin.int,
    rank, rbind, rownames, sapply, saveRDS, table, tapply, unique,
    unsplit, which.max, which.min

Loading required package: S4Vectors
Loading required package: stats4

Attaching package: 'S4Vectors'

The following object is masked from 'package:utils':

    findMatches

The following objects are masked from 'package:base':

    I, expand.grid, unname

Loading required package: IRanges
Loading required package: XVector
Loading required package: GenomeInfoDb

Attaching package: 'Biostrings'

The following object is masked from 'package:base':

    strsplit

Loading required package: GenomicRanges
Loading required package: Gviz
Loading required package: grid

Attaching package: 'grid'

The following object is masked from 'package:Biostrings':

    pattern

Loading required package: ensembldb
Loading required package: GenomicFeatures
Loading required package: AnnotationDbi
Loading required package: Biobase
Welcome to Bioconductor

    Vignettes contain introductory material; view with
    'browseVignettes()'. To cite Bioconductor, see
    'citation("Biobase")', and for packages 'citation("pkgname")'.

Loading required package: AnnotationFilter

Attaching package: 'AnnotationFilter'

The following object is masked from 'package:Gviz':

    feature

The following object is masked from 'package:testthat':

    not


Attaching package: 'ensembldb'

The following object is masked from 'package:stats':

    filter

Loading required package: data.table

Attaching package: 'data.table'

The following object is masked from 'package:GenomicRanges':

    shift

The following object is masked from 'package:IRanges':

    shift

The following objects are masked from 'package:S4Vectors':

    first, second



> 
> test_check("chimeraviz")
[ FAIL 0 | WARN 0 | SKIP 0 | PASS 224 ]
Warning message:
call dbDisconnect() when finished working with a connection 
> 
> proc.time()
   user  system elapsed 
154.128   4.157 159.170 

Example timings

chimeraviz.Rcheck/chimeraviz-Ex.timings

nameusersystemelapsed
add_fusion_reads_alignment2.1290.0272.157
create_fusion_report3.1520.0673.227
decide_transcript_category0.2050.0020.208
down_shift0.0540.0010.055
downstream_partner_gene0.060.000.06
fetch_reads_from_fastq0.0010.0000.000
fusion_spanning_reads_count0.0280.0010.029
fusion_split_reads_count0.030.000.03
fusion_to_data_frame0.0310.0000.032
get_ensembl_ids0.5350.0810.616
get_fusion_by_chromosome0.0280.0120.041
get_fusion_by_gene_name0.0300.0070.038
get_fusion_by_id0.0320.0080.039
get_transcripts_ensembl_db6.1540.1736.327
import_aeron0.4940.0030.500
import_chimpipe0.0940.0000.095
import_defuse0.0990.0000.100
import_ericscript0.0980.0000.098
import_fusioncatcher0.0950.0010.097
import_fusionmap0.0930.0020.095
import_infusion0.0910.0010.091
import_jaffa0.0920.0000.092
import_oncofuse0.0900.0020.091
import_prada0.0930.0020.096
import_soapfuse0.0890.0020.091
import_squid0.090.000.09
import_starfusion0.1300.0000.132
partner_gene_ensembl_id0.0610.0210.082
partner_gene_junction_sequence0.0430.0010.044
plot_circle0.5790.0210.588
plot_fusion31.788 2.26135.610
plot_fusion_reads2.1020.0862.186
plot_fusion_transcript14.369 0.29514.654
plot_fusion_transcript_with_protein_domain9.3680.1449.504
plot_fusion_transcripts_graph9.1820.1649.344
plot_transcripts17.333 0.50617.823
select_transcript5.5110.0295.543
split_on_utr_and_add_feature0.4230.0010.424
upstream_partner_gene0.0670.0000.067
write_fusion_reference0.0380.0010.039