Back to Multiple platform build/check report for BioC 3.21:   simplified   long
ABCDEFGHIJKLMNOPQR[S]TUVWXYZ

This page was generated on 2025-01-28 11:48 -0500 (Tue, 28 Jan 2025).

HostnameOSArch (*)R versionInstalled pkgs
nebbiolo1Linux (Ubuntu 24.04.1 LTS)x86_64R Under development (unstable) (2025-01-20 r87609) -- "Unsuffered Consequences" 4659
palomino7Windows Server 2022 Datacenterx64R Under development (unstable) (2025-01-21 r87610 ucrt) -- "Unsuffered Consequences" 4454
lconwaymacOS 12.7.1 Montereyx86_64R Under development (unstable) (2025-01-22 r87618) -- "Unsuffered Consequences" 4465
kjohnson3macOS 13.7.1 Venturaarm64R Under development (unstable) (2025-01-20 r87609) -- "Unsuffered Consequences" 4419
kunpeng2Linux (openEuler 22.03 LTS-SP1)aarch64R Under development (unstable) (2024-11-24 r87369) -- "Unsuffered Consequences" 4409
Click on any hostname to see more info about the system (e.g. compilers)      (*) as reported by 'uname -p', except on Windows and Mac OS X

Package 1931/2286HostnameOS / ArchINSTALLBUILDCHECKBUILD BIN
sesame 1.25.3  (landing page)
Wanding Zhou
Snapshot Date: 2025-01-27 13:40 -0500 (Mon, 27 Jan 2025)
git_url: https://git.bioconductor.org/packages/sesame
git_branch: devel
git_last_commit: 715da26
git_last_commit_date: 2025-01-04 11:02:51 -0500 (Sat, 04 Jan 2025)
nebbiolo1Linux (Ubuntu 24.04.1 LTS) / x86_64  OK    OK    OK  UNNEEDED, same version is already published
palomino7Windows Server 2022 Datacenter / x64  OK    OK    OK    OK  UNNEEDED, same version is already published
lconwaymacOS 12.7.1 Monterey / x86_64  OK    OK    OK    OK  UNNEEDED, same version is already published
kjohnson3macOS 13.7.1 Ventura / arm64  OK    OK    OK    OK  UNNEEDED, same version is already published
kunpeng2Linux (openEuler 22.03 LTS-SP1) / aarch64  OK    OK    OK  


CHECK results for sesame on kunpeng2

To the developers/maintainers of the sesame package:
- Allow up to 24 hours (and sometimes 48 hours) for your latest push to git@git.bioconductor.org:packages/sesame.git to reflect on this report. See Troubleshooting Build Report for more information.
- Use the following Renviron settings to reproduce errors and warnings.
- If 'R CMD check' started to fail recently on the Linux builder(s) over a missing dependency, add the missing dependency to 'Suggests:' in your DESCRIPTION file. See Renviron.bioc for more information.
- See Martin Grigorov's blog post for how to debug Linux ARM64 related issues on a x86_64 host.

raw results


Summary

Package: sesame
Version: 1.25.3
Command: /home/biocbuild/R/R/bin/R CMD check --install=check:sesame.install-out.txt --library=/home/biocbuild/R/R/site-library --no-vignettes --timings sesame_1.25.3.tar.gz
StartedAt: 2025-01-28 15:16:03 -0000 (Tue, 28 Jan 2025)
EndedAt: 2025-01-28 15:30:24 -0000 (Tue, 28 Jan 2025)
EllapsedTime: 861.0 seconds
RetCode: 0
Status:   OK  
CheckDir: sesame.Rcheck
Warnings: 0

Command output

##############################################################################
##############################################################################
###
### Running command:
###
###   /home/biocbuild/R/R/bin/R CMD check --install=check:sesame.install-out.txt --library=/home/biocbuild/R/R/site-library --no-vignettes --timings sesame_1.25.3.tar.gz
###
##############################################################################
##############################################################################


* using log directory ‘/home/biocbuild/bbs-3.21-bioc/meat/sesame.Rcheck’
* using R Under development (unstable) (2024-11-24 r87369)
* using platform: aarch64-unknown-linux-gnu
* R was compiled by
    aarch64-unknown-linux-gnu-gcc (GCC) 14.2.0
    GNU Fortran (GCC) 14.2.0
* running under: openEuler 24.03 (LTS)
* using session charset: UTF-8
* using option ‘--no-vignettes’
* checking for file ‘sesame/DESCRIPTION’ ... OK
* checking extension type ... Package
* this is package ‘sesame’ version ‘1.25.3’
* package encoding: UTF-8
* checking package namespace information ... OK
* checking package dependencies ... OK
* checking if this is a source package ... OK
* checking if there is a namespace ... OK
* checking for hidden files and directories ... OK
* checking for portable file names ... OK
* checking for sufficient/correct file permissions ... OK
* checking whether package ‘sesame’ can be installed ... OK
* checking installed package size ... OK
* checking package directory ... OK
* checking ‘build’ directory ... OK
* checking DESCRIPTION meta-information ... OK
* checking top-level files ... OK
* checking for left-over files ... OK
* checking index information ... OK
* checking package subdirectories ... OK
* checking code files for non-ASCII characters ... OK
* checking R files for syntax errors ... OK
* checking whether the package can be loaded ... OK
* checking whether the package can be loaded with stated dependencies ... OK
* checking whether the package can be unloaded cleanly ... OK
* checking whether the namespace can be loaded with stated dependencies ... OK
* checking whether the namespace can be unloaded cleanly ... OK
* checking loading without being on the library search path ... OK
* checking whether startup messages can be suppressed ... OK
* checking dependencies in R code ... OK
* checking S3 generic/method consistency ... OK
* checking replacement functions ... OK
* checking foreign function calls ... OK
* checking R code for possible problems ... OK
* checking Rd files ... OK
* checking Rd metadata ... OK
* checking Rd cross-references ... OK
* checking for missing documentation entries ... OK
* checking for code/documentation mismatches ... OK
* checking Rd \usage sections ... OK
* checking Rd contents ... OK
* checking for unstated dependencies in examples ... OK
* checking files in ‘vignettes’ ... OK
* checking examples ... OK
Examples with CPU (user + system) or elapsed time > 5s
                                user system elapsed
imputeBetasByGenomicNeighbors 44.162  0.551  44.797
sesameQC_calcStats            28.945  0.247  29.241
imputeBetas                   27.798  0.525  30.104
inferSex                      27.727  0.208  27.991
sesameQC_plotHeatSNPs         24.141  0.147  24.328
ELBAR                         21.540  0.195  21.769
inferSpecies                  18.080  1.237  19.357
sesameQC_plotBetaByDesign     18.678  0.191  18.902
matchDesign                   16.947  0.252  17.242
diffRefSet                    16.784  0.163  16.997
compareMouseStrainReference   16.280  0.140  16.455
compareReference              14.736  0.195  14.956
getRefSet                     12.853  0.159  13.072
sesameQC_plotBar              11.724  0.168  11.915
inferStrain                    9.992  0.731  10.750
DMR                            9.743  0.256  10.036
DML                            9.670  0.319  10.013
visualizeGene                  9.307  0.212   9.540
deidentify                     9.087  0.104   9.224
sdf_read_table                 8.897  0.128   9.043
inferTissue                    8.550  0.431   8.999
estimateLeukocyte              8.413  0.164   8.611
dyeBiasNL                      8.296  0.084   8.409
reIdentify                     7.035  0.148   7.197
dyeBiasCorrMostBalanced        6.619  0.127   6.783
getMask                        6.567  0.172   6.759
openSesame                     6.479  0.176   6.692
scrubSoft                      6.520  0.044   6.575
createUCSCtrack                6.094  0.096   6.206
probeSuccessRate               5.956  0.127   6.097
prepSesame                     4.897  0.132   5.041
sesameQC_rankStats             4.917  0.092   5.021
* checking for unstated dependencies in ‘tests’ ... OK
* checking tests ...
  Running ‘testthat.R’
 OK
* checking for unstated dependencies in vignettes ... OK
* checking package vignettes ... OK
* checking running R code from vignettes ... SKIPPED
* checking re-building of vignette outputs ... SKIPPED
* checking PDF version of manual ... OK
* DONE

Status: OK


Installation output

sesame.Rcheck/00install.out

##############################################################################
##############################################################################
###
### Running command:
###
###   /home/biocbuild/R/R/bin/R CMD INSTALL sesame
###
##############################################################################
##############################################################################


* installing to library ‘/home/biocbuild/R/R-4.5.0-devel_2024-11-24/site-library’
* installing *source* package ‘sesame’ ...
** using staged installation
** R
** inst
** byte-compile and prepare package for lazy loading
** help
*** installing help indices
** building package indices
** installing vignettes
** testing if installed package can be loaded from temporary location
** testing if installed package can be loaded from final location
** testing if installed package keeps a record of temporary installation path
* DONE (sesame)

Tests output

sesame.Rcheck/tests/testthat.Rout


R Under development (unstable) (2024-11-24 r87369) -- "Unsuffered Consequences"
Copyright (C) 2024 The R Foundation for Statistical Computing
Platform: aarch64-unknown-linux-gnu

R is free software and comes with ABSOLUTELY NO WARRANTY.
You are welcome to redistribute it under certain conditions.
Type 'license()' or 'licence()' for distribution details.

R is a collaborative project with many contributors.
Type 'contributors()' for more information and
'citation()' on how to cite R or R packages in publications.

Type 'demo()' for some demos, 'help()' for on-line help, or
'help.start()' for an HTML browser interface to help.
Type 'q()' to quit R.

> library(testthat)
> library(sesame)
Loading required package: sesameData
Loading required package: ExperimentHub
Loading required package: BiocGenerics
Loading required package: generics

Attaching package: 'generics'

The following objects are masked from 'package:base':

    as.difftime, as.factor, as.ordered, intersect, is.element, setdiff,
    setequal, union


Attaching package: 'BiocGenerics'

The following objects are masked from 'package:stats':

    IQR, mad, sd, var, xtabs

The following objects are masked from 'package:base':

    Filter, Find, Map, Position, Reduce, anyDuplicated, aperm, append,
    as.data.frame, basename, cbind, colnames, dirname, do.call,
    duplicated, eval, evalq, get, grep, grepl, is.unsorted, lapply,
    mapply, match, mget, order, paste, pmax, pmax.int, pmin, pmin.int,
    rank, rbind, rownames, sapply, saveRDS, table, tapply, unique,
    unsplit, which.max, which.min

Loading required package: AnnotationHub
Loading required package: BiocFileCache
Loading required package: dbplyr
Loading sesameData.

----------------------------------------------------------
| SEnsible Step-wise Analysis of DNA MEthylation (SeSAMe)
| --------------------------------------------------------
| Please cache auxiliary data by "sesameDataCache()".
| This needs to be done only once per SeSAMe installation.
----------------------------------------------------------

> 
> test_check("sesame")
[ FAIL 0 | WARN 0 | SKIP 0 | PASS 5 ]
> 
> proc.time()
   user  system elapsed 
 23.201   0.841  24.078 

Example timings

sesame.Rcheck/sesame-Ex.timings

nameusersystemelapsed
BetaValueToMValue000
DML 9.670 0.31910.013
DMLpredict1.5200.0401.563
DMR 9.743 0.25610.036
ELBAR21.540 0.19521.769
MValueToBetaValue000
SigDF0.3430.0190.364
addMask0.1160.0010.116
betasCollapseToPfx0.0150.0000.016
bisConversionControl4.6680.0714.750
calcEffectSize1.2850.0521.338
checkLevels3.5460.0883.647
cnSegmentation0.3440.0160.360
compareMouseStrainReference16.280 0.14016.455
compareMouseTissueReference000
compareReference14.736 0.19514.956
controls2.1860.0482.238
createUCSCtrack6.0940.0966.206
deidentify9.0870.1049.224
detectionPnegEcdf1.2240.0121.240
diffRefSet16.784 0.16316.997
dmContrasts2.2300.0402.275
dyeBiasCorr3.4770.0803.566
dyeBiasCorrMostBalanced6.6190.1276.783
dyeBiasL3.0720.0513.130
dyeBiasNL8.2960.0848.409
estimateLeukocyte8.4130.1648.611
formatVCF2.2580.0832.348
getAFTypeIbySumAlleles2.0040.0802.092
getAFs1.5290.0241.556
getBetas1.1760.0121.191
getMask6.5670.1726.759
getRefSet12.853 0.15913.072
imputeBetas27.798 0.52530.104
imputeBetasByGenomicNeighbors44.162 0.55144.797
imputeBetasMatrixByMean0.0020.0000.002
inferEthnicity0.0010.0000.001
inferInfiniumIChannel0.3440.1000.445
inferSex27.727 0.20827.991
inferSpecies18.080 1.23719.357
inferStrain 9.992 0.73110.750
inferTissue8.5500.4318.999
initFileSet1.2530.0321.288
listAvailableMasks1.3880.0481.439
mLiftOver000
mapFileSet0.0370.0050.042
mapToMammal402.7730.1972.980
matchDesign16.947 0.25217.242
meanIntensity2.9720.0803.059
medianTotalIntensity1.1610.0761.239
noMasked4.0530.1434.204
noob3.4630.0483.516
openSesame6.4790.1766.692
openSesameToFile2.1240.0362.171
pOOBAH1.7120.0031.718
palgen0.0470.0000.050
parseGEOsignalMU3.6240.0593.694
predictAge2.3690.0602.433
predictAgeHorvath353000
predictAgeSkinBlood000
predictMouseAgeInMonth000
prefixMask0.5170.0000.517
prefixMaskButC0.1590.0000.159
prefixMaskButCG0.0700.0000.071
prepSesame4.8970.1325.041
prepSesameList0.0020.0000.002
print.DMLSummary3.3510.1683.525
print.fileSet1.3510.0441.398
probeID_designType000
probeSuccessRate5.9560.1276.097
qualityMask2.0640.0802.149
reIdentify7.0350.1487.197
readFileSet0.0580.0000.058
readIDATpair0.1560.0000.156
recommendedMaskNames000
resetMask0.5100.0120.522
scrub4.0500.1004.158
scrubSoft6.5200.0446.575
sdfPlatform0.3400.0270.368
sdf_read_table8.8970.1289.043
sdf_write_table2.3100.0802.482
searchIDATprefixes0.0030.0030.008
sesame-package2.6630.0532.725
sesameAnno_attachManifest000
sesameAnno_buildAddressFile000
sesameAnno_buildManifestGRanges000
sesameAnno_download000
sesameAnno_readManifestTSV000
sesameQC_calcStats28.945 0.24729.241
sesameQC_getStats2.3820.0082.393
sesameQC_plotBar11.724 0.16811.915
sesameQC_plotBetaByDesign18.678 0.19118.902
sesameQC_plotHeatSNPs24.141 0.14724.328
sesameQC_plotIntensVsBetas3.2670.0563.329
sesameQC_plotRedGrnQQ1.7130.0281.744
sesameQC_rankStats4.9170.0925.021
sesameQCtoDF2.6050.0082.617
sesame_checkVersion0.0040.0000.004
sesamize0.0000.0000.001
setMask0.1330.0000.134
signalMU1.1980.0281.228
sliceFileSet0.0340.0040.038
summaryExtractTest3.0560.0803.142
totalIntensities2.9130.0913.011
updateSigDF3.4180.1243.551
visualizeGene9.3070.2129.540
visualizeProbes1.5680.0241.594
visualizeRegion0.4820.0000.483
visualizeSegments2.0650.0832.152