Back to Multiple platform build/check report for BioC 3.21: simplified long |
|
This page was generated on 2025-01-28 11:48 -0500 (Tue, 28 Jan 2025).
Hostname | OS | Arch (*) | R version | Installed pkgs |
---|---|---|---|---|
nebbiolo1 | Linux (Ubuntu 24.04.1 LTS) | x86_64 | R Under development (unstable) (2025-01-20 r87609) -- "Unsuffered Consequences" | 4659 |
palomino7 | Windows Server 2022 Datacenter | x64 | R Under development (unstable) (2025-01-21 r87610 ucrt) -- "Unsuffered Consequences" | 4454 |
lconway | macOS 12.7.1 Monterey | x86_64 | R Under development (unstable) (2025-01-22 r87618) -- "Unsuffered Consequences" | 4465 |
kjohnson3 | macOS 13.7.1 Ventura | arm64 | R Under development (unstable) (2025-01-20 r87609) -- "Unsuffered Consequences" | 4419 |
kunpeng2 | Linux (openEuler 22.03 LTS-SP1) | aarch64 | R Under development (unstable) (2024-11-24 r87369) -- "Unsuffered Consequences" | 4409 |
Click on any hostname to see more info about the system (e.g. compilers) (*) as reported by 'uname -p', except on Windows and Mac OS X |
Package 2003/2286 | Hostname | OS / Arch | INSTALL | BUILD | CHECK | BUILD BIN | ||||||||
sparrow 1.13.4 (landing page) Steve Lianoglou
| nebbiolo1 | Linux (Ubuntu 24.04.1 LTS) / x86_64 | OK | OK | OK | ![]() | ||||||||
palomino7 | Windows Server 2022 Datacenter / x64 | OK | OK | OK | OK | ![]() | ||||||||
lconway | macOS 12.7.1 Monterey / x86_64 | OK | OK | OK | OK | ![]() | ||||||||
kjohnson3 | macOS 13.7.1 Ventura / arm64 | OK | OK | OK | OK | ![]() | ||||||||
kunpeng2 | Linux (openEuler 22.03 LTS-SP1) / aarch64 | OK | OK | TIMEOUT | ||||||||||
To the developers/maintainers of the sparrow package: - Allow up to 24 hours (and sometimes 48 hours) for your latest push to git@git.bioconductor.org:packages/sparrow.git to reflect on this report. See Troubleshooting Build Report for more information. - Use the following Renviron settings to reproduce errors and warnings. - If 'R CMD check' started to fail recently on the Linux builder(s) over a missing dependency, add the missing dependency to 'Suggests:' in your DESCRIPTION file. See Renviron.bioc for more information. - See Martin Grigorov's blog post for how to debug Linux ARM64 related issues on a x86_64 host. |
Package: sparrow |
Version: 1.13.4 |
Command: /home/biocbuild/R/R/bin/R CMD check --install=check:sparrow.install-out.txt --library=/home/biocbuild/R/R/site-library --no-vignettes --timings sparrow_1.13.4.tar.gz |
StartedAt: 2025-01-28 15:32:50 -0000 (Tue, 28 Jan 2025) |
EndedAt: 2025-01-28 16:12:50 -0000 (Tue, 28 Jan 2025) |
EllapsedTime: 2400.2 seconds |
RetCode: None |
Status: TIMEOUT |
CheckDir: sparrow.Rcheck |
Warnings: NA |
############################################################################## ############################################################################## ### ### Running command: ### ### /home/biocbuild/R/R/bin/R CMD check --install=check:sparrow.install-out.txt --library=/home/biocbuild/R/R/site-library --no-vignettes --timings sparrow_1.13.4.tar.gz ### ############################################################################## ############################################################################## * using log directory ‘/home/biocbuild/bbs-3.21-bioc/meat/sparrow.Rcheck’ * using R Under development (unstable) (2024-11-24 r87369) * using platform: aarch64-unknown-linux-gnu * R was compiled by aarch64-unknown-linux-gnu-gcc (GCC) 14.2.0 GNU Fortran (GCC) 14.2.0 * running under: openEuler 24.03 (LTS) * using session charset: UTF-8 * using option ‘--no-vignettes’ * checking for file ‘sparrow/DESCRIPTION’ ... OK * checking extension type ... Package * this is package ‘sparrow’ version ‘1.13.4’ * package encoding: UTF-8 * checking package namespace information ... OK * checking package dependencies ... OK * checking if this is a source package ... OK * checking if there is a namespace ... OK * checking for hidden files and directories ... OK * checking for portable file names ... OK * checking for sufficient/correct file permissions ... OK * checking whether package ‘sparrow’ can be installed ... OK * checking installed package size ... OK * checking package directory ... OK * checking ‘build’ directory ... OK * checking DESCRIPTION meta-information ... NOTE License stub is invalid DCF. * checking top-level files ... OK * checking for left-over files ... OK * checking index information ... OK * checking package subdirectories ...Warning: program compiled against libxml 212 using older 211 OK * checking code files for non-ASCII characters ... OK * checking R files for syntax errors ... OK * checking whether the package can be loaded ... OK * checking whether the package can be loaded with stated dependencies ... OK * checking whether the package can be unloaded cleanly ... OK * checking whether the namespace can be loaded with stated dependencies ... OK * checking whether the namespace can be unloaded cleanly ... OK * checking loading without being on the library search path ... OK * checking whether startup messages can be suppressed ... OK * checking dependencies in R code ... OK * checking S3 generic/method consistency ... OK * checking replacement functions ... OK * checking foreign function calls ... OK * checking R code for possible problems ... NOTE geneSetsStats: no visible binding for global variable ‘direction’ Undefined global functions or variables: direction * checking Rd files ... OK * checking Rd metadata ... OK * checking Rd cross-references ... NOTE Found the following Rd file(s) with Rd \link{} targets missing package anchors: seas.Rd: BiocParallel Please provide package anchors for all Rd \link{} targets not in the package itself and the base packages. * checking for missing documentation entries ... OK * checking for code/documentation mismatches ... OK * checking Rd \usage sections ... OK * checking Rd contents ... OK * checking for unstated dependencies in examples ... OK * checking line endings in Makefiles ... OK * checking for GNU extensions in Makefiles ... OK * checking include directives in Makefiles ... OK * checking files in ‘vignettes’ ... OK * checking examples ... OK Examples with CPU (user + system) or elapsed time > 5s user system elapsed scoreSingleSamples 12.454 0.080 12.542 goseq 10.264 0.255 10.305 seas 8.487 0.188 8.466 geneSetsStats 6.708 0.103 6.233 eigenWeightedMean 6.115 0.200 6.371 geneSetSummaryByGenes 5.524 0.047 5.226 annotateGeneSetMembership 4.958 0.223 4.988 SparrowResult-utilities 4.996 0.094 4.831 * checking for unstated dependencies in ‘tests’ ... OK * checking tests ... Running ‘testthat.R’
sparrow.Rcheck/00install.out
############################################################################## ############################################################################## ### ### Running command: ### ### /home/biocbuild/R/R/bin/R CMD INSTALL sparrow ### ############################################################################## ############################################################################## * installing to library ‘/home/biocbuild/R/R-4.5.0-devel_2024-11-24/site-library’ * installing *source* package ‘sparrow’ ... ** using staged installation ** R ** inst ** byte-compile and prepare package for lazy loading ** help *** installing help indices *** copying figures ** building package indices ** installing vignettes ** testing if installed package can be loaded from temporary location ** testing if installed package can be loaded from final location ** testing if installed package keeps a record of temporary installation path * DONE (sparrow)
sparrow.Rcheck/tests/testthat.Rout
R Under development (unstable) (2024-11-24 r87369) -- "Unsuffered Consequences" Copyright (C) 2024 The R Foundation for Statistical Computing Platform: aarch64-unknown-linux-gnu R is free software and comes with ABSOLUTELY NO WARRANTY. You are welcome to redistribute it under certain conditions. Type 'license()' or 'licence()' for distribution details. R is a collaborative project with many contributors. Type 'contributors()' for more information and 'citation()' on how to cite R or R packages in publications. Type 'demo()' for some demos, 'help()' for on-line help, or 'help.start()' for an HTML browser interface to help. Type 'q()' to quit R. > library("sparrow") > library("testthat") > library("data.table") > library("dplyr") Attaching package: 'dplyr' The following objects are masked from 'package:data.table': between, first, last The following object is masked from 'package:testthat': matches The following object is masked from 'package:sparrow': combine The following objects are masked from 'package:stats': filter, lag The following objects are masked from 'package:base': intersect, setdiff, setequal, union > > test_check("sparrow") Attaching package: 'magrittr' The following objects are masked from 'package:testthat': equals, is_less_than, not
sparrow.Rcheck/sparrow-Ex.timings
name | user | system | elapsed | |
GeneSetDb-class | 0.104 | 0.004 | 0.108 | |
SparrowResult-utilities | 4.996 | 0.094 | 4.831 | |
addGeneSetMetadata | 0.759 | 0.063 | 0.827 | |
annotateGeneSetMembership | 4.958 | 0.223 | 4.988 | |
calculateIndividualLogFC | 2.475 | 0.103 | 2.619 | |
collectionMetadata | 0.095 | 0.008 | 0.095 | |
combine-GeneSetDb-GeneSetDb-method | 0.134 | 0.000 | 0.117 | |
combine-SparrowResult-SparrowResult-method | 0.160 | 0.008 | 0.172 | |
conform | 0.601 | 0.012 | 0.614 | |
conversion | 0.852 | 0.027 | 0.855 | |
convertIdentifiers | 0.250 | 0.004 | 0.222 | |
corplot | 0.111 | 0.004 | 0.116 | |
eigenWeightedMean | 6.115 | 0.200 | 6.371 | |
examples | 0.438 | 0.020 | 0.458 | |
failWith | 0.000 | 0.000 | 0.001 | |
featureIdMap | 0.602 | 0.021 | 0.616 | |
featureIds | 0.766 | 0.004 | 0.755 | |
geneSet | 0.106 | 0.000 | 0.097 | |
geneSetCollectionURLfunction | 0.077 | 0.000 | 0.068 | |
geneSetSummaryByGenes | 5.524 | 0.047 | 5.226 | |
geneSets | 0.076 | 0.000 | 0.067 | |
geneSetsStats | 6.708 | 0.103 | 6.233 | |
getKeggCollection | 0 | 0 | 0 | |
getMSigCollection | 0 | 0 | 0 | |
getPantherCollection | 0 | 0 | 0 | |
getReactomeCollection | 0 | 0 | 0 | |
goseq | 10.264 | 0.255 | 10.305 | |
gsdScore | 1.257 | 0.027 | 1.279 | |
gskey | 0.003 | 0.000 | 0.003 | |
hasGeneSet | 0.084 | 0.000 | 0.079 | |
hasGeneSetCollection | 0.074 | 0.008 | 0.071 | |
incidenceMatrix | 1.519 | 0.011 | 1.524 | |
iplot | 1.530 | 0.024 | 1.549 | |
is.active | 0.375 | 0.036 | 0.406 | |
logFC | 4.329 | 0.092 | 4.131 | |
mgheatmap | 0.000 | 0.000 | 0.001 | |
mgheatmap2 | 0 | 0 | 0 | |
msg | 0.001 | 0.000 | 0.000 | |
ora | 0.287 | 0.004 | 0.291 | |
p.matrix | 0.186 | 0.000 | 0.186 | |
randomGeneSetDb | 0.111 | 0.004 | 0.114 | |
renameCollections | 0.106 | 0.000 | 0.093 | |
renameRows | 0.521 | 0.020 | 0.542 | |
results | 0.124 | 0.000 | 0.124 | |
scale_rows | 0.005 | 0.000 | 0.005 | |
scoreSingleSamples | 12.454 | 0.080 | 12.542 | |
seas | 8.487 | 0.188 | 8.466 | |
sparrow_methods | 0.003 | 0.000 | 0.004 | |
species_info | 0.007 | 0.000 | 0.007 | |
subset.GeneSetDb | 0.081 | 0.004 | 0.076 | |
subsetByFeatures | 0.101 | 0.004 | 0.091 | |
validateInputs | 0.178 | 0.004 | 0.174 | |
volcanoPlot | 2.404 | 0.048 | 2.458 | |
volcanoStatsTable | 0.074 | 0.000 | 0.074 | |
zScore | 1.196 | 0.020 | 1.209 | |