Back to Multiple platform build/check report for BioC 3.21:   simplified   long
ABCDEFGHIJKLMNOPQRS[T]UVWXYZ

This page was generated on 2025-01-28 11:48 -0500 (Tue, 28 Jan 2025).

HostnameOSArch (*)R versionInstalled pkgs
nebbiolo1Linux (Ubuntu 24.04.1 LTS)x86_64R Under development (unstable) (2025-01-20 r87609) -- "Unsuffered Consequences" 4659
palomino7Windows Server 2022 Datacenterx64R Under development (unstable) (2025-01-21 r87610 ucrt) -- "Unsuffered Consequences" 4454
lconwaymacOS 12.7.1 Montereyx86_64R Under development (unstable) (2025-01-22 r87618) -- "Unsuffered Consequences" 4465
kjohnson3macOS 13.7.1 Venturaarm64R Under development (unstable) (2025-01-20 r87609) -- "Unsuffered Consequences" 4419
kunpeng2Linux (openEuler 22.03 LTS-SP1)aarch64R Under development (unstable) (2024-11-24 r87369) -- "Unsuffered Consequences" 4409
Click on any hostname to see more info about the system (e.g. compilers)      (*) as reported by 'uname -p', except on Windows and Mac OS X

Package 2141/2286HostnameOS / ArchINSTALLBUILDCHECKBUILD BIN
tidytof 1.1.0  (landing page)
Timothy Keyes
Snapshot Date: 2025-01-27 13:40 -0500 (Mon, 27 Jan 2025)
git_url: https://git.bioconductor.org/packages/tidytof
git_branch: devel
git_last_commit: 3ca5f4a
git_last_commit_date: 2024-10-29 11:33:26 -0500 (Tue, 29 Oct 2024)
nebbiolo1Linux (Ubuntu 24.04.1 LTS) / x86_64  OK    OK    OK  UNNEEDED, same version is already published
palomino7Windows Server 2022 Datacenter / x64  OK    OK    OK    OK  UNNEEDED, same version is already published
lconwaymacOS 12.7.1 Monterey / x86_64  OK    OK    OK    OK  UNNEEDED, same version is already published
kjohnson3macOS 13.7.1 Ventura / arm64  OK    OK    OK    OK  UNNEEDED, same version is already published
kunpeng2Linux (openEuler 22.03 LTS-SP1) / aarch64  OK    OK    OK  


CHECK results for tidytof on kunpeng2

To the developers/maintainers of the tidytof package:
- Allow up to 24 hours (and sometimes 48 hours) for your latest push to git@git.bioconductor.org:packages/tidytof.git to reflect on this report. See Troubleshooting Build Report for more information.
- Use the following Renviron settings to reproduce errors and warnings.
- If 'R CMD check' started to fail recently on the Linux builder(s) over a missing dependency, add the missing dependency to 'Suggests:' in your DESCRIPTION file. See Renviron.bioc for more information.
- See Martin Grigorov's blog post for how to debug Linux ARM64 related issues on a x86_64 host.

raw results


Summary

Package: tidytof
Version: 1.1.0
Command: /home/biocbuild/R/R/bin/R CMD check --install=check:tidytof.install-out.txt --library=/home/biocbuild/R/R/site-library --no-vignettes --timings tidytof_1.1.0.tar.gz
StartedAt: 2025-01-28 16:07:36 -0000 (Tue, 28 Jan 2025)
EndedAt: 2025-01-28 16:16:56 -0000 (Tue, 28 Jan 2025)
EllapsedTime: 559.7 seconds
RetCode: 0
Status:   OK  
CheckDir: tidytof.Rcheck
Warnings: 0

Command output

##############################################################################
##############################################################################
###
### Running command:
###
###   /home/biocbuild/R/R/bin/R CMD check --install=check:tidytof.install-out.txt --library=/home/biocbuild/R/R/site-library --no-vignettes --timings tidytof_1.1.0.tar.gz
###
##############################################################################
##############################################################################


* using log directory ‘/home/biocbuild/bbs-3.21-bioc/meat/tidytof.Rcheck’
* using R Under development (unstable) (2024-11-24 r87369)
* using platform: aarch64-unknown-linux-gnu
* R was compiled by
    aarch64-unknown-linux-gnu-gcc (GCC) 14.2.0
    GNU Fortran (GCC) 14.2.0
* running under: openEuler 24.03 (LTS)
* using session charset: UTF-8
* using option ‘--no-vignettes’
* checking for file ‘tidytof/DESCRIPTION’ ... OK
* checking extension type ... Package
* this is package ‘tidytof’ version ‘1.1.0’
* package encoding: UTF-8
* checking package namespace information ... OK
* checking package dependencies ... OK
* checking if this is a source package ... OK
* checking if there is a namespace ... OK
* checking for hidden files and directories ... OK
* checking for portable file names ... OK
* checking for sufficient/correct file permissions ... OK
* checking whether package ‘tidytof’ can be installed ... OK
* used C++ compiler: ‘aarch64-unknown-linux-gnu-g++ (GCC) 14.2.0’
* checking installed package size ... INFO
  installed size is  5.2Mb
  sub-directories of 1Mb or more:
    help   2.1Mb
    libs   1.3Mb
* checking package directory ... OK
* checking ‘build’ directory ... OK
* checking DESCRIPTION meta-information ... OK
* checking top-level files ... OK
* checking for left-over files ... OK
* checking index information ... OK
* checking package subdirectories ...Warning: program compiled against libxml 212 using older 211
 OK
* checking code files for non-ASCII characters ... OK
* checking R files for syntax errors ... OK
* checking whether the package can be loaded ... OK
* checking whether the package can be loaded with stated dependencies ... OK
* checking whether the package can be unloaded cleanly ... OK
* checking whether the namespace can be loaded with stated dependencies ... OK
* checking whether the namespace can be unloaded cleanly ... OK
* checking loading without being on the library search path ... OK
* checking dependencies in R code ... OK
* checking S3 generic/method consistency ... OK
* checking replacement functions ... OK
* checking foreign function calls ... OK
* checking R code for possible problems ... OK
* checking Rd files ... OK
* checking Rd metadata ... OK
* checking Rd cross-references ... OK
* checking for missing documentation entries ... OK
* checking for code/documentation mismatches ... OK
* checking Rd \usage sections ... OK
* checking Rd contents ... OK
* checking for unstated dependencies in examples ... OK
* checking contents of ‘data’ directory ... OK
* checking data for non-ASCII characters ... OK
* checking data for ASCII and uncompressed saves ... OK
* checking R/sysdata.rda ... OK
* checking line endings in C/C++/Fortran sources/headers ... OK
* checking compiled code ... NOTE
Note: information on .o files is not available
* checking files in ‘vignettes’ ... OK
* checking examples ... OK
Examples with CPU (user + system) or elapsed time > 5s
                           user system elapsed
tof_assess_clusters_knn  10.794  0.247  11.106
tof_plot_cells_layout     7.589  0.016   7.685
tof_cluster_flowsom       6.571  0.143   6.842
tof_plot_cells_embedding  5.847  0.012   6.410
* checking for unstated dependencies in ‘tests’ ... OK
* checking tests ...
  Running ‘spelling.R’
  Running ‘testthat.R’
 OK
* checking for unstated dependencies in vignettes ... OK
* checking package vignettes ... OK
* checking running R code from vignettes ... SKIPPED
* checking re-building of vignette outputs ... SKIPPED
* checking PDF version of manual ... OK
* DONE

Status: 1 NOTE
See
  ‘/home/biocbuild/bbs-3.21-bioc/meat/tidytof.Rcheck/00check.log’
for details.


Installation output

tidytof.Rcheck/00install.out

##############################################################################
##############################################################################
###
### Running command:
###
###   /home/biocbuild/R/R/bin/R CMD INSTALL tidytof
###
##############################################################################
##############################################################################


* installing to library ‘/home/biocbuild/R/R-4.5.0-devel_2024-11-24/site-library’
* installing *source* package ‘tidytof’ ...
** using staged installation
** libs
using C++ compiler: ‘aarch64-unknown-linux-gnu-g++ (GCC) 14.2.0’
/opt/ohpc/pub/compiler/gcc/14.2.0/bin/aarch64-unknown-linux-gnu-g++ -std=gnu++17 -I"/home/biocbuild/R/R/include" -DNDEBUG  -I'/home/biocbuild/R/R-4.5.0-devel_2024-11-24/site-library/Rcpp/include' -I/usr/local/include    -fPIC  -g -O2  -Wall -Werror=format-security -DR_NO_REMAP -c RcppExports.cpp -o RcppExports.o
/opt/ohpc/pub/compiler/gcc/14.2.0/bin/aarch64-unknown-linux-gnu-g++ -std=gnu++17 -I"/home/biocbuild/R/R/include" -DNDEBUG  -I'/home/biocbuild/R/R-4.5.0-devel_2024-11-24/site-library/Rcpp/include' -I/usr/local/include    -fPIC  -g -O2  -Wall -Werror=format-security -DR_NO_REMAP -c code.cpp -o code.o
/opt/ohpc/pub/compiler/gcc/14.2.0/bin/aarch64-unknown-linux-gnu-g++ -std=gnu++17 -shared -L/home/biocbuild/R/R/lib -L/usr/local/lib -o tidytof.so RcppExports.o code.o -L/home/biocbuild/R/R/lib -lR
installing to /home/biocbuild/R/R-4.5.0-devel_2024-11-24/site-library/00LOCK-tidytof/00new/tidytof/libs
** R
** data
** inst
** byte-compile and prepare package for lazy loading
** help
*** installing help indices
*** copying figures
** building package indices
** installing vignettes
** testing if installed package can be loaded from temporary location
** checking absolute paths in shared objects and dynamic libraries
** testing if installed package can be loaded from final location
** testing if installed package keeps a record of temporary installation path
* DONE (tidytof)

Tests output

tidytof.Rcheck/tests/spelling.Rout


R Under development (unstable) (2024-11-24 r87369) -- "Unsuffered Consequences"
Copyright (C) 2024 The R Foundation for Statistical Computing
Platform: aarch64-unknown-linux-gnu

R is free software and comes with ABSOLUTELY NO WARRANTY.
You are welcome to redistribute it under certain conditions.
Type 'license()' or 'licence()' for distribution details.

R is a collaborative project with many contributors.
Type 'contributors()' for more information and
'citation()' on how to cite R or R packages in publications.

Type 'demo()' for some demos, 'help()' for on-line help, or
'help.start()' for an HTML browser interface to help.
Type 'q()' to quit R.

> if (requireNamespace("spelling", quietly = TRUE)) {
+     spelling::spell_check_test(
+         vignettes = TRUE, error = FALSE,
+         skip_on_cran = TRUE
+     )
+ }
NULL
> 
> proc.time()
   user  system elapsed 
  0.214   0.009   0.209 

tidytof.Rcheck/tests/testthat.Rout


R Under development (unstable) (2024-11-24 r87369) -- "Unsuffered Consequences"
Copyright (C) 2024 The R Foundation for Statistical Computing
Platform: aarch64-unknown-linux-gnu

R is free software and comes with ABSOLUTELY NO WARRANTY.
You are welcome to redistribute it under certain conditions.
Type 'license()' or 'licence()' for distribution details.

R is a collaborative project with many contributors.
Type 'contributors()' for more information and
'citation()' on how to cite R or R packages in publications.

Type 'demo()' for some demos, 'help()' for on-line help, or
'help.start()' for an HTML browser interface to help.
Type 'q()' to quit R.

> Sys.setenv(R_TESTS="")
> library(testthat)
> library(tidytof)

Attaching package: 'tidytof'

The following object is masked from 'package:testthat':

    matches

> test_check("tidytof")

Attaching package: 'dplyr'

The following object is masked from 'package:testthat':

    matches

The following objects are masked from 'package:stats':

    filter, lag

The following objects are masked from 'package:base':

    intersect, setdiff, setequal, union


Attaching package: 'purrr'

The following object is masked from 'package:testthat':

    is_null


Attaching package: 'tidyr'

The following object is masked from 'package:testthat':

    matches

Loading required namespace: diffcyt

Attaching package: 'readr'

The following objects are masked from 'package:testthat':

    edition_get, local_edition

[ FAIL 0 | WARN 0 | SKIP 0 | PASS 709 ]
> 
> proc.time()
   user  system elapsed 
288.104   5.279 303.525 

Example timings

tidytof.Rcheck/tidytof-Ex.timings

nameusersystemelapsed
as_SingleCellExperiment000
as_flowFrame000
as_flowSet000
as_seurat000
as_tof_tbl0.0670.0080.143
make_flowcore_annotated_data_frame000
reexports000
rev_asinh0.0010.0000.000
tidytof_example_data0.0020.0000.002
tof_analyze_abundance000
tof_analyze_abundance_diffcyt000
tof_analyze_abundance_glmm0.0000.0000.001
tof_analyze_abundance_ttest000
tof_analyze_expression000
tof_analyze_expression_diffcyt000
tof_analyze_expression_lmm000
tof_analyze_expression_ttest0.0000.0000.001
tof_annotate_clusters0.1150.0160.240
tof_apply_classifier000
tof_assess_channels0.1000.0200.121
tof_assess_clusters_distance0.5350.0750.661
tof_assess_clusters_entropy0.9960.0481.046
tof_assess_clusters_knn10.794 0.24711.106
tof_assess_flow_rate0.9400.0360.979
tof_assess_flow_rate_tibble0.2300.0000.231
tof_assess_model0.4160.0040.420
tof_batch_correct000
tof_batch_correct_quantile000
tof_batch_correct_quantile_tibble000
tof_batch_correct_rescale000
tof_calculate_flow_rate0.0160.0000.016
tof_cluster0.4470.0080.456
tof_cluster_ddpr0.2250.0000.225
tof_cluster_flowsom6.5710.1436.842
tof_cluster_kmeans0.0420.0000.043
tof_cluster_phenograph1.4990.0081.509
tof_cosine_dist000
tof_create_grid0.0570.0080.065
tof_downsample0.2100.0040.321
tof_downsample_constant0.0840.0000.084
tof_downsample_density0.6010.0000.602
tof_downsample_prop0.0930.0000.094
tof_estimate_density0.4000.0040.412
tof_extract_central_tendency0.2260.0000.227
tof_extract_emd1.2660.0271.527
tof_extract_features0.7750.0080.787
tof_extract_jsd1.3180.0401.564
tof_extract_proportion0.1710.0000.171
tof_extract_threshold0.2000.0080.299
tof_find_knn0.1890.0200.209
tof_generate_palette0.0000.0000.001
tof_get_model_mixture0.2960.0040.300
tof_get_model_outcomes0.2960.0040.301
tof_get_model_penalty0.2640.0000.272
tof_get_model_training_data0.3170.0000.318
tof_get_model_type0.2610.0000.264
tof_get_model_x0.2770.0000.277
tof_get_model_y0.2930.0000.314
tof_get_panel0.0530.0000.105
tof_log_rank_test000
tof_make_knn_graph000
tof_make_roc_curve0.4110.0000.454
tof_metacluster0.9690.0080.979
tof_metacluster_consensus0.3940.0000.395
tof_metacluster_flowsom1.0160.0321.051
tof_metacluster_hierarchical0.0680.0000.067
tof_metacluster_kmeans0.0690.0000.069
tof_metacluster_phenograph0.0910.0000.092
tof_plot_cells_density0.0440.0000.045
tof_plot_cells_embedding5.8470.0126.410
tof_plot_cells_layout7.5890.0167.685
tof_plot_cells_scatter0.0030.0000.003
tof_plot_clusters_heatmap0.0730.0120.085
tof_plot_clusters_mst0.2880.0320.357
tof_plot_clusters_volcano0.0430.0040.048
tof_plot_model0.7830.0040.789
tof_plot_sample_features0.1260.0040.130
tof_plot_sample_heatmap0.0650.0000.066
tof_postprocess0.1320.0000.132
tof_predict0.3460.0000.375
tof_preprocess0.2000.0000.199
tof_read_data0.1020.0000.102
tof_reduce_dimensions2.8490.0213.284
tof_reduce_pca0.1980.0000.275
tof_reduce_tsne1.3980.0041.486
tof_reduce_umap4.1660.0124.565
tof_set_panel0.1030.0000.103
tof_spade_density0.4990.0080.509
tof_split_data0.0650.0000.064
tof_split_tidytof_reduced_dimensions0.0010.0000.000
tof_train_model2.3970.0042.406
tof_transform0.2020.0000.203
tof_upsample0.3250.0000.326
tof_upsample_distance0.4950.0040.500
tof_upsample_neighbor0.0660.0000.067
tof_write_data000
tof_write_fcs000
where000