Back to Multiple platform build/check report for BioC 3.21:   simplified   long
ABCDEFGHIJKLMNOPQRSTU[V]WXYZ

This page was generated on 2025-01-27 11:48 -0500 (Mon, 27 Jan 2025).

HostnameOSArch (*)R versionInstalled pkgs
nebbiolo1Linux (Ubuntu 24.04.1 LTS)x86_64R Under development (unstable) (2025-01-20 r87609) -- "Unsuffered Consequences" 4658
palomino7Windows Server 2022 Datacenterx64R Under development (unstable) (2025-01-21 r87610 ucrt) -- "Unsuffered Consequences" 4455
lconwaymacOS 12.7.1 Montereyx86_64R Under development (unstable) (2025-01-22 r87618) -- "Unsuffered Consequences" 4464
kjohnson3macOS 13.7.1 Venturaarm64R Under development (unstable) (2025-01-20 r87609) -- "Unsuffered Consequences" 4418
kunpeng2Linux (openEuler 22.03 LTS-SP1)aarch64R Under development (unstable) (2024-11-24 r87369) -- "Unsuffered Consequences" 4408
Click on any hostname to see more info about the system (e.g. compilers)      (*) as reported by 'uname -p', except on Windows and Mac OS X

Package 2230/2286HostnameOS / ArchINSTALLBUILDCHECKBUILD BIN
variancePartition 1.37.2  (landing page)
Gabriel E. Hoffman
Snapshot Date: 2025-01-26 13:40 -0500 (Sun, 26 Jan 2025)
git_url: https://git.bioconductor.org/packages/variancePartition
git_branch: devel
git_last_commit: ccb5903
git_last_commit_date: 2025-01-07 11:43:51 -0500 (Tue, 07 Jan 2025)
nebbiolo1Linux (Ubuntu 24.04.1 LTS) / x86_64  OK    OK    OK  UNNEEDED, same version is already published
palomino7Windows Server 2022 Datacenter / x64  OK    OK    OK    OK  UNNEEDED, same version is already published
lconwaymacOS 12.7.1 Monterey / x86_64  OK    OK    OK    OK  UNNEEDED, same version is already published
kjohnson3macOS 13.7.1 Ventura / arm64  OK    OK    OK    OK  UNNEEDED, same version is already published
kunpeng2Linux (openEuler 22.03 LTS-SP1) / aarch64  OK    OK    OK  


CHECK results for variancePartition on kunpeng2

To the developers/maintainers of the variancePartition package:
- Allow up to 24 hours (and sometimes 48 hours) for your latest push to git@git.bioconductor.org:packages/variancePartition.git to reflect on this report. See Troubleshooting Build Report for more information.
- Use the following Renviron settings to reproduce errors and warnings.
- If 'R CMD check' started to fail recently on the Linux builder(s) over a missing dependency, add the missing dependency to 'Suggests:' in your DESCRIPTION file. See Renviron.bioc for more information.
- See Martin Grigorov's blog post for how to debug Linux ARM64 related issues on a x86_64 host.

raw results


Summary

Package: variancePartition
Version: 1.37.2
Command: /home/biocbuild/R/R/bin/R CMD check --install=check:variancePartition.install-out.txt --library=/home/biocbuild/R/R/site-library --no-vignettes --timings variancePartition_1.37.2.tar.gz
StartedAt: 2025-01-27 13:47:47 -0000 (Mon, 27 Jan 2025)
EndedAt: 2025-01-27 14:00:18 -0000 (Mon, 27 Jan 2025)
EllapsedTime: 751.3 seconds
RetCode: 0
Status:   OK  
CheckDir: variancePartition.Rcheck
Warnings: 0

Command output

##############################################################################
##############################################################################
###
### Running command:
###
###   /home/biocbuild/R/R/bin/R CMD check --install=check:variancePartition.install-out.txt --library=/home/biocbuild/R/R/site-library --no-vignettes --timings variancePartition_1.37.2.tar.gz
###
##############################################################################
##############################################################################


* using log directory ‘/home/biocbuild/bbs-3.21-bioc/meat/variancePartition.Rcheck’
* using R Under development (unstable) (2024-11-24 r87369)
* using platform: aarch64-unknown-linux-gnu
* R was compiled by
    aarch64-unknown-linux-gnu-gcc (GCC) 14.2.0
    GNU Fortran (GCC) 14.2.0
* running under: openEuler 24.03 (LTS)
* using session charset: UTF-8
* using option ‘--no-vignettes’
* checking for file ‘variancePartition/DESCRIPTION’ ... OK
* checking extension type ... Package
* this is package ‘variancePartition’ version ‘1.37.2’
* package encoding: UTF-8
* checking package namespace information ... OK
* checking package dependencies ... OK
* checking if this is a source package ... OK
* checking if there is a namespace ... OK
* checking for hidden files and directories ... OK
* checking for portable file names ... OK
* checking for sufficient/correct file permissions ... OK
* checking whether package ‘variancePartition’ can be installed ... OK
* checking installed package size ... OK
* checking package directory ... OK
* checking ‘build’ directory ... OK
* checking DESCRIPTION meta-information ... OK
* checking top-level files ... OK
* checking for left-over files ... OK
* checking index information ... OK
* checking package subdirectories ...Warning: program compiled against libxml 212 using older 211
 OK
* checking code files for non-ASCII characters ... OK
* checking R files for syntax errors ... OK
* checking whether the package can be loaded ... OK
* checking whether the package can be loaded with stated dependencies ... OK
* checking whether the package can be unloaded cleanly ... OK
* checking whether the namespace can be loaded with stated dependencies ... OK
* checking whether the namespace can be unloaded cleanly ... OK
* checking loading without being on the library search path ... OK
* checking dependencies in R code ... NOTE
Unexported object imported by a ':::' call: ‘lmerTest:::as_lmerModLT’
  See the note in ?`:::` about the use of this operator.
* checking S3 generic/method consistency ... OK
* checking replacement functions ... OK
* checking foreign function calls ... OK
* checking R code for possible problems ... OK
* checking Rd files ... OK
* checking Rd metadata ... OK
* checking Rd cross-references ... OK
* checking for missing documentation entries ... OK
* checking for code/documentation mismatches ... OK
* checking Rd \usage sections ... NOTE
S3 methods shown with full name in Rd file 'residuals.MArrayLM2.Rd':
  ‘residuals.MArrayLM2’

The \usage entries for S3 methods should use the \method markup and not
their full name.
See chapter ‘Writing R documentation files’ in the ‘Writing R
Extensions’ manual.
* checking Rd contents ... OK
* checking for unstated dependencies in examples ... OK
* checking contents of ‘data’ directory ... OK
* checking data for non-ASCII characters ... OK
* checking data for ASCII and uncompressed saves ... OK
* checking files in ‘vignettes’ ... NOTE
The following directory looks like a leftover from 'knitr':
  ‘figure’
Please remove from your package.
* checking examples ... OK
Examples with CPU (user + system) or elapsed time > 5s
                                 user system elapsed
fitVarPartModel-method         41.784  0.104  48.922
fitExtractVarPartModel-method  32.608  0.165  37.867
getTreat-method                27.740  0.059  33.684
plotCompareP-method            21.112  0.040  28.196
extractVarPart                 20.543  0.351  24.077
varPartConfInf                 13.223  0.004  16.248
sortCols-method                10.299  0.056  14.014
plotPercentBars-method         10.038  0.008  11.623
plotVarPart-method              9.968  0.040  11.855
residuals-VarParFitList-method  9.317  0.000  10.029
mvTest-method                   8.252  0.042  21.986
dream-method                    4.597  0.096  14.346
voomWithDreamWeights            3.789  0.016   5.359
* checking for unstated dependencies in ‘tests’ ... OK
* checking tests ...
  Running ‘runTests.R’
 OK
* checking for unstated dependencies in vignettes ... OK
* checking package vignettes ... OK
* checking running R code from vignettes ... SKIPPED
* checking re-building of vignette outputs ... SKIPPED
* checking PDF version of manual ... OK
* DONE

Status: 3 NOTEs
See
  ‘/home/biocbuild/bbs-3.21-bioc/meat/variancePartition.Rcheck/00check.log’
for details.


Installation output

variancePartition.Rcheck/00install.out

##############################################################################
##############################################################################
###
### Running command:
###
###   /home/biocbuild/R/R/bin/R CMD INSTALL variancePartition
###
##############################################################################
##############################################################################


* installing to library ‘/home/biocbuild/R/R-4.5.0-devel_2024-11-24/site-library’
* installing *source* package ‘variancePartition’ ...
** using staged installation
** R
** data
** inst
** byte-compile and prepare package for lazy loading
in method for ‘calcVarPart’ with signature ‘"negbin"’: no definition for class “negbin”
in method for ‘checkModelStatus’ with signature ‘"negbin"’: no definition for class “negbin”
Creating a new generic function for ‘classifyTestsF’ in package ‘variancePartition’
Creating a new generic function for ‘topTable’ in package ‘variancePartition’
** help
Loading required namespace: variancePartition
*** installing help indices
*** copying figures
** building package indices
** installing vignettes
** testing if installed package can be loaded from temporary location
** testing if installed package can be loaded from final location
** testing if installed package keeps a record of temporary installation path
* DONE (variancePartition)

Tests output

variancePartition.Rcheck/tests/runTests.Rout


R Under development (unstable) (2024-11-24 r87369) -- "Unsuffered Consequences"
Copyright (C) 2024 The R Foundation for Statistical Computing
Platform: aarch64-unknown-linux-gnu

R is free software and comes with ABSOLUTELY NO WARRANTY.
You are welcome to redistribute it under certain conditions.
Type 'license()' or 'licence()' for distribution details.

R is a collaborative project with many contributors.
Type 'contributors()' for more information and
'citation()' on how to cite R or R packages in publications.

Type 'demo()' for some demos, 'help()' for on-line help, or
'help.start()' for an HTML browser interface to help.
Type 'q()' to quit R.

> BiocGenerics:::testPackage("variancePartition")

Attaching package: 'variancePartition'

The following object is masked from 'package:limma':

    topTable

Loading required package: lme4
Loading required package: Matrix

Attaching package: 'lmerTest'

The following object is masked from 'package:lme4':

    lmer

The following object is masked from 'package:stats':

    step

boundary (singular) fit: see help('isSingular')
boundary (singular) fit: see help('isSingular')
Removing intercept from test coefficients
Removing intercept from test coefficients
boundary (singular) fit: see help('isSingular')
boundary (singular) fit: see help('isSingular')
boundary (singular) fit: see help('isSingular')
boundary (singular) fit: see help('isSingular')
boundary (singular) fit: see help('isSingular')
boundary (singular) fit: see help('isSingular')
boundary (singular) fit: see help('isSingular')
boundary (singular) fit: see help('isSingular')
boundary (singular) fit: see help('isSingular')
boundary (singular) fit: see help('isSingular')
boundary (singular) fit: see help('isSingular')
boundary (singular) fit: see help('isSingular')
boundary (singular) fit: see help('isSingular')
boundary (singular) fit: see help('isSingular')
boundary (singular) fit: see help('isSingular')
boundary (singular) fit: see help('isSingular')
boundary (singular) fit: see help('isSingular')
boundary (singular) fit: see help('isSingular')
Removing intercept from test coefficients
Removing intercept from test coefficients
Loading required package: Rcpp
Loading required package: RcppZiggurat
Loading required package: RcppParallel

Attaching package: 'RcppParallel'

The following object is masked from 'package:Rcpp':

    LdFlags


Rfast: 2.1.4
 ___ __ __ __ __    __ __ __ __ __ _             _               __ __ __ __ __     __ __ __ __ __ __   
|  __ __ __ __  |  |  __ __ __ __ _/            / \             |  __ __ __ __ /   /__ __ _   _ __ __\  
| |           | |  | |                         / _ \            | |                        / /          
| |           | |  | |                        / / \ \           | |                       / /          
| |           | |  | |                       / /   \ \          | |                      / /          
| |__ __ __ __| |  | |__ __ __ __           / /     \ \         | |__ __ __ __ _        / /__/\          
|    __ __ __ __|  |  __ __ __ __|         / /__ _ __\ \        |_ __ __ __ _   |      / ___  /           
|   \              | |                    / _ _ _ _ _ _ \                     | |      \/  / /       
| |\ \             | |                   / /           \ \                    | |         / /          
| | \ \            | |                  / /             \ \                   | |        / /          
| |  \ \           | |                 / /               \ \                  | |       / /          
| |   \ \__ __ _   | |                / /                 \ \     _ __ __ __ _| |      / /          
|_|    \__ __ __\  |_|               /_/                   \_\   /_ __ __ __ ___|      \/             team

Attaching package: 'Rfast'

The following object is masked from 'package:edgeR':

    gini

Warning: 
Variables contain NA's: Disease 
Samples with missing data will be dropped.



RUNIT TEST PROTOCOL -- Mon Jan 27 14:00:10 2025 
*********************************************** 
Number of test functions: 30 
Number of errors: 0 
Number of failures: 0 

 
1 Test Suite : 
variancePartition RUnit Tests - 30 test functions, 0 errors, 0 failures
Number of test functions: 30 
Number of errors: 0 
Number of failures: 0 
There were 29 warnings (use warnings() to see them)
> 
> proc.time()
   user  system elapsed 
223.958   1.653 312.165 

Example timings

variancePartition.Rcheck/variancePartition-Ex.timings

nameusersystemelapsed
ESS-method0.2090.0120.358
as.data.frame.varPartResults0.4400.0010.442
as.matrix-varPartResults-method0.4360.0000.438
augmentPriorCount0.9880.0421.447
calcVarPart-method0.0680.0080.076
canCorPairs0.0890.0000.089
colinearityScore0.6170.0010.878
deviation-method1.7510.0202.477
diffVar-method1.7500.0561.955
dream-method 4.597 0.09614.346
extractVarPart20.543 0.35124.077
fitExtractVarPartModel-method32.608 0.16537.867
fitVarPartModel-method41.784 0.10448.922
getContrast-method0.0080.0000.009
getTreat-method27.740 0.05933.684
get_prediction-method0.0890.0040.159
ggColorHue000
makeContrastsDream2.0640.0052.483
mvTest-method 8.252 0.04221.986
plotCompareP-method21.112 0.04028.196
plotContrasts0.2410.0000.457
plotCorrMatrix0.0780.0040.167
plotCorrStructure1.0520.0081.460
plotPercentBars-method10.038 0.00811.623
plotStratify0.9190.0031.133
plotStratifyBy0.9120.0000.982
plotVarPart-method 9.968 0.04011.855
rdf0.0310.0000.030
rdf.merMod0.0650.0000.065
residuals-VarParFitList-method 9.317 0.00010.029
sortCols-method10.299 0.05614.014
varPartConfInf13.223 0.00416.248
vcovSqrt-method0.0200.0000.019
voomWithDreamWeights3.7890.0165.359