Back to Multiple platform build/check report for BioC 3.21:   simplified   long
ABCDEFGHIJKLMNOPQRSTUV[W]XYZ

This page was generated on 2025-02-01 11:42 -0500 (Sat, 01 Feb 2025).

HostnameOSArch (*)R versionInstalled pkgs
nebbiolo1Linux (Ubuntu 24.04.1 LTS)x86_64R Under development (unstable) (2025-01-20 r87609) -- "Unsuffered Consequences" 4704
palomino7Windows Server 2022 Datacenterx64R Under development (unstable) (2025-01-21 r87610 ucrt) -- "Unsuffered Consequences" 4467
lconwaymacOS 12.7.1 Montereyx86_64R Under development (unstable) (2025-01-22 r87618) -- "Unsuffered Consequences" 4478
kjohnson3macOS 13.7.1 Venturaarm64R Under development (unstable) (2025-01-20 r87609) -- "Unsuffered Consequences" 4431
Click on any hostname to see more info about the system (e.g. compilers)      (*) as reported by 'uname -p', except on Windows and Mac OS X

Package 2268/2289HostnameOS / ArchINSTALLBUILDCHECKBUILD BIN
wppi 1.15.0  (landing page)
Ana Galhoz
Snapshot Date: 2025-01-31 13:40 -0500 (Fri, 31 Jan 2025)
git_url: https://git.bioconductor.org/packages/wppi
git_branch: devel
git_last_commit: 321e17d
git_last_commit_date: 2024-10-29 10:58:10 -0500 (Tue, 29 Oct 2024)
nebbiolo1Linux (Ubuntu 24.04.1 LTS) / x86_64  OK    OK    OK  UNNEEDED, same version is already published
palomino7Windows Server 2022 Datacenter / x64  OK    OK    OK    OK  UNNEEDED, same version is already published
lconwaymacOS 12.7.1 Monterey / x86_64  OK    OK    OK    OK  UNNEEDED, same version is already published
kjohnson3macOS 13.7.1 Ventura / arm64  OK    OK    OK    OK  UNNEEDED, same version is already published


CHECK results for wppi on palomino7

To the developers/maintainers of the wppi package:
- Allow up to 24 hours (and sometimes 48 hours) for your latest push to git@git.bioconductor.org:packages/wppi.git to reflect on this report. See Troubleshooting Build Report for more information.
- Use the following Renviron settings to reproduce errors and warnings.
- If 'R CMD check' started to fail recently on the Linux builder(s) over a missing dependency, add the missing dependency to 'Suggests:' in your DESCRIPTION file. See Renviron.bioc for more information.

raw results


Summary

Package: wppi
Version: 1.15.0
Command: E:\biocbuild\bbs-3.21-bioc\R\bin\R.exe CMD check --no-multiarch --install=check:wppi.install-out.txt --library=E:\biocbuild\bbs-3.21-bioc\R\library --no-vignettes --timings wppi_1.15.0.tar.gz
StartedAt: 2025-02-01 06:13:05 -0500 (Sat, 01 Feb 2025)
EndedAt: 2025-02-01 06:18:59 -0500 (Sat, 01 Feb 2025)
EllapsedTime: 353.9 seconds
RetCode: 0
Status:   OK  
CheckDir: wppi.Rcheck
Warnings: 0

Command output

##############################################################################
##############################################################################
###
### Running command:
###
###   E:\biocbuild\bbs-3.21-bioc\R\bin\R.exe CMD check --no-multiarch --install=check:wppi.install-out.txt --library=E:\biocbuild\bbs-3.21-bioc\R\library --no-vignettes --timings wppi_1.15.0.tar.gz
###
##############################################################################
##############################################################################


* using log directory 'E:/biocbuild/bbs-3.21-bioc/meat/wppi.Rcheck'
* using R Under development (unstable) (2025-01-21 r87610 ucrt)
* using platform: x86_64-w64-mingw32
* R was compiled by
    gcc.exe (GCC) 13.3.0
    GNU Fortran (GCC) 13.3.0
* running under: Windows Server 2022 x64 (build 20348)
* using session charset: UTF-8
* using option '--no-vignettes'
* checking for file 'wppi/DESCRIPTION' ... OK
* checking extension type ... Package
* this is package 'wppi' version '1.15.0'
* package encoding: UTF-8
* checking package namespace information ... OK
* checking package dependencies ... OK
* checking if this is a source package ... OK
* checking if there is a namespace ... OK
* checking for hidden files and directories ... OK
* checking for portable file names ... OK
* checking whether package 'wppi' can be installed ... OK
* checking installed package size ... OK
* checking package directory ... OK
* checking 'build' directory ... OK
* checking DESCRIPTION meta-information ... NOTE
License stub is invalid DCF.
* checking top-level files ... OK
* checking for left-over files ... OK
* checking index information ... OK
* checking package subdirectories ... OK
* checking code files for non-ASCII characters ... OK
* checking R files for syntax errors ... OK
* checking whether the package can be loaded ... OK
* checking whether the package can be loaded with stated dependencies ... OK
* checking whether the package can be unloaded cleanly ... OK
* checking whether the namespace can be loaded with stated dependencies ... OK
* checking whether the namespace can be unloaded cleanly ... OK
* checking whether startup messages can be suppressed ... NOTE
[2025-02-01 06:13:44] [TRACE]   [OmnipathR] Reading JSON from `C:\Users\biocbuild\AppData\Local\Cache\OmnipathR/cache.json` (encoding: UTF-8).
[2025-02-01 06:13:44] [TRACE]   [OmnipathR] JSON validation successful: TRUE
[2025-02-01 06:13:44] [INFO]    [OmnipathR] Initialized cache: `C:\Users\biocbuild\AppData\Local\Cache\OmnipathR`.
[2025-02-01 06:13:44] [TRACE]   [OmnipathR] Running on a build server, wiping cache.
[2025-02-01 06:13:44] [TRACE]   [OmnipathR] Cache is at `C:\Users\biocbuild\AppData\Local\Cache\OmnipathR`.
[2025-02-01 06:13:44] [TRACE]   [OmnipathR] Contains 1 files.
[2025-02-01 06:13:44] [TRACE]   [OmnipathR] Cache is locked: FALSE.
[2025-02-01 06:13:44] [TRACE]   [OmnipathR] Reading JSON from `C:\Users\biocbuild\AppData\Local\Cache\OmnipathR/cache.json` (encoding: UTF-8).
[2025-02-01 06:13:44] [TRACE]   [OmnipathR] JSON validation successful: TRUE
[2025-02-01 06:13:44] [SUCCESS] [OmnipathR] Removing all cache contents from `C:\Users\biocbuild\AppData\Local\Cache\OmnipathR`.
[2025-02-01 06:13:44] [TRACE]   [OmnipathR] Pandoc version: `2.7.3`.
[2025-02-01 06:13:44] [TRACE]   [OmnipathR] Reading JSON from `E:/biocbuild/bbs-3.21-bioc/R/library/OmnipathR/db/db_def.json` (encoding: UTF-8).
[2025-02-01 06:13:44] [TRACE]   [OmnipathR] JSON validation successful: TRUE
[2025-02-01 06:13:44] [TRACE]   [OmnipathR] Reading JSON from `E:/biocbuild/bbs-3.21-bioc/R/library/OmnipathR/internal/magic_bytes.json` (encoding: UTF-8).
[2025-02-01 06:13:44] [TRACE]   [OmnipathR] JSON validation successful: TRUE
[2025-02-01 06:13:44] [TRACE]   [OmnipathR] Reading JSON from `E:/biocbuild/bbs-3.21-bioc/R/library/OmnipathR/internal/urls.json` (encoding: UTF-8).
[2025-02-01 06:13:44] [TRACE]   [OmnipathR] JSON validation successful: TRUE
[2025-02-01 06:13:44] [TRACE]   [OmnipathR] Reading JSON from `E:/biocbuild/bbs-3.21-bioc/R/library/OmnipathR/internal/id_types.json` (encoding: UTF-8).
[2025-02-01 06:13:44] [TRACE]   [OmnipathR] JSON validation successful: TRUE
[2025-02-01 06:13:44] [TRACE]   [OmnipathR] Cache locked: FALSE

It looks like this package (or a package it requires) has a startup
message which cannot be suppressed: see ?packageStartupMessage.
* checking dependencies in R code ... OK
* checking S3 generic/method consistency ... OK
* checking replacement functions ... OK
* checking foreign function calls ... OK
* checking R code for possible problems ... NOTE
[2025-02-01 06:14:06] [TRACE]   [OmnipathR] Reading JSON from `C:\Users\biocbuild\AppData\Local\Cache\OmnipathR/cache.json` (encoding: UTF-8).
[2025-02-01 06:14:06] [TRACE]   [OmnipathR] JSON validation successful: TRUE
[2025-02-01 06:14:06] [INFO]    [OmnipathR] Initialized cache: `C:\Users\biocbuild\AppData\Local\Cache\OmnipathR`.
[2025-02-01 06:14:06] [TRACE]   [OmnipathR] Running on a build server, wiping cache.
[2025-02-01 06:14:06] [TRACE]   [OmnipathR] Cache is at `C:\Users\biocbuild\AppData\Local\Cache\OmnipathR`.
[2025-02-01 06:14:06] [TRACE]   [OmnipathR] Contains 1 files.
[2025-02-01 06:14:06] [TRACE]   [OmnipathR] Cache is locked: FALSE.
[2025-02-01 06:14:06] [TRACE]   [OmnipathR] Reading JSON from `C:\Users\biocbuild\AppData\Local\Cache\OmnipathR/cache.json` (encoding: UTF-8).
[2025-02-01 06:14:06] [TRACE]   [OmnipathR] JSON validation successful: TRUE
[2025-02-01 06:14:06] [SUCCESS] [OmnipathR] Removing all cache contents from `C:\Users\biocbuild\AppData\Local\Cache\OmnipathR`.
[2025-02-01 06:14:07] [TRACE]   [OmnipathR] Pandoc version: `2.7.3`.
[2025-02-01 06:14:07] [TRACE]   [OmnipathR] Reading JSON from `E:/biocbuild/bbs-3.21-bioc/R/library/OmnipathR/db/db_def.json` (encoding: UTF-8).
[2025-02-01 06:14:07] [TRACE]   [OmnipathR] JSON validation successful: TRUE
[2025-02-01 06:14:07] [TRACE]   [OmnipathR] Reading JSON from `E:/biocbuild/bbs-3.21-bioc/R/library/OmnipathR/internal/magic_bytes.json` (encoding: UTF-8).
[2025-02-01 06:14:07] [TRACE]   [OmnipathR] JSON validation successful: TRUE
[2025-02-01 06:14:07] [TRACE]   [OmnipathR] Reading JSON from `E:/biocbuild/bbs-3.21-bioc/R/library/OmnipathR/internal/urls.json` (encoding: UTF-8).
[2025-02-01 06:14:07] [TRACE]   [OmnipathR] JSON validation successful: TRUE
[2025-02-01 06:14:07] [TRACE]   [OmnipathR] Reading JSON from `E:/biocbuild/bbs-3.21-bioc/R/library/OmnipathR/internal/id_types.json` (encoding: UTF-8).
[2025-02-01 06:14:07] [TRACE]   [OmnipathR] JSON validation successful: TRUE
[2025-02-01 06:14:07] [TRACE]   [OmnipathR] Cache locked: FALSE
* checking Rd files ... OK
* checking Rd metadata ... OK
* checking Rd cross-references ... OK
* checking for missing documentation entries ... OK
* checking for code/documentation mismatches ... OK
* checking Rd \usage sections ... OK
* checking Rd contents ... OK
* checking for unstated dependencies in examples ... OK
* checking files in 'vignettes' ... OK
* checking examples ... OK
Examples with CPU (user + system) or elapsed time > 5s
                                user system elapsed
wppi                           57.48   0.95   58.50
score_candidate_genes_from_PPI 30.44   0.48   30.92
random_walk                    28.76   0.34   29.14
prioritization_genes           26.03   0.42   26.46
weighted_adj                   24.28   0.45   24.75
common_neighbors               15.72   0.36   18.41
count_genes                    13.40   0.91   12.93
wppi_data                       8.75   0.16    8.90
filter_annot_with_network       8.55   0.14    8.69
subgraph_op                     5.27   0.07    5.36
* checking for unstated dependencies in vignettes ... OK
* checking package vignettes ... OK
* checking running R code from vignettes ... SKIPPED
* checking re-building of vignette outputs ... SKIPPED
* checking PDF version of manual ... OK
* DONE

Status: 3 NOTEs
See
  'E:/biocbuild/bbs-3.21-bioc/meat/wppi.Rcheck/00check.log'
for details.


Installation output

wppi.Rcheck/00install.out

##############################################################################
##############################################################################
###
### Running command:
###
###   E:\biocbuild\bbs-3.21-bioc\R\bin\R.exe CMD INSTALL wppi
###
##############################################################################
##############################################################################


* installing to library 'E:/biocbuild/bbs-3.21-bioc/R/library'
* installing *source* package 'wppi' ...
** this is package 'wppi' version '1.15.0'
** using staged installation
** R
** byte-compile and prepare package for lazy loading
[2025-01-31 16:09:14] [TRACE]   [OmnipathR] Reading JSON from `C:\Users\biocbuild\AppData\Local\Cache\OmnipathR/cache.json` (encoding: UTF-8).
[2025-01-31 16:09:14] [TRACE]   [OmnipathR] JSON validation successful: TRUE
[2025-01-31 16:09:14] [INFO]    [OmnipathR] Initialized cache: `C:\Users\biocbuild\AppData\Local\Cache\OmnipathR`.
[2025-01-31 16:09:14] [TRACE]   [OmnipathR] Running on a build server, wiping cache.
[2025-01-31 16:09:14] [TRACE]   [OmnipathR] Cache is at `C:\Users\biocbuild\AppData\Local\Cache\OmnipathR`.
[2025-01-31 16:09:14] [TRACE]   [OmnipathR] Contains 1 files.
[2025-01-31 16:09:14] [TRACE]   [OmnipathR] Cache is locked: FALSE.
[2025-01-31 16:09:14] [TRACE]   [OmnipathR] Reading JSON from `C:\Users\biocbuild\AppData\Local\Cache\OmnipathR/cache.json` (encoding: UTF-8).
[2025-01-31 16:09:14] [TRACE]   [OmnipathR] JSON validation successful: TRUE
[2025-01-31 16:09:14] [SUCCESS] [OmnipathR] Removing all cache contents from `C:\Users\biocbuild\AppData\Local\Cache\OmnipathR`.
[2025-01-31 16:09:14] [TRACE]   [OmnipathR] Pandoc version: `2.7.3`.
[2025-01-31 16:09:14] [TRACE]   [OmnipathR] Reading JSON from `E:/biocbuild/bbs-3.21-bioc/R/library/OmnipathR/db/db_def.json` (encoding: UTF-8).
[2025-01-31 16:09:14] [TRACE]   [OmnipathR] JSON validation successful: TRUE
[2025-01-31 16:09:14] [TRACE]   [OmnipathR] Reading JSON from `E:/biocbuild/bbs-3.21-bioc/R/library/OmnipathR/internal/magic_bytes.json` (encoding: UTF-8).
[2025-01-31 16:09:14] [TRACE]   [OmnipathR] JSON validation successful: TRUE
[2025-01-31 16:09:15] [TRACE]   [OmnipathR] Reading JSON from `E:/biocbuild/bbs-3.21-bioc/R/library/OmnipathR/internal/urls.json` (encoding: UTF-8).
[2025-01-31 16:09:15] [TRACE]   [OmnipathR] JSON validation successful: TRUE
[2025-01-31 16:09:15] [TRACE]   [OmnipathR] Reading JSON from `E:/biocbuild/bbs-3.21-bioc/R/library/OmnipathR/internal/id_types.json` (encoding: UTF-8).
[2025-01-31 16:09:15] [TRACE]   [OmnipathR] JSON validation successful: TRUE
[2025-01-31 16:09:15] [TRACE]   [OmnipathR] Cache locked: FALSE
Note: wrong number of arguments to '/' 
** help
*** installing help indices
** building package indices
** installing vignettes
** testing if installed package can be loaded from temporary location
[2025-01-31 16:09:22] [TRACE]   [OmnipathR] Reading JSON from `C:\Users\biocbuild\AppData\Local\Cache\OmnipathR/cache.json` (encoding: UTF-8).
[2025-01-31 16:09:22] [TRACE]   [OmnipathR] JSON validation successful: TRUE
[2025-01-31 16:09:22] [INFO]    [OmnipathR] Initialized cache: `C:\Users\biocbuild\AppData\Local\Cache\OmnipathR`.
[2025-01-31 16:09:22] [TRACE]   [OmnipathR] Running on a build server, wiping cache.
[2025-01-31 16:09:22] [TRACE]   [OmnipathR] Cache is at `C:\Users\biocbuild\AppData\Local\Cache\OmnipathR`.
[2025-01-31 16:09:22] [TRACE]   [OmnipathR] Contains 1 files.
[2025-01-31 16:09:22] [TRACE]   [OmnipathR] Cache is locked: FALSE.
[2025-01-31 16:09:22] [TRACE]   [OmnipathR] Reading JSON from `C:\Users\biocbuild\AppData\Local\Cache\OmnipathR/cache.json` (encoding: UTF-8).
[2025-01-31 16:09:22] [TRACE]   [OmnipathR] JSON validation successful: TRUE
[2025-01-31 16:09:22] [SUCCESS] [OmnipathR] Removing all cache contents from `C:\Users\biocbuild\AppData\Local\Cache\OmnipathR`.
[2025-01-31 16:09:23] [TRACE]   [OmnipathR] Pandoc version: `2.7.3`.
[2025-01-31 16:09:23] [TRACE]   [OmnipathR] Reading JSON from `E:/biocbuild/bbs-3.21-bioc/R/library/OmnipathR/db/db_def.json` (encoding: UTF-8).
[2025-01-31 16:09:23] [TRACE]   [OmnipathR] JSON validation successful: TRUE
[2025-01-31 16:09:23] [TRACE]   [OmnipathR] Reading JSON from `E:/biocbuild/bbs-3.21-bioc/R/library/OmnipathR/internal/magic_bytes.json` (encoding: UTF-8).
[2025-01-31 16:09:23] [TRACE]   [OmnipathR] JSON validation successful: TRUE
[2025-01-31 16:09:23] [TRACE]   [OmnipathR] Reading JSON from `E:/biocbuild/bbs-3.21-bioc/R/library/OmnipathR/internal/urls.json` (encoding: UTF-8).
[2025-01-31 16:09:23] [TRACE]   [OmnipathR] JSON validation successful: TRUE
[2025-01-31 16:09:23] [TRACE]   [OmnipathR] Reading JSON from `E:/biocbuild/bbs-3.21-bioc/R/library/OmnipathR/internal/id_types.json` (encoding: UTF-8).
[2025-01-31 16:09:23] [TRACE]   [OmnipathR] JSON validation successful: TRUE
[2025-01-31 16:09:23] [TRACE]   [OmnipathR] Cache locked: FALSE
** testing if installed package can be loaded from final location
[2025-01-31 16:09:27] [TRACE]   [OmnipathR] Reading JSON from `C:\Users\biocbuild\AppData\Local\Cache\OmnipathR/cache.json` (encoding: UTF-8).
[2025-01-31 16:09:27] [TRACE]   [OmnipathR] JSON validation successful: TRUE
[2025-01-31 16:09:27] [INFO]    [OmnipathR] Initialized cache: `C:\Users\biocbuild\AppData\Local\Cache\OmnipathR`.
[2025-01-31 16:09:27] [TRACE]   [OmnipathR] Running on a build server, wiping cache.
[2025-01-31 16:09:27] [TRACE]   [OmnipathR] Cache is at `C:\Users\biocbuild\AppData\Local\Cache\OmnipathR`.
[2025-01-31 16:09:27] [TRACE]   [OmnipathR] Contains 1 files.
[2025-01-31 16:09:27] [TRACE]   [OmnipathR] Cache is locked: FALSE.
[2025-01-31 16:09:27] [TRACE]   [OmnipathR] Reading JSON from `C:\Users\biocbuild\AppData\Local\Cache\OmnipathR/cache.json` (encoding: UTF-8).
[2025-01-31 16:09:27] [TRACE]   [OmnipathR] JSON validation successful: TRUE
[2025-01-31 16:09:27] [SUCCESS] [OmnipathR] Removing all cache contents from `C:\Users\biocbuild\AppData\Local\Cache\OmnipathR`.
[2025-01-31 16:09:27] [TRACE]   [OmnipathR] Pandoc version: `2.7.3`.
[2025-01-31 16:09:27] [TRACE]   [OmnipathR] Reading JSON from `E:/biocbuild/bbs-3.21-bioc/R/library/OmnipathR/db/db_def.json` (encoding: UTF-8).
[2025-01-31 16:09:27] [TRACE]   [OmnipathR] JSON validation successful: TRUE
[2025-01-31 16:09:27] [TRACE]   [OmnipathR] Reading JSON from `E:/biocbuild/bbs-3.21-bioc/R/library/OmnipathR/internal/magic_bytes.json` (encoding: UTF-8).
[2025-01-31 16:09:27] [TRACE]   [OmnipathR] JSON validation successful: TRUE
[2025-01-31 16:09:27] [TRACE]   [OmnipathR] Reading JSON from `E:/biocbuild/bbs-3.21-bioc/R/library/OmnipathR/internal/urls.json` (encoding: UTF-8).
[2025-01-31 16:09:27] [TRACE]   [OmnipathR] JSON validation successful: TRUE
[2025-01-31 16:09:27] [TRACE]   [OmnipathR] Reading JSON from `E:/biocbuild/bbs-3.21-bioc/R/library/OmnipathR/internal/id_types.json` (encoding: UTF-8).
[2025-01-31 16:09:27] [TRACE]   [OmnipathR] JSON validation successful: TRUE
[2025-01-31 16:09:27] [TRACE]   [OmnipathR] Cache locked: FALSE
** testing if installed package keeps a record of temporary installation path
* DONE (wppi)

Tests output


Example timings

wppi.Rcheck/wppi-Ex.timings

nameusersystemelapsed
common_neighbors15.72 0.3618.41
count_genes13.40 0.9112.93
filter_annot_with_network8.550.148.69
functional_annot2.420.202.89
graph_from_op3.810.033.85
in_omnipath3.720.053.76
prioritization_genes26.03 0.4226.46
process_annot1.270.021.28
random_walk28.76 0.3429.14
score_candidate_genes_from_PPI30.44 0.4830.92
subgraph_op5.270.075.36
weighted_adj24.28 0.4524.75
wppi57.48 0.9558.50
wppi_data8.750.168.90
wppi_go_data4.000.064.06
wppi_hpo_data0.800.030.83
wppi_omnipath_data4.460.004.47