Back to the "Multiple platform build/check report" A [B] C  D  E  F  G  H  I  J  K  L  M  N  O  P  Q  R  S  T  U  V  W  X  Y  Z 

BioC 3.3: BUILD report for Biostrings on windows2.bioconductor.org

This page was generated on 2015-10-27 12:13:56 -0400 (Tue, 27 Oct 2015).

Package 109/1104HostnameOS / ArchINSTALLBUILDCHECKBUILD BIN
Biostrings 2.39.0
H. Pages
Snapshot Date: 2015-10-26 20:20:04 -0400 (Mon, 26 Oct 2015)
URL: https://hedgehog.fhcrc.org/bioconductor/trunk/madman/Rpacks/Biostrings
Last Changed Rev: 109592 / Revision: 109948
Last Changed Date: 2015-10-13 15:59:53 -0400 (Tue, 13 Oct 2015)
linux2.bioconductor.org Linux (Ubuntu 14.04.2 LTS) / x86_64  OK  OK  WARNINGS UNNEEDED, same version exists in internal repository
windows2.bioconductor.org Windows Server 2012 R2 Enterprise SP1 (64-bit) / x64  OK [ OK ] WARNINGS  OK UNNEEDED, same version exists in internal repository

Summary

Package: Biostrings
Version: 2.39.0
Command: chmod a+r Biostrings -R && c:\biocbld\bbs-3.3-bioc\R\bin\R.exe CMD build --keep-empty-dirs --no-resave-data Biostrings
StartedAt: 2015-10-26 21:19:42 -0400 (Mon, 26 Oct 2015)
EndedAt: 2015-10-26 21:21:01 -0400 (Mon, 26 Oct 2015)
EllapsedTime: 78.9 seconds
RetCode: 0
Status:  OK  
PackageFile: Biostrings_2.39.0.tar.gz
PackageFileSize: 12.11 MiB

Command output

##############################################################################
##############################################################################
###
### Running command:
###
###   chmod a+r Biostrings -R && c:\biocbld\bbs-3.3-bioc\R\bin\R.exe CMD build --keep-empty-dirs --no-resave-data Biostrings
###
##############################################################################
##############################################################################


* checking for file 'Biostrings/DESCRIPTION' ... OK
* preparing 'Biostrings':
* checking DESCRIPTION meta-information ... OK
* cleaning src
* installing the package to build vignettes
* creating vignettes ... OK
* cleaning src
* checking for LF line-endings in source and make files
* checking for empty or unneeded directories
* looking to see if a 'data/datalist' file should be added
* building 'Biostrings_2.39.0.tar.gz'