Back to the "Multiple platform build/check report" A  B [C] D  E  F  G  H  I  J  K  L  M  N  O  P  Q  R  S  T  U  V  W  X  Y  Z 

BioC 3.3: BUILD report for chimera on windows2.bioconductor.org

This page was generated on 2015-10-27 12:15:12 -0400 (Tue, 27 Oct 2015).

Package 162/1104HostnameOS / ArchINSTALLBUILDCHECKBUILD BIN
chimera 1.13.0
Raffaele A Calogero
Snapshot Date: 2015-10-26 20:20:04 -0400 (Mon, 26 Oct 2015)
URL: https://hedgehog.fhcrc.org/bioconductor/trunk/madman/Rpacks/chimera
Last Changed Rev: 109592 / Revision: 109948
Last Changed Date: 2015-10-13 15:59:53 -0400 (Tue, 13 Oct 2015)
linux2.bioconductor.org Linux (Ubuntu 14.04.2 LTS) / x86_64  OK  ERROR  skipped 
windows2.bioconductor.org Windows Server 2012 R2 Enterprise SP1 (64-bit) / x64  OK [ OK ] OK  OK UNNEEDED, same version exists in internal repository

Summary

Package: chimera
Version: 1.13.0
Command: chmod a+r chimera -R && c:\biocbld\bbs-3.3-bioc\R\bin\R.exe CMD build --keep-empty-dirs --no-resave-data chimera
StartedAt: 2015-10-26 22:28:23 -0400 (Mon, 26 Oct 2015)
EndedAt: 2015-10-26 22:29:30 -0400 (Mon, 26 Oct 2015)
EllapsedTime: 66.9 seconds
RetCode: 0
Status:  OK  
PackageFile: chimera_1.13.0.tar.gz
PackageFileSize: 2.143 MiB

Command output

##############################################################################
##############################################################################
###
### Running command:
###
###   chmod a+r chimera -R && c:\biocbld\bbs-3.3-bioc\R\bin\R.exe CMD build --keep-empty-dirs --no-resave-data chimera
###
##############################################################################
##############################################################################


* checking for file 'chimera/DESCRIPTION' ... OK
* preparing 'chimera':
* checking DESCRIPTION meta-information ... OK
* cleaning src
* installing the package to build vignettes
* creating vignettes ... OK
* cleaning src
* checking for LF line-endings in source and make files
* checking for empty or unneeded directories
* building 'chimera_1.13.0.tar.gz'