##############################################################################
##############################################################################
###
### Running command:
###
### cd MultiAssayExperiment.buildbin-libdir/MultiAssayExperiment && zip -r ../../MultiAssayExperiment_0.99.199.zip . & cd ../..
###
##############################################################################
##############################################################################
adding: DESCRIPTION (188 bytes security) (deflated 44%)
adding: doc/ (256 bytes security) (stored 0%)
adding: doc/index.html (188 bytes security) (deflated 59%)
adding: doc/MultiAssayExperiment.html (188 bytes security) (deflated 69%)
adding: doc/MultiAssayExperiment.Rmd (188 bytes security) (deflated 67%)
adding: help/ (256 bytes security) (stored 0%)
adding: help/aliases.rds (188 bytes security) (stored 0%)
adding: help/AnIndex (188 bytes security) (deflated 84%)
adding: help/MultiAssayExperiment.rdb (188 bytes security) (deflated 1%)
adding: help/MultiAssayExperiment.rdx (188 bytes security) (stored 0%)
adding: help/paths.rds (188 bytes security) (stored 0%)
adding: html/ (256 bytes security) (stored 0%)
adding: html/00Index.html (188 bytes security) (deflated 85%)
adding: html/R.css (188 bytes security) (deflated 75%)
adding: INDEX (188 bytes security) (deflated 69%)
adding: MD5 (188 bytes security) (deflated 46%)
adding: Meta/ (256 bytes security) (stored 0%)
adding: Meta/hsearch.rds (188 bytes security) (stored 0%)
adding: Meta/links.rds (188 bytes security) (stored 0%)
adding: Meta/nsInfo.rds (188 bytes security) (stored 0%)
adding: Meta/package.rds (188 bytes security) (stored 0%)
adding: Meta/Rd.rds (188 bytes security) (stored 0%)
adding: Meta/vignette.rds (188 bytes security) (stored 0%)
adding: NAMESPACE (188 bytes security) (deflated 65%)
adding: NEWS (188 bytes security) (deflated 49%)
adding: R/ (256 bytes security) (stored 0%)
adding: R/MultiAssayExperiment (188 bytes security) (deflated 41%)
adding: R/MultiAssayExperiment.rdb (188 bytes security) (deflated 27%)
adding: R/MultiAssayExperiment.rdx (188 bytes security) (stored 0%)
adding: scripts/ (256 bytes security) (stored 0%)
adding: scripts/Elist-Ex.R (188 bytes security) (deflated 57%)
adding: scripts/getHits-Ex.R (188 bytes security) (deflated 32%)
adding: scripts/listToMap-Ex.R (188 bytes security) (deflated 33%)
adding: scripts/MultiAssayExperiment-Ex.R (188 bytes security) (deflated 56%)
adding: scripts/RangedRaggedAssay-Ex.R (188 bytes security) (deflated 54%)
adding: scripts/sampleMap-Ex.R (188 bytes security) (deflated 59%)