flowCore 1.37.20 M.Jiang
Snapshot Date: 2016-04-20 17:20:35 -0700 (Wed, 20 Apr 2016) | URL: https://hedgehog.fhcrc.org/bioconductor/trunk/madman/Rpacks/flowCore | Last Changed Rev: 115459 / Revision: 116626 | Last Changed Date: 2016-03-30 15:11:22 -0700 (Wed, 30 Mar 2016) |
| zin2 | Linux (Ubuntu 14.04.2 LTS) / x86_64 | OK | OK | OK | | ![UNNEEDED, same version exists in internal repository UNNEEDED, same version exists in internal repository](../120px-Blue_Light_Icon.svg.png) |
moscato2 | Windows Server 2008 R2 Enterprise SP1 (64-bit) / x64 | OK | OK | OK | OK | ![UNNEEDED, same version exists in internal repository UNNEEDED, same version exists in internal repository](../120px-Blue_Light_Icon.svg.png) |
morelia | Mac OS X Mavericks (10.9.5) / x86_64 | OK | [ OK ] | OK | OK | ![UNNEEDED, same version exists in internal repository UNNEEDED, same version exists in internal repository](../120px-Blue_Light_Icon.svg.png) |
##############################################################################
##############################################################################
###
### Running command:
###
### /Library/Frameworks/R.framework/Versions/Current/Resources/bin/R CMD build --keep-empty-dirs --no-resave-data flowCore
###
##############################################################################
##############################################################################
* checking for file ‘flowCore/DESCRIPTION’ ... OK
* preparing ‘flowCore’:
* checking DESCRIPTION meta-information ... OK
* cleaning src
* installing the package to build vignettes
* creating vignettes ... OK
* cleaning src
* checking for LF line-endings in source and make files
* checking for empty or unneeded directories
WARNING: directory ‘flowCore/inst/unitTests’ is empty
WARNING: directory ‘flowCore/unitTests/InOutEventsTests/ExpectedResult_Files’ is empty
WARNING: directory ‘flowCore/unitTests/InOutEventsTests/FCS_Files’ is empty
WARNING: directory ‘flowCore/unitTests/InOutEventsTests/Gating-ML_Files’ is empty
WARNING: directory ‘flowCore/unitTests/InOutEventsTests/RUnitScript_Files’ is empty
WARNING: directory ‘flowCore/unitTests/InvalidGateTests/FCS_Files’ is empty
WARNING: directory ‘flowCore/unitTests/InvalidGateTests/Gating-ML_Files’ is empty
WARNING: directory ‘flowCore/unitTests/InvalidGateTests/RUnitScript_Files’ is empty
WARNING: directory ‘flowCore/unitTests/ValidGateTests/Gating-ML_Files’ is empty
* looking to see if a ‘data/datalist’ file should be added
* building ‘flowCore_1.37.20.tar.gz’