BioC 3.3: CHECK report for flowCore on morelia
This page was generated on 2016-04-21 13:20:06 -0700 (Thu, 21 Apr 2016).
flowCore 1.37.20 M.Jiang
Snapshot Date: 2016-04-20 17:20:35 -0700 (Wed, 20 Apr 2016) | URL: https://hedgehog.fhcrc.org/bioconductor/trunk/madman/Rpacks/flowCore | Last Changed Rev: 115459 / Revision: 116626 | Last Changed Date: 2016-03-30 15:11:22 -0700 (Wed, 30 Mar 2016) |
| zin2 | Linux (Ubuntu 14.04.2 LTS) / x86_64 | OK | OK | OK | | |
moscato2 | Windows Server 2008 R2 Enterprise SP1 (64-bit) / x64 | OK | OK | OK | OK | |
morelia | Mac OS X Mavericks (10.9.5) / x86_64 | OK | OK | [ OK ] | OK | |
Summary
Package: flowCore |
Version: 1.37.20 |
Command: /Library/Frameworks/R.framework/Versions/Current/Resources/bin/R CMD check --no-vignettes --timings flowCore_1.37.20.tar.gz |
StartedAt: 2016-04-21 02:26:05 -0700 (Thu, 21 Apr 2016) |
EndedAt: 2016-04-21 02:30:02 -0700 (Thu, 21 Apr 2016) |
EllapsedTime: 237.4 seconds |
RetCode: 0 |
Status: OK |
CheckDir: flowCore.Rcheck |
Warnings: 0 |
Command output
##############################################################################
##############################################################################
###
### Running command:
###
### /Library/Frameworks/R.framework/Versions/Current/Resources/bin/R CMD check --no-vignettes --timings flowCore_1.37.20.tar.gz
###
##############################################################################
##############################################################################
* using log directory ‘/Users/biocbuild/bbs-3.3-bioc/meat/flowCore.Rcheck’
* using R version 3.3.0 beta (2016-04-06 r70435)
* using platform: x86_64-apple-darwin13.4.0 (64-bit)
* using session charset: UTF-8
* using option ‘--no-vignettes’
* checking for file ‘flowCore/DESCRIPTION’ ... OK
* this is package ‘flowCore’ version ‘1.37.20’
* checking package namespace information ... OK
* checking package dependencies ... OK
* checking if this is a source package ... NOTE
Found the following apparent object files/libraries:
src/boost_regex/c_regex_traits.o src/boost_regex/cpp_regex_traits.o
src/boost_regex/cregex.o src/boost_regex/fileiter.o
src/boost_regex/icu.o src/boost_regex/instances.o
src/boost_regex/posix_api.o src/boost_regex/regex.o
src/boost_regex/regex_debug.o src/boost_regex/regex_raw_buffer.o
src/boost_regex/regex_traits_defaults.o
src/boost_regex/static_mutex.o src/boost_regex/usinstances.o
src/boost_regex/w32_regex_traits.o src/boost_regex/wc_regex_traits.o
src/boost_regex/wide_posix_api.o src/boost_regex/winstances.o
Object files/libraries should not be included in a source package.
* checking if there is a namespace ... OK
* checking for hidden files and directories ... OK
* checking for portable file names ... OK
* checking for sufficient/correct file permissions ... OK
* checking whether package ‘flowCore’ can be installed ... [92s/100s] OK
* checking installed package size ... NOTE
installed size is 19.7Mb
sub-directories of 1Mb or more:
data 5.0Mb
doc 1.3Mb
extdata 1.1Mb
lib 10.3Mb
* checking package directory ... OK
* checking ‘build’ directory ... OK
* checking DESCRIPTION meta-information ... NOTE
Versioned 'LinkingTo' value for ‘BH’ is only usable in R >= 3.0.2
* checking top-level files ... OK
* checking for left-over files ... OK
* checking index information ... OK
* checking package subdirectories ... OK
* checking R files for non-ASCII characters ... OK
* checking R files for syntax errors ... OK
* checking whether the package can be loaded ... OK
* checking whether the package can be loaded with stated dependencies ... OK
* checking whether the package can be unloaded cleanly ... OK
* checking whether the namespace can be loaded with stated dependencies ... OK
* checking whether the namespace can be unloaded cleanly ... OK
* checking dependencies in R code ... NOTE
'library' or 'require' call to ‘Rgraphviz’ in package code.
Please use :: or requireNamespace() instead.
See section 'Suggested packages' in the 'Writing R Extensions' manual.
* checking S3 generic/method consistency ... OK
* checking replacement functions ... OK
* checking foreign function calls ... OK
* checking R code for possible problems ... NOTE
rbind2,flowSet-flowSet: warning in assign(i, x[[i]], env = env):
partial argument match of 'env' to 'envir'
rbind2,flowSet-flowSet: warning in assign(i, y[[i]], env = env):
partial argument match of 'env' to 'envir'
%in%,flowFrame-norm2Filter: no visible global function definition for
‘cov.rob’
spillover,flowSet: no visible global function definition for
‘devAskNewPage’
spillover,flowSet : <anonymous>: no visible global function definition
for ‘rangeGate’
spillover,flowSet : <anonymous>: no visible global function definition
for ‘density’
spillover,flowSet : <anonymous>: no visible global function definition
for ‘abline’
spillover,flowSet : <anonymous> : <anonymous>: no visible global
function definition for ‘density’
split,flowFrame-factor: no visible binding for global variable ‘i’
summary,workFlow: no visible binding for global variable ‘wf’
Undefined global functions or variables:
abline cov.rob density devAskNewPage i rangeGate wf
Consider adding
importFrom("grDevices", "devAskNewPage")
importFrom("graphics", "abline")
importFrom("stats", "density")
to your NAMESPACE file.
* checking Rd files ... OK
* checking Rd metadata ... OK
* checking Rd cross-references ... OK
* checking for missing documentation entries ... OK
* checking for code/documentation mismatches ... OK
* checking Rd \usage sections ... OK
* checking Rd contents ... OK
* checking for unstated dependencies in examples ... OK
* checking contents of ‘data’ directory ... OK
* checking data for non-ASCII characters ... OK
* checking data for ASCII and uncompressed saves ... OK
* checking line endings in C/C++/Fortran sources/headers ... OK
* checking line endings in Makefiles ... OK
* checking compilation flags in Makevars ... OK
* checking for GNU extensions in Makefiles ... NOTE
GNU make is a SystemRequirements.
* checking for portable use of $(BLAS_LIBS) and $(LAPACK_LIBS) ... OK
* checking compiled code ... OK
* checking sizes of PDF files under ‘inst/doc’ ... OK
* checking installed files from ‘inst/doc’ ... OK
* checking files in ‘vignettes’ ... OK
* checking examples ... [34s/35s] OK
* checking for unstated dependencies in ‘tests’ ... OK
* checking tests ...
Running ‘run-all.R’ [9s/9s]
[9s/9s] OK
* checking for unstated dependencies in vignettes ... OK
* checking package vignettes in ‘inst/doc’ ... OK
* checking running R code from vignettes ... SKIPPED
* checking re-building of vignette outputs ... SKIPPED
* checking PDF version of manual ... OK
* DONE
Status: 6 NOTEs
See
‘/Users/biocbuild/bbs-3.3-bioc/meat/flowCore.Rcheck/00check.log’
for details.
flowCore.Rcheck/00install.out:
* installing *source* package ‘flowCore’ ...
** libs
clang++ -std=c++11 -I/Library/Frameworks/R.framework/Resources/include -DNDEBUG -I../inst/include/ -I/usr/local/include -I/usr/local/include/freetype2 -I/opt/X11/include -I"/Library/Frameworks/R.framework/Versions/3.3/Resources/library/Rcpp/include" -I"/Library/Frameworks/R.framework/Versions/3.3/Resources/library/BH/include" -fPIC -Wall -mtune=core2 -g -O2 -c FastLogicle.cpp -o FastLogicle.o
clang++ -std=c++11 -I/Library/Frameworks/R.framework/Resources/include -DNDEBUG -I../inst/include/ -I/usr/local/include -I/usr/local/include/freetype2 -I/opt/X11/include -I"/Library/Frameworks/R.framework/Versions/3.3/Resources/library/Rcpp/include" -I"/Library/Frameworks/R.framework/Versions/3.3/Resources/library/BH/include" -fPIC -Wall -mtune=core2 -g -O2 -c Hyperlog.cpp -o Hyperlog.o
clang++ -std=c++11 -I/Library/Frameworks/R.framework/Resources/include -DNDEBUG -I../inst/include/ -I/usr/local/include -I/usr/local/include/freetype2 -I/opt/X11/include -I"/Library/Frameworks/R.framework/Versions/3.3/Resources/library/Rcpp/include" -I"/Library/Frameworks/R.framework/Versions/3.3/Resources/library/BH/include" -fPIC -Wall -mtune=core2 -g -O2 -c Logicle.cpp -o Logicle.o
clang++ -std=c++11 -I/Library/Frameworks/R.framework/Resources/include -DNDEBUG -I../inst/include/ -I/usr/local/include -I/usr/local/include/freetype2 -I/opt/X11/include -I"/Library/Frameworks/R.framework/Versions/3.3/Resources/library/Rcpp/include" -I"/Library/Frameworks/R.framework/Versions/3.3/Resources/library/BH/include" -fPIC -Wall -mtune=core2 -g -O2 -c RcppExports.cpp -o RcppExports.o
clang++ -std=c++11 -I/Library/Frameworks/R.framework/Resources/include -DNDEBUG -I../inst/include/ -I/usr/local/include -I/usr/local/include/freetype2 -I/opt/X11/include -I"/Library/Frameworks/R.framework/Versions/3.3/Resources/library/Rcpp/include" -I"/Library/Frameworks/R.framework/Versions/3.3/Resources/library/BH/include" -fPIC -Wall -mtune=core2 -g -O2 -c biexponential.cpp -o biexponential.o
clang++ -std=c++11 -I/Library/Frameworks/R.framework/Resources/include -DNDEBUG -I../inst/include/ -I/usr/local/include -I/usr/local/include/freetype2 -I/opt/X11/include -I"/Library/Frameworks/R.framework/Versions/3.3/Resources/library/Rcpp/include" -I"/Library/Frameworks/R.framework/Versions/3.3/Resources/library/BH/include" -fPIC -Wall -mtune=core2 -g -O2 -c convertRawBytes.cpp -o convertRawBytes.o
clang++ -std=c++11 -I/Library/Frameworks/R.framework/Resources/include -DNDEBUG -I../inst/include/ -I/usr/local/include -I/usr/local/include/freetype2 -I/opt/X11/include -I"/Library/Frameworks/R.framework/Versions/3.3/Resources/library/Rcpp/include" -I"/Library/Frameworks/R.framework/Versions/3.3/Resources/library/BH/include" -fPIC -Wall -mtune=core2 -g -O2 -c fcsTextParse.cpp -o fcsTextParse.o
In file included from fcsTextParse.cpp:8:
In file included from /Library/Frameworks/R.framework/Versions/3.3/Resources/library/BH/include/boost/regex.hpp:31:
In file included from /Library/Frameworks/R.framework/Versions/3.3/Resources/library/BH/include/boost/regex/v4/regex.hpp:97:
/Library/Frameworks/R.framework/Versions/3.3/Resources/library/BH/include/boost/regex/v4/instances.hpp:124:34: warning: unknown warning group '-Wkeyword-macro', ignored [-Wunknown-pragmas]
#pragma clang diagnostic ignored "-Wkeyword-macro"
^
In file included from fcsTextParse.cpp:8:
In file included from /Library/Frameworks/R.framework/Versions/3.3/Resources/library/BH/include/boost/regex.hpp:31:
In file included from /Library/Frameworks/R.framework/Versions/3.3/Resources/library/BH/include/boost/regex/v4/regex.hpp:108:
/Library/Frameworks/R.framework/Versions/3.3/Resources/library/BH/include/boost/regex/v4/instances.hpp:124:34: warning: unknown warning group '-Wkeyword-macro', ignored [-Wunknown-pragmas]
#pragma clang diagnostic ignored "-Wkeyword-macro"
^
fcsTextParse.cpp:45:133: warning: multi-line // comment [-Wcomment]
txt = boost::regex_replace(txt, boost::regex(doubleDelimiter), magicString);//somehow boost::replace_all won't do the job for \\\\
^
3 warnings generated.
clang++ -std=c++11 -I/Library/Frameworks/R.framework/Resources/include -DNDEBUG -I../inst/include/ -I/usr/local/include -I/usr/local/include/freetype2 -I/opt/X11/include -I"/Library/Frameworks/R.framework/Versions/3.3/Resources/library/Rcpp/include" -I"/Library/Frameworks/R.framework/Versions/3.3/Resources/library/BH/include" -fPIC -Wall -mtune=core2 -g -O2 -c hyperlogTransform.cpp -o hyperlogTransform.o
clang++ -std=c++11 -I/Library/Frameworks/R.framework/Resources/include -DNDEBUG -I../inst/include/ -I/usr/local/include -I/usr/local/include/freetype2 -I/opt/X11/include -I"/Library/Frameworks/R.framework/Versions/3.3/Resources/library/Rcpp/include" -I"/Library/Frameworks/R.framework/Versions/3.3/Resources/library/BH/include" -fPIC -Wall -mtune=core2 -g -O2 -c inPolygon.cpp -o inPolygon.o
clang++ -std=c++11 -I/Library/Frameworks/R.framework/Resources/include -DNDEBUG -I../inst/include/ -I/usr/local/include -I/usr/local/include/freetype2 -I/opt/X11/include -I"/Library/Frameworks/R.framework/Versions/3.3/Resources/library/Rcpp/include" -I"/Library/Frameworks/R.framework/Versions/3.3/Resources/library/BH/include" -fPIC -Wall -mtune=core2 -g -O2 -c inPolytope.cpp -o inPolytope.o
clang++ -std=c++11 -I/Library/Frameworks/R.framework/Resources/include -DNDEBUG -I../inst/include/ -I/usr/local/include -I/usr/local/include/freetype2 -I/opt/X11/include -I"/Library/Frameworks/R.framework/Versions/3.3/Resources/library/Rcpp/include" -I"/Library/Frameworks/R.framework/Versions/3.3/Resources/library/BH/include" -fPIC -Wall -mtune=core2 -g -O2 -c logicleTransform.cpp -o logicleTransform.o
clang++ -std=c++11 -I/Library/Frameworks/R.framework/Resources/include -DNDEBUG -I../inst/include/ -I/usr/local/include -I/usr/local/include/freetype2 -I/opt/X11/include -I"/Library/Frameworks/R.framework/Versions/3.3/Resources/library/Rcpp/include" -I"/Library/Frameworks/R.framework/Versions/3.3/Resources/library/BH/include" -fPIC -Wall -mtune=core2 -g -O2 -c pairVectorRcppWrap.cpp -o pairVectorRcppWrap.o
clang++ -std=c++11 -I/Library/Frameworks/R.framework/Resources/include -DNDEBUG -I../inst/include/ -I/usr/local/include -I/usr/local/include/freetype2 -I/opt/X11/include -I"/Library/Frameworks/R.framework/Versions/3.3/Resources/library/Rcpp/include" -I"/Library/Frameworks/R.framework/Versions/3.3/Resources/library/BH/include" -fPIC -Wall -mtune=core2 -g -O2 -c uint2double.cpp -o uint2double.o
clang++ -std=c++11 -I/Library/Frameworks/R.framework/Resources/include -DNDEBUG -I../inst/include/ -I/usr/local/include -I/usr/local/include/freetype2 -I/opt/X11/include -I"/Library/Frameworks/R.framework/Versions/3.3/Resources/library/Rcpp/include" -I"/Library/Frameworks/R.framework/Versions/3.3/Resources/library/BH/include" -fPIC -Wall -mtune=core2 -g -O2 -c zeroin.cpp -o zeroin.o
clang++ -std=c++11 -I/Library/Frameworks/R.framework/Resources/include -DNDEBUG -I../inst/include/ -I/usr/local/include -I/usr/local/include/freetype2 -I/opt/X11/include -I"/Library/Frameworks/R.framework/Versions/3.3/Resources/library/Rcpp/include" -I"/Library/Frameworks/R.framework/Versions/3.3/Resources/library/BH/include" -fPIC -Wall -mtune=core2 -g -O2 -c boost_regex/c_regex_traits.cpp -o boost_regex/c_regex_traits.o
clang++ -std=c++11 -I/Library/Frameworks/R.framework/Resources/include -DNDEBUG -I../inst/include/ -I/usr/local/include -I/usr/local/include/freetype2 -I/opt/X11/include -I"/Library/Frameworks/R.framework/Versions/3.3/Resources/library/Rcpp/include" -I"/Library/Frameworks/R.framework/Versions/3.3/Resources/library/BH/include" -fPIC -Wall -mtune=core2 -g -O2 -c boost_regex/cpp_regex_traits.cpp -o boost_regex/cpp_regex_traits.o
clang++ -std=c++11 -I/Library/Frameworks/R.framework/Resources/include -DNDEBUG -I../inst/include/ -I/usr/local/include -I/usr/local/include/freetype2 -I/opt/X11/include -I"/Library/Frameworks/R.framework/Versions/3.3/Resources/library/Rcpp/include" -I"/Library/Frameworks/R.framework/Versions/3.3/Resources/library/BH/include" -fPIC -Wall -mtune=core2 -g -O2 -c boost_regex/cregex.cpp -o boost_regex/cregex.o
In file included from boost_regex/cregex.cpp:22:
In file included from /Library/Frameworks/R.framework/Versions/3.3/Resources/library/BH/include/boost/regex.hpp:31:
In file included from /Library/Frameworks/R.framework/Versions/3.3/Resources/library/BH/include/boost/regex/v4/regex.hpp:97:
/Library/Frameworks/R.framework/Versions/3.3/Resources/library/BH/include/boost/regex/v4/instances.hpp:124:34: warning: unknown warning group '-Wkeyword-macro', ignored [-Wunknown-pragmas]
#pragma clang diagnostic ignored "-Wkeyword-macro"
^
In file included from boost_regex/cregex.cpp:22:
In file included from /Library/Frameworks/R.framework/Versions/3.3/Resources/library/BH/include/boost/regex.hpp:31:
In file included from /Library/Frameworks/R.framework/Versions/3.3/Resources/library/BH/include/boost/regex/v4/regex.hpp:108:
/Library/Frameworks/R.framework/Versions/3.3/Resources/library/BH/include/boost/regex/v4/instances.hpp:124:34: warning: unknown warning group '-Wkeyword-macro', ignored [-Wunknown-pragmas]
#pragma clang diagnostic ignored "-Wkeyword-macro"
^
2 warnings generated.
clang++ -std=c++11 -I/Library/Frameworks/R.framework/Resources/include -DNDEBUG -I../inst/include/ -I/usr/local/include -I/usr/local/include/freetype2 -I/opt/X11/include -I"/Library/Frameworks/R.framework/Versions/3.3/Resources/library/Rcpp/include" -I"/Library/Frameworks/R.framework/Versions/3.3/Resources/library/BH/include" -fPIC -Wall -mtune=core2 -g -O2 -c boost_regex/fileiter.cpp -o boost_regex/fileiter.o
clang++ -std=c++11 -I/Library/Frameworks/R.framework/Resources/include -DNDEBUG -I../inst/include/ -I/usr/local/include -I/usr/local/include/freetype2 -I/opt/X11/include -I"/Library/Frameworks/R.framework/Versions/3.3/Resources/library/Rcpp/include" -I"/Library/Frameworks/R.framework/Versions/3.3/Resources/library/BH/include" -fPIC -Wall -mtune=core2 -g -O2 -c boost_regex/icu.cpp -o boost_regex/icu.o
clang++ -std=c++11 -I/Library/Frameworks/R.framework/Resources/include -DNDEBUG -I../inst/include/ -I/usr/local/include -I/usr/local/include/freetype2 -I/opt/X11/include -I"/Library/Frameworks/R.framework/Versions/3.3/Resources/library/Rcpp/include" -I"/Library/Frameworks/R.framework/Versions/3.3/Resources/library/BH/include" -fPIC -Wall -mtune=core2 -g -O2 -c boost_regex/instances.cpp -o boost_regex/instances.o
In file included from boost_regex/instances.cpp:30:
In file included from /Library/Frameworks/R.framework/Versions/3.3/Resources/library/BH/include/boost/regex.hpp:31:
In file included from /Library/Frameworks/R.framework/Versions/3.3/Resources/library/BH/include/boost/regex/v4/regex.hpp:97:
/Library/Frameworks/R.framework/Versions/3.3/Resources/library/BH/include/boost/regex/v4/instances.hpp:124:34: warning: unknown warning group '-Wkeyword-macro', ignored [-Wunknown-pragmas]
#pragma clang diagnostic ignored "-Wkeyword-macro"
^
In file included from boost_regex/instances.cpp:30:
In file included from /Library/Frameworks/R.framework/Versions/3.3/Resources/library/BH/include/boost/regex.hpp:31:
In file included from /Library/Frameworks/R.framework/Versions/3.3/Resources/library/BH/include/boost/regex/v4/regex.hpp:108:
/Library/Frameworks/R.framework/Versions/3.3/Resources/library/BH/include/boost/regex/v4/instances.hpp:124:34: warning: unknown warning group '-Wkeyword-macro', ignored [-Wunknown-pragmas]
#pragma clang diagnostic ignored "-Wkeyword-macro"
^
2 warnings generated.
clang++ -std=c++11 -I/Library/Frameworks/R.framework/Resources/include -DNDEBUG -I../inst/include/ -I/usr/local/include -I/usr/local/include/freetype2 -I/opt/X11/include -I"/Library/Frameworks/R.framework/Versions/3.3/Resources/library/Rcpp/include" -I"/Library/Frameworks/R.framework/Versions/3.3/Resources/library/BH/include" -fPIC -Wall -mtune=core2 -g -O2 -c boost_regex/posix_api.cpp -o boost_regex/posix_api.o
In file included from boost_regex/posix_api.cpp:23:
In file included from /Library/Frameworks/R.framework/Versions/3.3/Resources/library/BH/include/boost/regex.hpp:31:
In file included from /Library/Frameworks/R.framework/Versions/3.3/Resources/library/BH/include/boost/regex/v4/regex.hpp:97:
/Library/Frameworks/R.framework/Versions/3.3/Resources/library/BH/include/boost/regex/v4/instances.hpp:124:34: warning: unknown warning group '-Wkeyword-macro', ignored [-Wunknown-pragmas]
#pragma clang diagnostic ignored "-Wkeyword-macro"
^
In file included from boost_regex/posix_api.cpp:23:
In file included from /Library/Frameworks/R.framework/Versions/3.3/Resources/library/BH/include/boost/regex.hpp:31:
In file included from /Library/Frameworks/R.framework/Versions/3.3/Resources/library/BH/include/boost/regex/v4/regex.hpp:108:
/Library/Frameworks/R.framework/Versions/3.3/Resources/library/BH/include/boost/regex/v4/instances.hpp:124:34: warning: unknown warning group '-Wkeyword-macro', ignored [-Wunknown-pragmas]
#pragma clang diagnostic ignored "-Wkeyword-macro"
^
2 warnings generated.
clang++ -std=c++11 -I/Library/Frameworks/R.framework/Resources/include -DNDEBUG -I../inst/include/ -I/usr/local/include -I/usr/local/include/freetype2 -I/opt/X11/include -I"/Library/Frameworks/R.framework/Versions/3.3/Resources/library/Rcpp/include" -I"/Library/Frameworks/R.framework/Versions/3.3/Resources/library/BH/include" -fPIC -Wall -mtune=core2 -g -O2 -c boost_regex/regex.cpp -o boost_regex/regex.o
In file included from boost_regex/regex.cpp:24:
In file included from /Library/Frameworks/R.framework/Versions/3.3/Resources/library/BH/include/boost/regex.hpp:31:
In file included from /Library/Frameworks/R.framework/Versions/3.3/Resources/library/BH/include/boost/regex/v4/regex.hpp:97:
/Library/Frameworks/R.framework/Versions/3.3/Resources/library/BH/include/boost/regex/v4/instances.hpp:124:34: warning: unknown warning group '-Wkeyword-macro', ignored [-Wunknown-pragmas]
#pragma clang diagnostic ignored "-Wkeyword-macro"
^
In file included from boost_regex/regex.cpp:24:
In file included from /Library/Frameworks/R.framework/Versions/3.3/Resources/library/BH/include/boost/regex.hpp:31:
In file included from /Library/Frameworks/R.framework/Versions/3.3/Resources/library/BH/include/boost/regex/v4/regex.hpp:108:
/Library/Frameworks/R.framework/Versions/3.3/Resources/library/BH/include/boost/regex/v4/instances.hpp:124:34: warning: unknown warning group '-Wkeyword-macro', ignored [-Wunknown-pragmas]
#pragma clang diagnostic ignored "-Wkeyword-macro"
^
2 warnings generated.
clang++ -std=c++11 -I/Library/Frameworks/R.framework/Resources/include -DNDEBUG -I../inst/include/ -I/usr/local/include -I/usr/local/include/freetype2 -I/opt/X11/include -I"/Library/Frameworks/R.framework/Versions/3.3/Resources/library/Rcpp/include" -I"/Library/Frameworks/R.framework/Versions/3.3/Resources/library/BH/include" -fPIC -Wall -mtune=core2 -g -O2 -c boost_regex/regex_debug.cpp -o boost_regex/regex_debug.o
clang++ -std=c++11 -I/Library/Frameworks/R.framework/Resources/include -DNDEBUG -I../inst/include/ -I/usr/local/include -I/usr/local/include/freetype2 -I/opt/X11/include -I"/Library/Frameworks/R.framework/Versions/3.3/Resources/library/Rcpp/include" -I"/Library/Frameworks/R.framework/Versions/3.3/Resources/library/BH/include" -fPIC -Wall -mtune=core2 -g -O2 -c boost_regex/regex_raw_buffer.cpp -o boost_regex/regex_raw_buffer.o
clang++ -std=c++11 -I/Library/Frameworks/R.framework/Resources/include -DNDEBUG -I../inst/include/ -I/usr/local/include -I/usr/local/include/freetype2 -I/opt/X11/include -I"/Library/Frameworks/R.framework/Versions/3.3/Resources/library/Rcpp/include" -I"/Library/Frameworks/R.framework/Versions/3.3/Resources/library/BH/include" -fPIC -Wall -mtune=core2 -g -O2 -c boost_regex/regex_traits_defaults.cpp -o boost_regex/regex_traits_defaults.o
clang++ -std=c++11 -I/Library/Frameworks/R.framework/Resources/include -DNDEBUG -I../inst/include/ -I/usr/local/include -I/usr/local/include/freetype2 -I/opt/X11/include -I"/Library/Frameworks/R.framework/Versions/3.3/Resources/library/Rcpp/include" -I"/Library/Frameworks/R.framework/Versions/3.3/Resources/library/BH/include" -fPIC -Wall -mtune=core2 -g -O2 -c boost_regex/static_mutex.cpp -o boost_regex/static_mutex.o
clang++ -std=c++11 -I/Library/Frameworks/R.framework/Resources/include -DNDEBUG -I../inst/include/ -I/usr/local/include -I/usr/local/include/freetype2 -I/opt/X11/include -I"/Library/Frameworks/R.framework/Versions/3.3/Resources/library/Rcpp/include" -I"/Library/Frameworks/R.framework/Versions/3.3/Resources/library/BH/include" -fPIC -Wall -mtune=core2 -g -O2 -c boost_regex/usinstances.cpp -o boost_regex/usinstances.o
clang++ -std=c++11 -I/Library/Frameworks/R.framework/Resources/include -DNDEBUG -I../inst/include/ -I/usr/local/include -I/usr/local/include/freetype2 -I/opt/X11/include -I"/Library/Frameworks/R.framework/Versions/3.3/Resources/library/Rcpp/include" -I"/Library/Frameworks/R.framework/Versions/3.3/Resources/library/BH/include" -fPIC -Wall -mtune=core2 -g -O2 -c boost_regex/w32_regex_traits.cpp -o boost_regex/w32_regex_traits.o
clang++ -std=c++11 -I/Library/Frameworks/R.framework/Resources/include -DNDEBUG -I../inst/include/ -I/usr/local/include -I/usr/local/include/freetype2 -I/opt/X11/include -I"/Library/Frameworks/R.framework/Versions/3.3/Resources/library/Rcpp/include" -I"/Library/Frameworks/R.framework/Versions/3.3/Resources/library/BH/include" -fPIC -Wall -mtune=core2 -g -O2 -c boost_regex/wc_regex_traits.cpp -o boost_regex/wc_regex_traits.o
clang++ -std=c++11 -I/Library/Frameworks/R.framework/Resources/include -DNDEBUG -I../inst/include/ -I/usr/local/include -I/usr/local/include/freetype2 -I/opt/X11/include -I"/Library/Frameworks/R.framework/Versions/3.3/Resources/library/Rcpp/include" -I"/Library/Frameworks/R.framework/Versions/3.3/Resources/library/BH/include" -fPIC -Wall -mtune=core2 -g -O2 -c boost_regex/wide_posix_api.cpp -o boost_regex/wide_posix_api.o
In file included from boost_regex/wide_posix_api.cpp:25:
In file included from /Library/Frameworks/R.framework/Versions/3.3/Resources/library/BH/include/boost/regex.hpp:31:
In file included from /Library/Frameworks/R.framework/Versions/3.3/Resources/library/BH/include/boost/regex/v4/regex.hpp:97:
/Library/Frameworks/R.framework/Versions/3.3/Resources/library/BH/include/boost/regex/v4/instances.hpp:124:34: warning: unknown warning group '-Wkeyword-macro', ignored [-Wunknown-pragmas]
#pragma clang diagnostic ignored "-Wkeyword-macro"
^
In file included from boost_regex/wide_posix_api.cpp:25:
In file included from /Library/Frameworks/R.framework/Versions/3.3/Resources/library/BH/include/boost/regex.hpp:31:
In file included from /Library/Frameworks/R.framework/Versions/3.3/Resources/library/BH/include/boost/regex/v4/regex.hpp:108:
/Library/Frameworks/R.framework/Versions/3.3/Resources/library/BH/include/boost/regex/v4/instances.hpp:124:34: warning: unknown warning group '-Wkeyword-macro', ignored [-Wunknown-pragmas]
#pragma clang diagnostic ignored "-Wkeyword-macro"
^
2 warnings generated.
clang++ -std=c++11 -I/Library/Frameworks/R.framework/Resources/include -DNDEBUG -I../inst/include/ -I/usr/local/include -I/usr/local/include/freetype2 -I/opt/X11/include -I"/Library/Frameworks/R.framework/Versions/3.3/Resources/library/Rcpp/include" -I"/Library/Frameworks/R.framework/Versions/3.3/Resources/library/BH/include" -fPIC -Wall -mtune=core2 -g -O2 -c boost_regex/winstances.cpp -o boost_regex/winstances.o
In file included from boost_regex/winstances.cpp:30:
In file included from /Library/Frameworks/R.framework/Versions/3.3/Resources/library/BH/include/boost/regex.hpp:31:
In file included from /Library/Frameworks/R.framework/Versions/3.3/Resources/library/BH/include/boost/regex/v4/regex.hpp:97:
/Library/Frameworks/R.framework/Versions/3.3/Resources/library/BH/include/boost/regex/v4/instances.hpp:124:34: warning: unknown warning group '-Wkeyword-macro', ignored [-Wunknown-pragmas]
#pragma clang diagnostic ignored "-Wkeyword-macro"
^
In file included from boost_regex/winstances.cpp:30:
In file included from /Library/Frameworks/R.framework/Versions/3.3/Resources/library/BH/include/boost/regex.hpp:31:
In file included from /Library/Frameworks/R.framework/Versions/3.3/Resources/library/BH/include/boost/regex/v4/regex.hpp:108:
/Library/Frameworks/R.framework/Versions/3.3/Resources/library/BH/include/boost/regex/v4/instances.hpp:124:34: warning: unknown warning group '-Wkeyword-macro', ignored [-Wunknown-pragmas]
#pragma clang diagnostic ignored "-Wkeyword-macro"
^
2 warnings generated.
mkdir -p "/Users/biocbuild/bbs-3.3-bioc/meat/flowCore.Rcheck/flowCore/lib"
ar rs "/Users/biocbuild/bbs-3.3-bioc/meat/flowCore.Rcheck/flowCore/lib/libboost_regex.a" boost_regex/c_regex_traits.o boost_regex/cpp_regex_traits.o boost_regex/cregex.o boost_regex/fileiter.o boost_regex/icu.o boost_regex/instances.o boost_regex/posix_api.o boost_regex/regex.o boost_regex/regex_debug.o boost_regex/regex_raw_buffer.o boost_regex/regex_traits_defaults.o boost_regex/static_mutex.o boost_regex/usinstances.o boost_regex/w32_regex_traits.o boost_regex/wc_regex_traits.o boost_regex/wide_posix_api.o boost_regex/winstances.o
ar: creating archive /Users/biocbuild/bbs-3.3-bioc/meat/flowCore.Rcheck/flowCore/lib/libboost_regex.a
/Applications/Xcode.app/Contents/Developer/Toolchains/XcodeDefault.xctoolchain/usr/bin/ranlib: file: /Users/biocbuild/bbs-3.3-bioc/meat/flowCore.Rcheck/flowCore/lib/libboost_regex.a(icu.o) has no symbols
/Applications/Xcode.app/Contents/Developer/Toolchains/XcodeDefault.xctoolchain/usr/bin/ranlib: file: /Users/biocbuild/bbs-3.3-bioc/meat/flowCore.Rcheck/flowCore/lib/libboost_regex.a(regex_debug.o) has no symbols
/Applications/Xcode.app/Contents/Developer/Toolchains/XcodeDefault.xctoolchain/usr/bin/ranlib: file: /Users/biocbuild/bbs-3.3-bioc/meat/flowCore.Rcheck/flowCore/lib/libboost_regex.a(usinstances.o) has no symbols
/Applications/Xcode.app/Contents/Developer/Toolchains/XcodeDefault.xctoolchain/usr/bin/ranlib: file: /Users/biocbuild/bbs-3.3-bioc/meat/flowCore.Rcheck/flowCore/lib/libboost_regex.a(w32_regex_traits.o) has no symbols
clang++ -std=c++11 -dynamiclib -Wl,-headerpad_max_install_names -undefined dynamic_lookup -single_module -multiply_defined suppress -L/Library/Frameworks/R.framework/Resources/lib -L/usr/local/lib -o flowCore.so FastLogicle.o Hyperlog.o Logicle.o RcppExports.o biexponential.o convertRawBytes.o fcsTextParse.o hyperlogTransform.o inPolygon.o inPolytope.o logicleTransform.o pairVectorRcppWrap.o uint2double.o zeroin.o /Users/biocbuild/bbs-3.3-bioc/meat/flowCore.Rcheck/flowCore/lib/libboost_regex.a -F/Library/Frameworks/R.framework/.. -framework R -Wl,-framework -Wl,CoreFoundation
installing to /Users/biocbuild/bbs-3.3-bioc/meat/flowCore.Rcheck/flowCore/libs
** R
** data
** inst
** preparing package for lazy loading
** help
*** installing help indices
** building package indices
** installing vignettes
** testing if installed package can be loaded
* DONE (flowCore)
flowCore.Rcheck/flowCore-Ex.timings:
name | user | system | elapsed
|
EHtrans-class | 0.067 | 0.004 | 0.074 |
|
FCSTransTransform | 1.228 | 0.072 | 1.314 |
|
Subset-methods | 0.409 | 0.019 | 0.445 |
|
actionItem-class | 0.002 | 0.000 | 0.003 |
|
arcsinhTransform | 0.046 | 0.002 | 0.061 |
|
asinht-class | 0.038 | 0.001 | 0.046 |
|
asinhtGml2-class | 0.050 | 0.004 | 0.059 |
|
biexponentialTransform | 3.669 | 0.114 | 3.815 |
|
boundaryFilter-class | 0.117 | 0.004 | 0.121 |
|
characterOrTransformation-class | 0.002 | 0.000 | 0.002 |
|
coerce | 0.075 | 0.004 | 0.078 |
|
compensateActionItem-class | 0.001 | 0.000 | 0.001 |
|
compensateView-class | 0.001 | 0.001 | 0.001 |
|
compensatedParameter-class | 0.284 | 0.033 | 0.317 |
|
compensation-class | 0.376 | 0.039 | 0.415 |
|
dg1polynomial-class | 0.040 | 0.002 | 0.041 |
|
each_col-methods | 0.043 | 0.004 | 0.046 |
|
ellipsoidGate | 0.092 | 0.005 | 0.097 |
|
exponential-class | 0.037 | 0.004 | 0.042 |
|
expressionFilter-class | 0.084 | 0.006 | 0.090 |
|
fcReference-class | 0.002 | 0.000 | 0.003 |
|
filter-methods | 0.932 | 0.060 | 0.999 |
|
filter-on-methods | 0.124 | 0.002 | 0.125 |
|
filterList-class | 0.009 | 0.000 | 0.009 |
|
filterResult-class | 0.002 | 0.000 | 0.002 |
|
filterResultList-class | 0.001 | 0.000 | 0.001 |
|
filterSummary-class | 0.001 | 0.001 | 0.002 |
|
filterSummaryList-class | 0.001 | 0.000 | 0.002 |
|
flowFrame-class | 3.508 | 0.165 | 3.812 |
|
flowSet-class | 3.027 | 0.113 | 3.213 |
|
fsApply | 0.183 | 0.015 | 0.198 |
|
gateActionItem-class | 0.002 | 0.001 | 0.002 |
|
gateView-class | 0.002 | 0.000 | 0.002 |
|
getIndexSort-methods | 0.041 | 0.007 | 0.049 |
|
hyperlog-class | 2.037 | 0.013 | 2.071 |
|
hyperlogtGml2-class | 0.039 | 0.002 | 0.040 |
|
identifier-methods | 0.032 | 0.001 | 0.032 |
|
inverseLogicleTransform | 0.732 | 0.064 | 0.802 |
|
invsplitscale-class | 0.044 | 0.001 | 0.045 |
|
keyword-methods | 0.780 | 0.073 | 0.855 |
|
kmeansFilter | 0.240 | 0.016 | 0.260 |
|
linearTransform | 0.048 | 0.001 | 0.054 |
|
lintGml2-class | 0.040 | 0.001 | 0.040 |
|
lnTransform | 1.435 | 0.098 | 1.550 |
|
logTransform | 0.046 | 0.003 | 0.048 |
|
logarithm-class | 0.040 | 0.004 | 0.044 |
|
logicalFilterResult-class | 0.001 | 0.000 | 0.002 |
|
logicleTransform | 0.940 | 0.071 | 1.069 |
|
logicletGml2-class | 0.054 | 0.003 | 0.060 |
|
logtGml2-class | 0.039 | 0.001 | 0.040 |
|
manyFilterResult-class | 0.002 | 0.001 | 0.001 |
|
markernames | 0.759 | 0.048 | 0.813 |
|
multipleFilterResult-class | 0.001 | 0.000 | 0.001 |
|
norm2Filter-class | 0.191 | 0.020 | 0.221 |
|
normalizeActionItem-class | 0.002 | 0.000 | 0.002 |
|
normalizeView-class | 0.002 | 0.001 | 0.002 |
|
parameters-methods | 0.036 | 0.001 | 0.037 |
|
polygonGate | 0.079 | 0.003 | 0.083 |
|
quadGate | 0.260 | 0.006 | 0.273 |
|
quadratic-class | 0.037 | 0.001 | 0.038 |
|
quadraticTransform | 0.050 | 0.003 | 0.053 |
|
ratio-class | 0.044 | 0.000 | 0.044 |
|
ratiotGml2-class | 0.036 | 0.000 | 0.037 |
|
read.FCS | 0.069 | 0.002 | 0.071 |
|
read.FCSheader | 0.008 | 0.001 | 0.010 |
|
read.flowSet | 0.129 | 0.005 | 0.135 |
|
rectangleGate | 0.137 | 0.006 | 0.143 |
|
sampleFilter-class | 0.064 | 0.001 | 0.067 |
|
scaleTransform | 0.049 | 0.001 | 0.050 |
|
singleParameterTransform-class | 0.001 | 0.001 | 0.002 |
|
sinht-class | 0.040 | 0.001 | 0.042 |
|
split-methods | 1.433 | 0.097 | 1.555 |
|
splitScaleTransform | 1.381 | 0.110 | 1.512 |
|
splitscale-class | 0.044 | 0.002 | 0.046 |
|
squareroot-class | 0.038 | 0.001 | 0.039 |
|
subsettingActionItem-class | 0.002 | 0.000 | 0.002 |
|
subsettingView-class | 0.002 | 0.000 | 0.002 |
|
timeFilter-class | 1.863 | 0.089 | 1.970 |
|
transform-class | 0.003 | 0.000 | 0.006 |
|
transformActionItem-class | 0.002 | 0.000 | 0.002 |
|
transformFilter-class | 0.133 | 0.004 | 0.143 |
|
transformList-class | 0.735 | 0.056 | 0.800 |
|
transformMap-class | 0.002 | 0.000 | 0.001 |
|
transformView-class | 0.001 | 0.000 | 0.002 |
|
truncateTransform | 0.047 | 0.002 | 0.049 |
|
unitytransform-class | 0.148 | 0.025 | 0.179 |
|
view-class | 0.001 | 0.000 | 0.002 |
|
workFlow-class | 0.002 | 0.000 | 0.002 |
|
write.FCS | 0.085 | 0.002 | 0.093 |
|
write.flowSet | 1.112 | 0.068 | 1.230 |
|