##############################################################################
##############################################################################
###
### Running command:
###
### rm -rf flowViz.buildbin-libdir && mkdir flowViz.buildbin-libdir && C:\cygwin\bin\curl.exe -O http://zin2/BBS/3.3/bioc/src/contrib/flowViz_1.36.2.tar.gz && E:\biocbld\bbs-3.3-bioc\R\bin\R.exe CMD INSTALL --build --library=flowViz.buildbin-libdir --merge-multiarch flowViz_1.36.2.tar.gz && E:\biocbld\bbs-3.3-bioc\R\bin\R.exe CMD INSTALL flowViz_1.36.2.zip && rm flowViz_1.36.2.tar.gz flowViz_1.36.2.zip
###
##############################################################################
##############################################################################
install for i386
* installing *source* package 'flowViz' ...
** R
** inst
** preparing package for lazy loading
Creating a generic function for 'histogram' from package 'lattice' in package 'flowViz'
** help
*** installing help indices
** building package indices
** installing vignettes
'filters.Rmd'
** testing if installed package can be loaded
install for x64
* installing *source* package 'flowViz' ...
** testing if installed package can be loaded
* MD5 sums
packaged installation of 'flowViz' as flowViz_1.36.2.zip
* DONE (flowViz)
* installing to library 'E:/biocbld/bbs-3.3-bioc/R/library'
package 'flowViz' successfully unpacked and MD5 sums checked