Back to the "Multiple platform build/check report" | A B C D E [F] G H I J K L M N O P Q R S T U V W X Y Z |
This page was generated on 2016-10-13 12:56:13 -0700 (Thu, 13 Oct 2016).
Package 414/1210 | Hostname | OS / Arch | INSTALL | BUILD | CHECK | BUILD BIN | |||||
flowViz 1.36.2 Mike Jiang
| zin2 | Linux (Ubuntu 14.04.2 LTS) / x86_64 | OK | OK | OK | ![]() | |||||
moscato2 | Windows Server 2008 R2 Enterprise SP1 (64-bit) / x64 | OK | OK | OK | OK | ![]() | |||||
oaxaca | Mac OS X Mavericks (10.9.5) / x86_64 | OK | [ OK ] | OK | OK | ![]() |
Package: flowViz |
Version: 1.36.2 |
Command: /Library/Frameworks/R.framework/Versions/Current/Resources/bin/R CMD build --keep-empty-dirs --no-resave-data flowViz |
StartedAt: 2016-10-12 18:48:26 -0700 (Wed, 12 Oct 2016) |
EndedAt: 2016-10-12 18:50:52 -0700 (Wed, 12 Oct 2016) |
EllapsedTime: 145.7 seconds |
RetCode: 0 |
Status: OK |
PackageFile: flowViz_1.36.2.tar.gz |
PackageFileSize: 813.6 KiB |
############################################################################## ############################################################################## ### ### Running command: ### ### /Library/Frameworks/R.framework/Versions/Current/Resources/bin/R CMD build --keep-empty-dirs --no-resave-data flowViz ### ############################################################################## ############################################################################## * checking for file ‘flowViz/DESCRIPTION’ ... OK * preparing ‘flowViz’: * checking DESCRIPTION meta-information ... OK * installing the package to build vignettes * creating vignettes ... OK * checking for LF line-endings in source and make files * checking for empty or unneeded directories * building ‘flowViz_1.36.2.tar.gz’