Back to the "Multiple platform build/check report" A  B  C  D  E  F  G  H  I  J  K  L [M] N  O  P  Q  R  S  T  U  V  W  X  Y  Z 

BioC 3.3: BUILD BIN report for metagenomeSeq on morelia

This page was generated on 2016-04-21 13:24:06 -0700 (Thu, 21 Apr 2016).

Package 692/1210HostnameOS / ArchINSTALLBUILDCHECKBUILD BIN
metagenomeSeq 1.13.1
Joseph N. Paulson
Snapshot Date: 2016-04-20 17:20:35 -0700 (Wed, 20 Apr 2016)
URL: https://hedgehog.fhcrc.org/bioconductor/trunk/madman/Rpacks/metagenomeSeq
Last Changed Rev: 116425 / Revision: 116626
Last Changed Date: 2016-04-17 13:18:34 -0700 (Sun, 17 Apr 2016)
zin2 Linux (Ubuntu 14.04.2 LTS) / x86_64  OK  OK  OK NO, built version is LOWER than in internal repository!!!
moscato2 Windows Server 2008 R2 Enterprise SP1 (64-bit) / x64  OK  OK  OK  OK NO, built version is LOWER than in internal repository!!!
morelia Mac OS X Mavericks (10.9.5) / x86_64  OK  OK  OK [ OK ]NO, built version is LOWER than in internal repository!!!

Summary

Package: metagenomeSeq
Version: 1.13.1
Command: rm -rf metagenomeSeq.buildbin-libdir && mkdir metagenomeSeq.buildbin-libdir && /Users/biocbuild/BBS/utils/build-universal.sh metagenomeSeq_1.13.1.tar.gz /Library/Frameworks/R.framework/Versions/Current/Resources/bin/R metagenomeSeq.buildbin-libdir
StartedAt: 2016-04-21 09:06:40 -0700 (Thu, 21 Apr 2016)
EndedAt: 2016-04-21 09:06:49 -0700 (Thu, 21 Apr 2016)
EllapsedTime: 8.4 seconds
RetCode: 0
Status:  OK 
PackageFile: metagenomeSeq_1.13.1.tgz
PackageFileSize: 1.782 MiB

Command output

##############################################################################
##############################################################################
###
### Running command:
###
###   rm -rf metagenomeSeq.buildbin-libdir && mkdir metagenomeSeq.buildbin-libdir && /Users/biocbuild/BBS/utils/build-universal.sh metagenomeSeq_1.13.1.tar.gz /Library/Frameworks/R.framework/Versions/Current/Resources/bin/R metagenomeSeq.buildbin-libdir
###
##############################################################################
##############################################################################


>>>>>>> 
>>>>>>> INSTALLATION WITH 'R CMD INSTALL --preclean --no-multiarch --library=metagenomeSeq.buildbin-libdir metagenomeSeq_1.13.1.tar.gz'
>>>>>>> 

* installing *source* package ‘metagenomeSeq’ ...
** R
** data
** inst
** preparing package for lazy loading
** help
*** installing help indices
** building package indices
** installing vignettes
** testing if installed package can be loaded
* DONE (metagenomeSeq)