Back to the "Multiple platform build/check report" A  B  C  D  E  F  G  H  I  J  K  L [M] N  O  P  Q  R  S  T  U  V  W  X  Y  Z 

BioC 3.3: CHECK report for metagenomeSeq on morelia

This page was generated on 2016-04-21 13:24:06 -0700 (Thu, 21 Apr 2016).

Package 692/1210HostnameOS / ArchINSTALLBUILDCHECKBUILD BIN
metagenomeSeq 1.13.1
Joseph N. Paulson
Snapshot Date: 2016-04-20 17:20:35 -0700 (Wed, 20 Apr 2016)
URL: https://hedgehog.fhcrc.org/bioconductor/trunk/madman/Rpacks/metagenomeSeq
Last Changed Rev: 116425 / Revision: 116626
Last Changed Date: 2016-04-17 13:18:34 -0700 (Sun, 17 Apr 2016)
zin2 Linux (Ubuntu 14.04.2 LTS) / x86_64  OK  OK  OK NO, built version is LOWER than in internal repository!!!
moscato2 Windows Server 2008 R2 Enterprise SP1 (64-bit) / x64  OK  OK  OK  OK NO, built version is LOWER than in internal repository!!!
morelia Mac OS X Mavericks (10.9.5) / x86_64  OK  OK [ OK ] OK NO, built version is LOWER than in internal repository!!!

Summary

Package: metagenomeSeq
Version: 1.13.1
Command: /Library/Frameworks/R.framework/Versions/Current/Resources/bin/R CMD check --no-vignettes --timings metagenomeSeq_1.13.1.tar.gz
StartedAt: 2016-04-21 04:50:54 -0700 (Thu, 21 Apr 2016)
EndedAt: 2016-04-21 04:52:56 -0700 (Thu, 21 Apr 2016)
EllapsedTime: 121.5 seconds
RetCode: 0
Status:  OK 
CheckDir: metagenomeSeq.Rcheck
Warnings: 0

Command output

##############################################################################
##############################################################################
###
### Running command:
###
###   /Library/Frameworks/R.framework/Versions/Current/Resources/bin/R CMD check --no-vignettes --timings metagenomeSeq_1.13.1.tar.gz
###
##############################################################################
##############################################################################


* using log directory ‘/Users/biocbuild/bbs-3.3-bioc/meat/metagenomeSeq.Rcheck’
* using R version 3.3.0 beta (2016-04-06 r70435)
* using platform: x86_64-apple-darwin13.4.0 (64-bit)
* using session charset: UTF-8
* using option ‘--no-vignettes’
* checking for file ‘metagenomeSeq/DESCRIPTION’ ... OK
* this is package ‘metagenomeSeq’ version ‘1.13.1’
* checking package namespace information ... OK
* checking package dependencies ... OK
* checking if this is a source package ... OK
* checking if there is a namespace ... OK
* checking for hidden files and directories ... OK
* checking for portable file names ... OK
* checking for sufficient/correct file permissions ... OK
* checking whether package ‘metagenomeSeq’ can be installed ... [8s/8s] OK
* checking installed package size ... OK
* checking package directory ... OK
* checking ‘build’ directory ... OK
* checking DESCRIPTION meta-information ... OK
* checking top-level files ... OK
* checking for left-over files ... OK
* checking index information ... OK
* checking package subdirectories ... OK
* checking R files for non-ASCII characters ... OK
* checking R files for syntax errors ... OK
* checking whether the package can be loaded ... OK
* checking whether the package can be loaded with stated dependencies ... OK
* checking whether the package can be unloaded cleanly ... OK
* checking whether the namespace can be loaded with stated dependencies ... OK
* checking whether the namespace can be unloaded cleanly ... OK
* checking dependencies in R code ... OK
* checking S3 generic/method consistency ... OK
* checking replacement functions ... OK
* checking foreign function calls ... OK
* checking R code for possible problems ... NOTE
MRcoefs: no visible global function definition for ‘quantile’
MRcoefs: no visible global function definition for ‘p.adjust’
MRexperiment2biom: no visible global function definition for
  ‘packageVersion’
MRfulltable: no visible global function definition for ‘quantile’
MRfulltable: no visible global function definition for ‘p.adjust’
MRtable: no visible global function definition for ‘quantile’
MRtable: no visible global function definition for ‘p.adjust’
calcPosComponent: no visible global function definition for
  ‘coefficients’
calcPosComponent: no visible global function definition for ‘residuals’
calcShrinkParameters: no visible global function definition for ‘var’
calcZeroComponent : <anonymous>: no visible global function definition
  for ‘glm.fit’
calcZeroComponent : <anonymous>: no visible global function definition
  for ‘binomial’
calcZeroComponent : <anonymous>: no visible global function definition
  for ‘coefficients’
correlationTest : <anonymous>: no visible global function definition
  for ‘cor.test’
cumNormStat : <anonymous>: no visible global function definition for
  ‘quantile’
cumNormStat : <anonymous>: no visible global function definition for
  ‘approx’
cumNormStat: no visible global function definition for ‘plot’
cumNormStat: no visible global function definition for ‘abline’
cumNormStat: no visible global function definition for ‘axis’
cumNormStatFast : <anonymous>: no visible global function definition
  for ‘quantile’
cumNormStatFast: no visible global function definition for ‘plot’
cumNormStatFast: no visible global function definition for ‘abline’
cumNormStatFast: no visible global function definition for ‘axis’
doZeroMStep: no visible global function definition for ‘lm.fit’
doZeroMStep: no visible global function definition for ‘qlogis’
doZeroMStep: no visible global function definition for ‘sd’
fitDO : <anonymous>: no visible global function definition for
  ‘fisher.test’
fitDO: no visible global function definition for ‘p.adjust’
fitFeatureModel: no visible global function definition for ‘median’
fitFeatureModel: no visible global function definition for ‘pnorm’
fitPA : <anonymous>: no visible global function definition for
  ‘fisher.test’
fitPA: no visible global function definition for ‘p.adjust’
fitZeroLogNormal: no visible global function definition for ‘median’
fitZeroLogNormal: no visible global function definition for ‘density’
fitZeroLogNormal : <anonymous>: no visible global function definition
  for ‘coefficients’
fitZig: no visible global function definition for ‘model.matrix’
getCountDensity: no visible global function definition for ‘dnorm’
getPi: no visible global function definition for ‘plogis’
load_meta: no visible global function definition for ‘read.table’
load_metaQ: no visible global function definition for ‘read.delim’
load_phenoData: no visible global function definition for ‘read.table’
plotBubble: no visible global function definition for ‘quantile’
plotBubble : linMap: no visible global function definition for
  ‘approxfun’
plotBubble: no visible global function definition for ‘median’
plotBubble: no visible global function definition for ‘plot’
plotBubble: no visible global function definition for ‘rgb’
plotBubble: no visible global function definition for ‘points’
plotBubble: no visible global function definition for ‘axis’
plotClassTimeSeries: no visible global function definition for
  ‘predict’
plotClassTimeSeries: no visible global function definition for ‘plot’
plotClassTimeSeries: no visible global function definition for ‘lines’
plotCorr: no visible binding for global variable ‘cor’
plotCorr: no visible global function definition for ‘hclust’
plotCorr: no visible global function definition for ‘dist’
plotFeature: no visible global function definition for ‘plot’
plotGenus: no visible global function definition for ‘col2rgb’
plotGenus: no visible global function definition for ‘rgb’
plotGenus: no visible global function definition for ‘plot’
plotGenus: no visible global function definition for ‘axis’
plotMRheatmap: no visible binding for global variable ‘sd’
plotOTU: no visible global function definition for ‘col2rgb’
plotOTU: no visible global function definition for ‘rgb’
plotOTU: no visible global function definition for ‘plot’
plotOTU: no visible global function definition for ‘axis’
plotOrd: no visible global function definition for ‘cmdscale’
plotOrd: no visible global function definition for ‘prcomp’
plotOrd: no visible global function definition for ‘plot’
plotRare: no visible global function definition for ‘plot’
plotTimeSeries: no visible global function definition for ‘plot’
plotTimeSeries: no visible global function definition for ‘polygon’
plotTimeSeries: no visible global function definition for ‘lines’
plotTimeSeries: no visible global function definition for ‘abline’
ssFit: no visible global function definition for ‘predict’
ssIntervalCandidate: no visible global function definition for ‘tail’
ssPermAnalysis: no visible global function definition for ‘predict’
Undefined global functions or variables:
  abline approx approxfun axis binomial cmdscale coefficients col2rgb
  cor cor.test density dist dnorm fisher.test glm.fit hclust lines
  lm.fit median model.matrix p.adjust packageVersion plogis plot pnorm
  points polygon prcomp predict qlogis quantile read.delim read.table
  residuals rgb sd tail var
Consider adding
  importFrom("grDevices", "col2rgb", "rgb")
  importFrom("graphics", "abline", "axis", "lines", "plot", "points",
             "polygon")
  importFrom("stats", "approx", "approxfun", "binomial", "cmdscale",
             "coefficients", "cor", "cor.test", "density", "dist",
             "dnorm", "fisher.test", "glm.fit", "hclust", "lm.fit",
             "median", "model.matrix", "p.adjust", "plogis", "pnorm",
             "prcomp", "predict", "qlogis", "quantile", "residuals",
             "sd", "var")
  importFrom("utils", "packageVersion", "read.delim", "read.table",
             "tail")
to your NAMESPACE file.
* checking Rd files ... OK
* checking Rd metadata ... OK
* checking Rd cross-references ... OK
* checking for missing documentation entries ... OK
* checking for code/documentation mismatches ... OK
* checking Rd \usage sections ... OK
* checking Rd contents ... OK
* checking for unstated dependencies in examples ... OK
* checking contents of ‘data’ directory ... OK
* checking data for non-ASCII characters ... OK
* checking data for ASCII and uncompressed saves ... OK
* checking sizes of PDF files under ‘inst/doc’ ... OK
* checking installed files from ‘inst/doc’ ... OK
* checking files in ‘vignettes’ ... OK
* checking examples ... [29s/37s] OK
* checking for unstated dependencies in ‘tests’ ... OK
* checking tests ...
  Running ‘runTests.R’ [11s/11s]
 [12s/12s] OK
* checking for unstated dependencies in vignettes ... OK
* checking package vignettes in ‘inst/doc’ ... OK
* checking running R code from vignettes ... SKIPPED
* checking re-building of vignette outputs ... SKIPPED
* checking PDF version of manual ... OK
* DONE

Status: 1 NOTE
See
  ‘/Users/biocbuild/bbs-3.3-bioc/meat/metagenomeSeq.Rcheck/00check.log’
for details.


metagenomeSeq.Rcheck/00install.out:

* installing *source* package ‘metagenomeSeq’ ...
** R
** data
** inst
** preparing package for lazy loading
** help
*** installing help indices
** building package indices
** installing vignettes
** testing if installed package can be loaded
* DONE (metagenomeSeq)

metagenomeSeq.Rcheck/metagenomeSeq-Ex.timings:

nameusersystemelapsed
MRcoefs1.7680.0811.849
MRcounts0.3450.0200.365
MRexperiment-class0.0010.0010.001
MRfulltable1.3100.0491.360
MRtable1.1160.0311.147
aggregateBySample0.1720.0160.188
aggregateByTaxonomy0.1930.0180.212
biom2MRexperiment0.0000.0000.001
calcNormFactors0.4910.0940.585
correctIndices0.1120.0250.137
correlationTest0.2750.0380.313
cumNorm0.7500.0960.847
cumNormMat0.6010.0980.699
cumNormStat1.2940.0871.382
cumNormStatFast0.3940.0320.427
expSummary0.1260.0160.142
exportMat000
exportStats000
filterData0.3170.0330.351
fitDO0.7490.0753.459
fitFeatureModel1.0860.0691.154
fitPA0.5750.0273.287
fitSSTimeSeries1.3780.0941.491
fitTimeSeries1.2430.0821.325
fitZig2.4810.2952.779
libSize0.3580.0220.381
load_biom0.0010.0000.000
load_meta0.0350.0010.035
load_metaQ0.0000.0000.001
load_phenoData000
newMRexperiment0.0390.0000.039
normFactors0.3390.0070.347
plotBubble0.5970.0843.189
plotClassTimeSeries1.0090.1071.118
plotCorr0.5040.0520.556
plotFeature0.1530.0170.179
plotGenus0.1970.0270.225
plotMRheatmap2.2910.0872.387
plotOTU0.2070.0200.229
plotOrd0.2260.0140.241
plotRare0.1780.0240.202
plotTimeSeries1.0650.0531.120
posteriorProbs0.0010.0000.000
returnAppropriateObj0.3670.0210.388
ssFit000
ssIntervalCandidate0.0000.0000.001
ssPerm000
ssPermAnalysis0.0010.0000.000
trapz0.0010.0000.001
uniqueFeatures0.2420.0270.270
zigControl000