ropls 1.4.6 Etienne A. Thevenot
Snapshot Date: 2016-10-12 17:20:15 -0700 (Wed, 12 Oct 2016) | URL: https://hedgehog.fhcrc.org/bioconductor/branches/RELEASE_3_3/madman/Rpacks/ropls | Last Changed Rev: 122045 / Revision: 122332 | Last Changed Date: 2016-10-07 07:50:37 -0700 (Fri, 07 Oct 2016) |
| zin2 | Linux (Ubuntu 14.04.2 LTS) / x86_64 | OK | OK | OK | | |
moscato2 | Windows Server 2008 R2 Enterprise SP1 (64-bit) / x64 | OK | OK | OK | [ OK ] | |
oaxaca | Mac OS X Mavericks (10.9.5) / x86_64 | OK | OK | OK | OK | |
##############################################################################
##############################################################################
###
### Running command:
###
### cd ropls.buildbin-libdir/ropls && zip -r ../../ropls_1.4.6.zip . & cd ../..
###
##############################################################################
##############################################################################
adding: CITATION (188 bytes security) (deflated 56%)
adding: data/ (256 bytes security) (stored 0%)
adding: data/aminoacids.csv.gz (188 bytes security) (stored 0%)
adding: data/cellulose.rdata (188 bytes security) (deflated 4%)
adding: data/cornell.csv.gz (188 bytes security) (stored 0%)
adding: data/datalist (188 bytes security) (deflated 15%)
adding: data/foods.csv.gz (188 bytes security) (stored 0%)
adding: data/linnerud.csv.gz (188 bytes security) (stored 0%)
adding: data/lowarp.csv.gz (188 bytes security) (stored 0%)
adding: data/mark.csv.gz (188 bytes security) (stored 0%)
adding: data/sacurine.rdata (188 bytes security) (deflated 0%)
adding: DESCRIPTION (188 bytes security) (deflated 51%)
adding: doc/ (256 bytes security) (stored 0%)
adding: doc/index.html (188 bytes security) (deflated 57%)
adding: doc/ropls.pdf (188 bytes security) (deflated 19%)
adding: doc/ropls.R (188 bytes security) (deflated 82%)
adding: doc/ropls.Rnw (188 bytes security) (deflated 67%)
adding: help/ (256 bytes security) (stored 0%)
adding: help/aliases.rds (188 bytes security) (stored 0%)
adding: help/AnIndex (188 bytes security) (deflated 71%)
adding: help/paths.rds (188 bytes security) (stored 0%)
adding: help/ropls.rdb (188 bytes security) (deflated 2%)
adding: help/ropls.rdx (188 bytes security) (stored 0%)
adding: html/ (256 bytes security) (stored 0%)
adding: html/00Index.html (188 bytes security) (deflated 80%)
adding: html/R.css (188 bytes security) (deflated 75%)
adding: INDEX (188 bytes security) (deflated 66%)
adding: MD5 (188 bytes security) (deflated 43%)
adding: Meta/ (256 bytes security) (stored 0%)
adding: Meta/data.rds (188 bytes security) (stored 0%)
adding: Meta/hsearch.rds (188 bytes security) (stored 0%)
adding: Meta/links.rds (188 bytes security) (stored 0%)
adding: Meta/nsInfo.rds (188 bytes security) (stored 0%)
adding: Meta/package.rds (188 bytes security) (stored 0%)
adding: Meta/Rd.rds (188 bytes security) (stored 0%)
adding: Meta/vignette.rds (188 bytes security) (stored 0%)
adding: NAMESPACE (188 bytes security) (deflated 59%)
adding: NEWS (188 bytes security) (deflated 70%)
adding: R/ (256 bytes security) (stored 0%)
adding: R/ropls (188 bytes security) (deflated 41%)
adding: R/ropls.rdb (188 bytes security) (deflated 35%)
adding: R/ropls.rdx (188 bytes security) (stored 0%)
adding: unitTests/ (256 bytes security) (stored 0%)
adding: unitTests/test_opls.R (188 bytes security) (deflated 76%)