ropls 1.4.6 Etienne A. Thevenot
Snapshot Date: 2016-10-12 17:20:15 -0700 (Wed, 12 Oct 2016) | URL: https://hedgehog.fhcrc.org/bioconductor/branches/RELEASE_3_3/madman/Rpacks/ropls | Last Changed Rev: 122045 / Revision: 122332 | Last Changed Date: 2016-10-07 07:50:37 -0700 (Fri, 07 Oct 2016) |
| zin2 | Linux (Ubuntu 14.04.2 LTS) / x86_64 | [ OK ] | OK | OK | | |
moscato2 | Windows Server 2008 R2 Enterprise SP1 (64-bit) / x64 | OK | OK | OK | OK | |
oaxaca | Mac OS X Mavericks (10.9.5) / x86_64 | OK | OK | OK | OK | |
##############################################################################
##############################################################################
###
### Running command:
###
### /home/biocbuild/bbs-3.3-bioc/R/bin/R CMD INSTALL ropls
###
##############################################################################
##############################################################################
* installing to library ‘/home/biocbuild/bbs-3.3-bioc/R/library’
* installing *source* package ‘ropls’ ...
** R
** data
** inst
** preparing package for lazy loading
Creating a generic function for ‘print’ from package ‘base’ in package ‘ropls’
Creating a generic function for ‘plot’ from package ‘graphics’ in package ‘ropls’
Creating a generic function for ‘fitted’ from package ‘stats’ in package ‘ropls’
Creating a generic function for ‘coef’ from package ‘stats’ in package ‘ropls’
Creating a generic function for ‘residuals’ from package ‘stats’ in package ‘ropls’
Creating a generic function for ‘predict’ from package ‘stats’ in package ‘ropls’
** help
*** installing help indices
** building package indices
** installing vignettes
‘ropls.Rnw’
** testing if installed package can be loaded
* DONE (ropls)