bamsignals 1.5.3 Alessandro Mammana
Snapshot Date: 2016-09-19 19:15:14 -0700 (Mon, 19 Sep 2016) | URL: https://hedgehog.fhcrc.org/bioconductor/trunk/madman/Rpacks/bamsignals | Last Changed Rev: 117851 / Revision: 121152 | Last Changed Date: 2016-05-25 11:10:26 -0700 (Wed, 25 May 2016) |
| zin1 | Linux (Ubuntu 16.04 LTS) / x86_64 | OK | OK | OK | | ![UNNEEDED, same version exists in internal repository UNNEEDED, same version exists in internal repository](../120px-Blue_Light_Icon.svg.png) |
moscato1 | Windows Server 2008 R2 Standard (64-bit) / x64 | OK | OK | OK | OK | ![UNNEEDED, same version exists in internal repository UNNEEDED, same version exists in internal repository](../120px-Blue_Light_Icon.svg.png) |
morelia | Mac OS X Mavericks (10.9.5) / x86_64 | [ OK ] | OK | OK | OK | ![UNNEEDED, same version exists in internal repository UNNEEDED, same version exists in internal repository](../120px-Blue_Light_Icon.svg.png) |
##############################################################################
##############################################################################
###
### Running command:
###
### /Library/Frameworks/R.framework/Versions/Current/Resources/bin/R CMD INSTALL bamsignals
###
##############################################################################
##############################################################################
* installing to library ‘/Library/Frameworks/R.framework/Versions/3.3/Resources/library’
* installing *source* package ‘bamsignals’ ...
** libs
clang++ -I/Library/Frameworks/R.framework/Resources/include -DNDEBUG -I/usr/local/include -I/usr/local/include/freetype2 -I/opt/X11/include -I"/Library/Frameworks/R.framework/Versions/3.3/Resources/library/Rcpp/include" -I"/Library/Frameworks/R.framework/Versions/3.3/Resources/library/Rhtslib/include" -I"/Library/Frameworks/R.framework/Versions/3.3/Resources/library/zlibbioc/include" -fPIC -Wall -mtune=core2 -g -O2 -c CountSignals.cpp -o CountSignals.o
clang++ -I/Library/Frameworks/R.framework/Resources/include -DNDEBUG -I/usr/local/include -I/usr/local/include/freetype2 -I/opt/X11/include -I"/Library/Frameworks/R.framework/Versions/3.3/Resources/library/Rcpp/include" -I"/Library/Frameworks/R.framework/Versions/3.3/Resources/library/Rhtslib/include" -I"/Library/Frameworks/R.framework/Versions/3.3/Resources/library/zlibbioc/include" -fPIC -Wall -mtune=core2 -g -O2 -c RcppExports.cpp -o RcppExports.o
clang++ -I/Library/Frameworks/R.framework/Resources/include -DNDEBUG -I/usr/local/include -I/usr/local/include/freetype2 -I/opt/X11/include -I"/Library/Frameworks/R.framework/Versions/3.3/Resources/library/Rcpp/include" -I"/Library/Frameworks/R.framework/Versions/3.3/Resources/library/Rhtslib/include" -I"/Library/Frameworks/R.framework/Versions/3.3/Resources/library/zlibbioc/include" -fPIC -Wall -mtune=core2 -g -O2 -c bamsignals.cpp -o bamsignals.o
clang -I/Library/Frameworks/R.framework/Resources/include -DNDEBUG -I/usr/local/include -I/usr/local/include/freetype2 -I/opt/X11/include -I"/Library/Frameworks/R.framework/Versions/3.3/Resources/library/Rcpp/include" -I"/Library/Frameworks/R.framework/Versions/3.3/Resources/library/Rhtslib/include" -I"/Library/Frameworks/R.framework/Versions/3.3/Resources/library/zlibbioc/include" -fPIC -Wall -mtune=core2 -g -O2 -c bamsignals_init.c -o bamsignals_init.o
clang++ -dynamiclib -Wl,-headerpad_max_install_names -undefined dynamic_lookup -single_module -multiply_defined suppress -L/Library/Frameworks/R.framework/Resources/lib -L/usr/local/lib -o bamsignals.so CountSignals.o RcppExports.o bamsignals.o bamsignals_init.o /Library/Frameworks/R.framework/Versions/3.3/Resources/library/Rhtslib/lib/libhts.a -lz -pthread -F/Library/Frameworks/R.framework/.. -framework R -Wl,-framework -Wl,CoreFoundation
clang: warning: argument unused during compilation: '-pthread'
installing to /Library/Frameworks/R.framework/Versions/3.3/Resources/library/bamsignals/libs
** R
** inst
** preparing package for lazy loading
** help
*** installing help indices
** building package indices
** installing vignettes
** testing if installed package can be loaded
* DONE (bamsignals)