Back to Multiple platform build/check report for BioC 3.7 experimental data |
This page was generated on 2018-10-16 14:18:42 -0400 (Tue, 16 Oct 2018).
Package 160/342 | Hostname | OS / Arch | INSTALL | BUILD | CHECK | BUILD BIN | ||||||
HSMMSingleCell 0.114.0 Cole Trapnell
| malbec2 | Linux (Ubuntu 16.04.1 LTS) / x86_64 | OK | [ OK ] | WARNINGS | ![]() |
Package: HSMMSingleCell |
Version: 0.114.0 |
Command: /home/biocbuild/bbs-3.7-bioc/R/bin/R CMD build --keep-empty-dirs --no-resave-data HSMMSingleCell |
StartedAt: 2018-10-16 09:44:01 -0400 (Tue, 16 Oct 2018) |
EndedAt: 2018-10-16 09:44:08 -0400 (Tue, 16 Oct 2018) |
EllapsedTime: 6.3 seconds |
RetCode: 0 |
Status: OK |
PackageFile: HSMMSingleCell_0.114.0.tar.gz |
PackageFileSize: 16.09 MiB |
############################################################################## ############################################################################## ### ### Running command: ### ### /home/biocbuild/bbs-3.7-bioc/R/bin/R CMD build --keep-empty-dirs --no-resave-data HSMMSingleCell ### ############################################################################## ############################################################################## * checking for file ‘HSMMSingleCell/DESCRIPTION’ ... OK * preparing ‘HSMMSingleCell’: * checking DESCRIPTION meta-information ... OK * checking for LF line-endings in source and make files and shell scripts * checking for empty or unneeded directories * looking to see if a ‘data/datalist’ file should be added * building ‘HSMMSingleCell_0.114.0.tar.gz’