Back to Multiple platform build/check report for BioC 3.7 experimental data |
This page was generated on 2018-10-16 14:18:42 -0400 (Tue, 16 Oct 2018).
Package 160/342 | Hostname | OS / Arch | INSTALL | BUILD | CHECK | BUILD BIN | ||||||
HSMMSingleCell 0.114.0 Cole Trapnell
| malbec2 | Linux (Ubuntu 16.04.1 LTS) / x86_64 | [ OK ] | OK | WARNINGS |
Package: HSMMSingleCell |
Version: 0.114.0 |
Command: /home/biocbuild/bbs-3.7-bioc/R/bin/R CMD INSTALL HSMMSingleCell |
StartedAt: 2018-10-16 08:57:17 -0400 (Tue, 16 Oct 2018) |
EndedAt: 2018-10-16 08:57:23 -0400 (Tue, 16 Oct 2018) |
EllapsedTime: 5.9 seconds |
RetCode: 0 |
Status: OK |
############################################################################## ############################################################################## ### ### Running command: ### ### /home/biocbuild/bbs-3.7-bioc/R/bin/R CMD INSTALL HSMMSingleCell ### ############################################################################## ############################################################################## * installing to library ‘/home/biocbuild/bbs-3.7-bioc/R/library’ * installing *source* package ‘HSMMSingleCell’ ... ** R ** data ** byte-compile and prepare package for lazy loading ** help *** installing help indices ** building package indices ** installing vignettes ** testing if installed package can be loaded * DONE (HSMMSingleCell)