Back to Multiple platform build/check report for BioC 3.21:   simplified   long
A[B]CDEFGHIJKLMNOPQRSTUVWXYZ

This page was generated on 2025-02-06 11:41 -0500 (Thu, 06 Feb 2025).

HostnameOSArch (*)R versionInstalled pkgs
nebbiolo1Linux (Ubuntu 24.04.1 LTS)x86_64R Under development (unstable) (2025-01-20 r87609) -- "Unsuffered Consequences" 4719
palomino7Windows Server 2022 Datacenterx64R Under development (unstable) (2025-01-21 r87610 ucrt) -- "Unsuffered Consequences" 4480
lconwaymacOS 12.7.1 Montereyx86_64R Under development (unstable) (2025-01-22 r87618) -- "Unsuffered Consequences" 4491
kjohnson3macOS 13.7.1 Venturaarm64R Under development (unstable) (2025-01-20 r87609) -- "Unsuffered Consequences" 4444
Click on any hostname to see more info about the system (e.g. compilers)      (*) as reported by 'uname -p', except on Windows and Mac OS X

Package 250/2295HostnameOS / ArchINSTALLBUILDCHECKBUILD BIN
BulkSignalR 0.99.22  (landing page)
Jean-Philippe Villemin
Snapshot Date: 2025-02-05 13:48 -0500 (Wed, 05 Feb 2025)
git_url: https://git.bioconductor.org/packages/BulkSignalR
git_branch: devel
git_last_commit: a707d8a
git_last_commit_date: 2024-12-20 10:25:07 -0500 (Fri, 20 Dec 2024)
nebbiolo1Linux (Ubuntu 24.04.1 LTS) / x86_64  OK    OK    OK  UNNEEDED, same version is already published
palomino7Windows Server 2022 Datacenter / x64  OK    OK    OK    OK  UNNEEDED, same version is already published
lconwaymacOS 12.7.1 Monterey / x86_64  OK    OK    OK    OK  UNNEEDED, same version is already published
kjohnson3macOS 13.7.1 Ventura / arm64  OK    OK    OK    OK  UNNEEDED, same version is already published


CHECK results for BulkSignalR on lconway

To the developers/maintainers of the BulkSignalR package:
- Allow up to 24 hours (and sometimes 48 hours) for your latest push to git@git.bioconductor.org:packages/BulkSignalR.git to reflect on this report. See Troubleshooting Build Report for more information.
- Use the following Renviron settings to reproduce errors and warnings.
- If 'R CMD check' started to fail recently on the Linux builder(s) over a missing dependency, add the missing dependency to 'Suggests:' in your DESCRIPTION file. See Renviron.bioc for more information.

raw results


Summary

Package: BulkSignalR
Version: 0.99.22
Command: /Library/Frameworks/R.framework/Resources/bin/R CMD check --install=check:BulkSignalR.install-out.txt --library=/Library/Frameworks/R.framework/Resources/library --no-vignettes --timings BulkSignalR_0.99.22.tar.gz
StartedAt: 2025-02-05 19:19:29 -0500 (Wed, 05 Feb 2025)
EndedAt: 2025-02-05 19:27:14 -0500 (Wed, 05 Feb 2025)
EllapsedTime: 464.7 seconds
RetCode: 0
Status:   OK  
CheckDir: BulkSignalR.Rcheck
Warnings: 0

Command output

##############################################################################
##############################################################################
###
### Running command:
###
###   /Library/Frameworks/R.framework/Resources/bin/R CMD check --install=check:BulkSignalR.install-out.txt --library=/Library/Frameworks/R.framework/Resources/library --no-vignettes --timings BulkSignalR_0.99.22.tar.gz
###
##############################################################################
##############################################################################


* using log directory ‘/Users/biocbuild/bbs-3.21-bioc/meat/BulkSignalR.Rcheck’
* using R Under development (unstable) (2025-01-22 r87618)
* using platform: x86_64-apple-darwin20
* R was compiled by
    Apple clang version 14.0.0 (clang-1400.0.29.202)
    GNU Fortran (GCC) 14.2.0
* running under: macOS Monterey 12.7.6
* using session charset: UTF-8
* using option ‘--no-vignettes’
* checking for file ‘BulkSignalR/DESCRIPTION’ ... OK
* checking extension type ... Package
* this is package ‘BulkSignalR’ version ‘0.99.22’
* package encoding: UTF-8
* checking package namespace information ... OK
* checking package dependencies ... INFO
Imports includes 28 non-default packages.
Importing from so many packages makes the package vulnerable to any of
them becoming unavailable.  Move as many as possible to Suggests and
use conditionally.
* checking if this is a source package ... OK
* checking if there is a namespace ... OK
* checking for hidden files and directories ... OK
* checking for portable file names ... OK
* checking for sufficient/correct file permissions ... OK
* checking whether package ‘BulkSignalR’ can be installed ... OK
* checking installed package size ... OK
* checking package directory ... OK
* checking ‘build’ directory ... OK
* checking DESCRIPTION meta-information ... OK
* checking top-level files ... OK
* checking for left-over files ... OK
* checking index information ... OK
* checking package subdirectories ... OK
* checking code files for non-ASCII characters ... OK
* checking R files for syntax errors ... OK
* checking whether the package can be loaded ... OK
* checking whether the package can be loaded with stated dependencies ... OK
* checking whether the package can be unloaded cleanly ... OK
* checking whether the namespace can be loaded with stated dependencies ... OK
* checking whether the namespace can be unloaded cleanly ... OK
* checking whether startup messages can be suppressed ... OK
* checking dependencies in R code ... OK
* checking S3 generic/method consistency ... OK
* checking replacement functions ... OK
* checking foreign function calls ... OK
* checking R code for possible problems ... OK
* checking Rd files ... OK
* checking Rd metadata ... OK
* checking Rd cross-references ... OK
* checking for missing documentation entries ... OK
* checking for code/documentation mismatches ... OK
* checking Rd \usage sections ... OK
* checking Rd contents ... OK
* checking for unstated dependencies in examples ... OK
* checking contents of ‘data’ directory ... OK
* checking data for non-ASCII characters ... OK
* checking data for ASCII and uncompressed saves ... OK
* checking files in ‘vignettes’ ... OK
* checking examples ... OK
Examples with CPU (user + system) or elapsed time > 5s
                user system elapsed
convertToHuman 0.354  0.024   6.623
* checking for unstated dependencies in ‘tests’ ... OK
* checking tests ...
  Running ‘testthat.R’
 OK
* checking for unstated dependencies in vignettes ... OK
* checking package vignettes ... OK
* checking running R code from vignettes ... SKIPPED
* checking re-building of vignette outputs ... SKIPPED
* checking PDF version of manual ... OK
* DONE

Status: OK


Installation output

BulkSignalR.Rcheck/00install.out

##############################################################################
##############################################################################
###
### Running command:
###
###   /Library/Frameworks/R.framework/Resources/bin/R CMD INSTALL BulkSignalR
###
##############################################################################
##############################################################################


* installing to library ‘/Library/Frameworks/R.framework/Versions/4.5-x86_64/Resources/library’
* installing *source* package ‘BulkSignalR’ ...
** this is package ‘BulkSignalR’ version ‘0.99.22’
** using staged installation
** R
** data
** inst
** byte-compile and prepare package for lazy loading
** help
*** installing help indices
*** copying figures
** building package indices
** installing vignettes
** testing if installed package can be loaded from temporary location
** testing if installed package can be loaded from final location
** testing if installed package keeps a record of temporary installation path
* DONE (BulkSignalR)

Tests output

BulkSignalR.Rcheck/tests/testthat.Rout


R Under development (unstable) (2025-01-22 r87618) -- "Unsuffered Consequences"
Copyright (C) 2025 The R Foundation for Statistical Computing
Platform: x86_64-apple-darwin20

R is free software and comes with ABSOLUTELY NO WARRANTY.
You are welcome to redistribute it under certain conditions.
Type 'license()' or 'licence()' for distribution details.

R is a collaborative project with many contributors.
Type 'contributors()' for more information and
'citation()' on how to cite R or R packages in publications.

Type 'demo()' for some demos, 'help()' for on-line help, or
'help.start()' for an HTML browser interface to help.
Type 'q()' to quit R.

> library(testthat)
> library(BulkSignalR)
Local "database" is up to date.

Local "resources" are up to date.

> test_check("BulkSignalR")
[ FAIL 0 | WARN 0 | SKIP 0 | PASS 1 ]
> 
> proc.time()
   user  system elapsed 
 17.167   0.942  19.066 

Example timings

BulkSignalR.Rcheck/BulkSignalR-Ex.timings

nameusersystemelapsed
BSRClusterComp-class0.0030.0010.005
BSRClusterComp0.3690.0210.393
BSRDataModel-class0.0040.0010.005
BSRDataModel0.2350.0080.243
BSRDataModelComp-class0.0060.0010.006
BSRInference-class0.0040.0000.005
BSRInference2.6840.0842.783
BSRInferenceComp-class0.0070.0000.008
BSRInferenceComp1.3570.0891.454
BSRSignature-class0.0020.0000.002
BSRSignature0.0380.0020.039
BSRSignatureComp-class0.0030.0000.004
BSRSignatureComp0.0160.0010.017
LRinter0.0020.0000.003
LRinterScore0.0040.0010.006
LRinterShort0.0040.0010.005
addClusterComp0.3210.0150.340
alluvialPlot0.3860.0130.401
assignCellTypesToInteractions1.4200.0341.459
bubblePlotPathwaysLR0.3310.0070.341
cacheClear2.1460.0733.781
cacheInfo0.2360.0170.254
cacheVersion0.4380.0460.831
cellTypeFrequency0.7140.0320.749
cellularNetwork0.6520.0250.681
cellularNetworkTable0.5960.0090.607
chordDiagramLR1.3330.0241.363
coerce0.0010.0000.002
colClusterA0.0000.0000.001
colClusterB0.0000.0000.001
comparison0.0000.0000.001
comparisonName0.0000.0000.001
convertToHuman0.3540.0246.623
createDatabase0.0000.0000.001
createResources0.2380.0360.795
differentialStats0.0010.0000.001
findOrthoGenes0.1520.0030.304
generateSpatialPlots1.4630.0371.514
getComplexes0.1180.0120.131
getInteractions1.1660.0171.190
getLRIntracellNetwork2.2790.1642.461
getLRNetwork0.0410.0020.043
getPathwayStats0.0170.0020.019
getResource0.3420.0240.368
inferenceParameters0.0010.0000.001
initialOrganism0.0010.0010.002
initialOrthologs0.0010.0010.001
learnParameters3.1070.0283.159
ligands000
logTransformed0.0000.0000.001
maxLigandSpatialCounts0.0630.0040.068
mu0.0010.0000.001
ncounts0.0010.0000.001
normalization0.0000.0010.001
parameters0.0010.0000.001
pathways0.0010.0000.000
receptors000
reduceToBestPathway0.1100.0040.115
reduceToLigand0.0440.0020.047
reduceToPathway0.1020.0030.105
reduceToReceptor0.0210.0020.023
relateToGeneSet0.0940.0040.099
removeClusterComp0.3950.0230.424
rescoreInference0.0420.0030.045
resetLRdb0.0180.0000.019
resetNetwork0.0090.0000.010
resetPathways0.3340.0180.355
resetToInitialOrganism0.1840.0050.194
scoreLRGeneSignatures0.5010.0200.527
scoreSignatures0.4290.0100.443
separatedLRPlot1.5970.0321.639
signatureHeatmaps0.0220.0030.024
simpleHeatmap1.2670.0421.369
smoothSpatialCounts0.0620.0020.066
sourceComparisonName000
spatialAssociation0.0920.0110.104
spatialAssociationPlot4.4160.0654.507
spatialDiversityPlot1.0400.0171.062
spatialIndexPlot1.4290.0321.469
spatialPlot1.1180.0141.137
summarizedCellularNetwork0.7860.0230.812
tgCorr000
tgExpr0.0000.0000.001
tgGenes000
tgLogFC0.0000.0000.001
tgPval000
updateInference0.0940.0040.098