Back to Multiple platform build/check report for BioC 3.21:   simplified   long
ABCDEF[G]HIJKLMNOPQRSTUVWXYZ

This page was generated on 2025-02-04 11:42 -0500 (Tue, 04 Feb 2025).

HostnameOSArch (*)R versionInstalled pkgs
nebbiolo1Linux (Ubuntu 24.04.1 LTS)x86_64R Under development (unstable) (2025-01-20 r87609) -- "Unsuffered Consequences" 4716
palomino7Windows Server 2022 Datacenterx64R Under development (unstable) (2025-01-21 r87610 ucrt) -- "Unsuffered Consequences" 4478
lconwaymacOS 12.7.1 Montereyx86_64R Under development (unstable) (2025-01-22 r87618) -- "Unsuffered Consequences" 4489
kjohnson3macOS 13.7.1 Venturaarm64R Under development (unstable) (2025-01-20 r87609) -- "Unsuffered Consequences" 4442
Click on any hostname to see more info about the system (e.g. compilers)      (*) as reported by 'uname -p', except on Windows and Mac OS X

Package 898/2295HostnameOS / ArchINSTALLBUILDCHECKBUILD BIN
GRaNIE 1.11.0  (landing page)
Christian Arnold
Snapshot Date: 2025-02-03 13:40 -0500 (Mon, 03 Feb 2025)
git_url: https://git.bioconductor.org/packages/GRaNIE
git_branch: devel
git_last_commit: 7fdc850
git_last_commit_date: 2024-10-29 11:11:39 -0500 (Tue, 29 Oct 2024)
nebbiolo1Linux (Ubuntu 24.04.1 LTS) / x86_64  OK    OK    OK  UNNEEDED, same version is already published
palomino7Windows Server 2022 Datacenter / x64  OK    OK    WARNINGS    OK  NO, package depends on 'DESeq2' which is only available as a source package that needs compilation
lconwaymacOS 12.7.1 Monterey / x86_64  OK    OK    OK    OK  NO, package depends on 'DESeq2' which is only available as a source package that needs compilation
kjohnson3macOS 13.7.1 Ventura / arm64  OK    OK    OK    OK  NO, package depends on 'DESeq2' which is only available as a source package that needs compilation


CHECK results for GRaNIE on lconway

To the developers/maintainers of the GRaNIE package:
- Allow up to 24 hours (and sometimes 48 hours) for your latest push to git@git.bioconductor.org:packages/GRaNIE.git to reflect on this report. See Troubleshooting Build Report for more information.
- Use the following Renviron settings to reproduce errors and warnings.
- If 'R CMD check' started to fail recently on the Linux builder(s) over a missing dependency, add the missing dependency to 'Suggests:' in your DESCRIPTION file. See Renviron.bioc for more information.

raw results


Summary

Package: GRaNIE
Version: 1.11.0
Command: /Library/Frameworks/R.framework/Resources/bin/R CMD check --install=check:GRaNIE.install-out.txt --library=/Library/Frameworks/R.framework/Resources/library --no-vignettes --timings GRaNIE_1.11.0.tar.gz
StartedAt: 2025-02-03 20:55:48 -0500 (Mon, 03 Feb 2025)
EndedAt: 2025-02-03 21:04:20 -0500 (Mon, 03 Feb 2025)
EllapsedTime: 512.7 seconds
RetCode: 0
Status:   OK  
CheckDir: GRaNIE.Rcheck
Warnings: 0

Command output

##############################################################################
##############################################################################
###
### Running command:
###
###   /Library/Frameworks/R.framework/Resources/bin/R CMD check --install=check:GRaNIE.install-out.txt --library=/Library/Frameworks/R.framework/Resources/library --no-vignettes --timings GRaNIE_1.11.0.tar.gz
###
##############################################################################
##############################################################################


* using log directory ‘/Users/biocbuild/bbs-3.21-bioc/meat/GRaNIE.Rcheck’
* using R Under development (unstable) (2025-01-22 r87618)
* using platform: x86_64-apple-darwin20
* R was compiled by
    Apple clang version 14.0.0 (clang-1400.0.29.202)
    GNU Fortran (GCC) 14.2.0
* running under: macOS Monterey 12.7.6
* using session charset: UTF-8
* using option ‘--no-vignettes’
* checking for file ‘GRaNIE/DESCRIPTION’ ... OK
* this is package ‘GRaNIE’ version ‘1.11.0’
* package encoding: UTF-8
* checking package namespace information ... OK
* checking package dependencies ... INFO
Imports includes 37 non-default packages.
Importing from so many packages makes the package vulnerable to any of
them becoming unavailable.  Move as many as possible to Suggests and
use conditionally.
* checking if this is a source package ... OK
* checking if there is a namespace ... OK
* checking for hidden files and directories ... OK
* checking for portable file names ... OK
* checking for sufficient/correct file permissions ... OK
* checking whether package ‘GRaNIE’ can be installed ... OK
* checking installed package size ... OK
* checking package directory ... OK
* checking ‘build’ directory ... OK
* checking DESCRIPTION meta-information ... OK
* checking top-level files ... OK
* checking for left-over files ... OK
* checking index information ... OK
* checking package subdirectories ... OK
* checking code files for non-ASCII characters ... OK
* checking R files for syntax errors ... OK
* checking whether the package can be loaded ... OK
* checking whether the package can be loaded with stated dependencies ... OK
* checking whether the package can be unloaded cleanly ... OK
* checking whether the namespace can be loaded with stated dependencies ... OK
* checking whether the namespace can be unloaded cleanly ... OK
* checking whether startup messages can be suppressed ... OK
* checking dependencies in R code ... OK
* checking S3 generic/method consistency ... OK
* checking replacement functions ... OK
* checking foreign function calls ... OK
* checking R code for possible problems ... NOTE
.performIHW: no visible binding for global variable 'adj_pvalue'
Undefined global functions or variables:
  adj_pvalue
* checking Rd files ... OK
* checking Rd metadata ... OK
* checking Rd cross-references ... OK
* checking for missing documentation entries ... OK
* checking for code/documentation mismatches ... OK
* checking Rd \usage sections ... OK
* checking Rd contents ... OK
* checking for unstated dependencies in examples ... OK
* checking files in ‘vignettes’ ... OK
* checking examples ... OK
Examples with CPU (user + system) or elapsed time > 5s
                              user system elapsed
generateStatsSummary         8.597  0.170   9.261
plotDiagnosticPlots_peakGene 6.109  0.137   6.724
addConnections_TF_peak       4.637  0.950  12.902
addSNPData                   4.736  0.339   7.854
* checking for unstated dependencies in vignettes ... OK
* checking package vignettes ... OK
* checking running R code from vignettes ... SKIPPED
* checking re-building of vignette outputs ... SKIPPED
* checking PDF version of manual ... OK
* DONE

Status: 1 NOTE
See
  ‘/Users/biocbuild/bbs-3.21-bioc/meat/GRaNIE.Rcheck/00check.log’
for details.


Installation output

GRaNIE.Rcheck/00install.out

##############################################################################
##############################################################################
###
### Running command:
###
###   /Library/Frameworks/R.framework/Resources/bin/R CMD INSTALL GRaNIE
###
##############################################################################
##############################################################################


* installing to library ‘/Library/Frameworks/R.framework/Versions/4.5-x86_64/Resources/library’
* installing *source* package ‘GRaNIE’ ...
** this is package ‘GRaNIE’ version ‘1.11.0’
** using staged installation
** R
** byte-compile and prepare package for lazy loading
** help
*** installing help indices
*** copying figures
** building package indices
** installing vignettes
** testing if installed package can be loaded from temporary location
** testing if installed package can be loaded from final location
** testing if installed package keeps a record of temporary installation path
* DONE (GRaNIE)

Tests output


Example timings

GRaNIE.Rcheck/GRaNIE-Ex.timings

nameusersystemelapsed
AR_classification_wrapper000
addConnections_TF_peak 4.637 0.95012.902
addConnections_peak_gene2.5330.0763.103
addData0.0010.0000.000
addSNPData4.7360.3397.854
addTFBS000
add_TF_gene_correlation2.7150.0673.263
add_featureVariation000
build_eGRN_graph1.8840.0612.407
calculateCommunitiesEnrichment3.7630.1444.418
calculateCommunitiesStats1.9770.0652.528
calculateGeneralEnrichment3.1920.0713.771
calculateTFEnrichment2.3260.0542.834
changeOutputDirectory1.9690.0602.493
deleteIntermediateData1.9500.0562.477
filterConnectionsForPlotting2.0750.0732.606
filterData2.6040.0793.158
filterGRNAndConnectGenes2.1030.0612.645
generateStatsSummary8.5970.1709.261
getCounts2.0100.0762.577
getGRNConnections1.8110.0592.334
getGRNSummary3.5830.0864.080
getParameters1.7150.0462.312
getTopNodes1.9720.0572.472
initializeGRN0.0200.0030.023
loadExampleObject1.8960.0452.438
nGenes2.7860.0763.338
nPeaks1.8090.0522.327
nTFs1.8160.0632.349
overlapPeaksAndTFBS1.7520.0512.273
performAllNetworkAnalyses0.0010.0000.001
plotCommunitiesEnrichment3.4120.1344.018
plotCommunitiesStats3.1010.0643.689
plotCorrelations3.0380.0783.582
plotDiagnosticPlots_TFPeaks3.4100.1073.989
plotDiagnosticPlots_peakGene6.1090.1376.724
plotGeneralEnrichment2.0350.0482.558
plotGeneralGraphStats2.8120.0613.337
plotPCA_all3.7450.1344.352
plotTFEnrichment2.5930.0923.144
plot_stats_connectionSummary2.4220.0782.980
visualizeGRN3.9590.1084.534