Back to Multiple platform build/check report for BioC 3.21:   simplified   long
ABCDEF[G]HIJKLMNOPQRSTUVWXYZ

This page was generated on 2025-02-04 11:41 -0500 (Tue, 04 Feb 2025).

HostnameOSArch (*)R versionInstalled pkgs
nebbiolo1Linux (Ubuntu 24.04.1 LTS)x86_64R Under development (unstable) (2025-01-20 r87609) -- "Unsuffered Consequences" 4716
palomino7Windows Server 2022 Datacenterx64R Under development (unstable) (2025-01-21 r87610 ucrt) -- "Unsuffered Consequences" 4478
lconwaymacOS 12.7.1 Montereyx86_64R Under development (unstable) (2025-01-22 r87618) -- "Unsuffered Consequences" 4489
kjohnson3macOS 13.7.1 Venturaarm64R Under development (unstable) (2025-01-20 r87609) -- "Unsuffered Consequences" 4442
Click on any hostname to see more info about the system (e.g. compilers)      (*) as reported by 'uname -p', except on Windows and Mac OS X

Package 820/2295HostnameOS / ArchINSTALLBUILDCHECKBUILD BIN
GenomicDataCommons 1.31.0  (landing page)
Sean Davis
Snapshot Date: 2025-02-03 13:40 -0500 (Mon, 03 Feb 2025)
git_url: https://git.bioconductor.org/packages/GenomicDataCommons
git_branch: devel
git_last_commit: b90f2c6
git_last_commit_date: 2024-10-29 10:18:33 -0500 (Tue, 29 Oct 2024)
nebbiolo1Linux (Ubuntu 24.04.1 LTS) / x86_64  OK    OK    ERROR  
palomino7Windows Server 2022 Datacenter / x64  OK    OK    ERROR    OK  
lconwaymacOS 12.7.1 Monterey / x86_64  OK    OK    ERROR    OK  
kjohnson3macOS 13.7.1 Ventura / arm64  OK    OK    ERROR    OK  


CHECK results for GenomicDataCommons on palomino7

To the developers/maintainers of the GenomicDataCommons package:
- Allow up to 24 hours (and sometimes 48 hours) for your latest push to git@git.bioconductor.org:packages/GenomicDataCommons.git to reflect on this report. See Troubleshooting Build Report for more information.
- Use the following Renviron settings to reproduce errors and warnings.
- If 'R CMD check' started to fail recently on the Linux builder(s) over a missing dependency, add the missing dependency to 'Suggests:' in your DESCRIPTION file. See Renviron.bioc for more information.

raw results


Summary

Package: GenomicDataCommons
Version: 1.31.0
Command: E:\biocbuild\bbs-3.21-bioc\R\bin\R.exe CMD check --no-multiarch --install=check:GenomicDataCommons.install-out.txt --library=E:\biocbuild\bbs-3.21-bioc\R\library --no-vignettes --timings GenomicDataCommons_1.31.0.tar.gz
StartedAt: 2025-02-04 01:52:34 -0500 (Tue, 04 Feb 2025)
EndedAt: 2025-02-04 01:54:35 -0500 (Tue, 04 Feb 2025)
EllapsedTime: 120.9 seconds
RetCode: 1
Status:   ERROR  
CheckDir: GenomicDataCommons.Rcheck
Warnings: NA

Command output

##############################################################################
##############################################################################
###
### Running command:
###
###   E:\biocbuild\bbs-3.21-bioc\R\bin\R.exe CMD check --no-multiarch --install=check:GenomicDataCommons.install-out.txt --library=E:\biocbuild\bbs-3.21-bioc\R\library --no-vignettes --timings GenomicDataCommons_1.31.0.tar.gz
###
##############################################################################
##############################################################################


* using log directory 'E:/biocbuild/bbs-3.21-bioc/meat/GenomicDataCommons.Rcheck'
* using R Under development (unstable) (2025-01-21 r87610 ucrt)
* using platform: x86_64-w64-mingw32
* R was compiled by
    gcc.exe (GCC) 13.3.0
    GNU Fortran (GCC) 13.3.0
* running under: Windows Server 2022 x64 (build 20348)
* using session charset: UTF-8
* using option '--no-vignettes'
* checking for file 'GenomicDataCommons/DESCRIPTION' ... OK
* checking extension type ... Package
* this is package 'GenomicDataCommons' version '1.31.0'
* package encoding: UTF-8
* checking package namespace information ... OK
* checking package dependencies ... OK
* checking if this is a source package ... OK
* checking if there is a namespace ... OK
* checking for hidden files and directories ... OK
* checking for portable file names ... OK
* checking whether package 'GenomicDataCommons' can be installed ... OK
* checking installed package size ... OK
* checking package directory ... OK
* checking 'build' directory ... OK
* checking DESCRIPTION meta-information ... OK
* checking top-level files ... OK
* checking for left-over files ... OK
* checking index information ... OK
* checking package subdirectories ... OK
* checking code files for non-ASCII characters ... OK
* checking R files for syntax errors ... OK
* checking whether the package can be loaded ... OK
* checking whether the package can be loaded with stated dependencies ... OK
* checking whether the package can be unloaded cleanly ... OK
* checking whether the namespace can be loaded with stated dependencies ... OK
* checking whether the namespace can be unloaded cleanly ... OK
* checking dependencies in R code ... OK
* checking S3 generic/method consistency ... OK
* checking replacement functions ... OK
* checking foreign function calls ... OK
* checking R code for possible problems ... OK
* checking Rd files ... OK
* checking Rd metadata ... OK
* checking Rd cross-references ... OK
* checking for missing documentation entries ... OK
* checking for code/documentation mismatches ... OK
* checking Rd \usage sections ... OK
* checking Rd contents ... OK
* checking for unstated dependencies in examples ... OK
* checking R/sysdata.rda ... OK
* checking files in 'vignettes' ... OK
* checking examples ... OK
* checking for unstated dependencies in 'tests' ... OK
* checking tests ...
  Running 'testthat.R'
 ERROR
Running the tests in 'tests/testthat.R' failed.
Last 13 lines of output:
  > 
  > test_check("GenomicDataCommons")
  [ FAIL 1 | WARN 0 | SKIP 0 | PASS 45 ]
  
  ══ Failed tests ════════════════════════════════════════════════════════════════
  ── Failure ('test_clinical.R:17:5'): clinical data is structured properly ──────
  vapply(clinical_data, nrow, integer(1L)) not identical to c(...).
  3/5 mismatches (average diff: 3)
  [2] 3 - 2 == 1
  [3] 3 - 0 == 3
  [4] 5 - 0 == 5
  
  [ FAIL 1 | WARN 0 | SKIP 0 | PASS 45 ]
  Error: Test failures
  Execution halted
* checking for unstated dependencies in vignettes ... OK
* checking package vignettes ... OK
* checking running R code from vignettes ... SKIPPED
* checking re-building of vignette outputs ... SKIPPED
* checking PDF version of manual ... OK
* DONE

Status: 1 ERROR
See
  'E:/biocbuild/bbs-3.21-bioc/meat/GenomicDataCommons.Rcheck/00check.log'
for details.


Installation output

GenomicDataCommons.Rcheck/00install.out

##############################################################################
##############################################################################
###
### Running command:
###
###   E:\biocbuild\bbs-3.21-bioc\R\bin\R.exe CMD INSTALL GenomicDataCommons
###
##############################################################################
##############################################################################


* installing to library 'E:/biocbuild/bbs-3.21-bioc/R/library'
* installing *source* package 'GenomicDataCommons' ...
** this is package 'GenomicDataCommons' version '1.31.0'
** using staged installation
** R
** inst
** byte-compile and prepare package for lazy loading
** help
*** installing help indices
** building package indices
** installing vignettes
** testing if installed package can be loaded from temporary location
** testing if installed package can be loaded from final location
** testing if installed package keeps a record of temporary installation path
* DONE (GenomicDataCommons)

Tests output

GenomicDataCommons.Rcheck/tests/testthat.Rout.fail


R Under development (unstable) (2025-01-21 r87610 ucrt) -- "Unsuffered Consequences"
Copyright (C) 2025 The R Foundation for Statistical Computing
Platform: x86_64-w64-mingw32/x64

R is free software and comes with ABSOLUTELY NO WARRANTY.
You are welcome to redistribute it under certain conditions.
Type 'license()' or 'licence()' for distribution details.

R is a collaborative project with many contributors.
Type 'contributors()' for more information and
'citation()' on how to cite R or R packages in publications.

Type 'demo()' for some demos, 'help()' for on-line help, or
'help.start()' for an HTML browser interface to help.
Type 'q()' to quit R.

> library(testthat)
> library(GenomicDataCommons)

Attaching package: 'GenomicDataCommons'

The following object is masked from 'package:stats':

    filter

> 
> test_check("GenomicDataCommons")
[ FAIL 1 | WARN 0 | SKIP 0 | PASS 45 ]

══ Failed tests ════════════════════════════════════════════════════════════════
── Failure ('test_clinical.R:17:5'): clinical data is structured properly ──────
vapply(clinical_data, nrow, integer(1L)) not identical to c(...).
3/5 mismatches (average diff: 3)
[2] 3 - 2 == 1
[3] 3 - 0 == 3
[4] 5 - 0 == 5

[ FAIL 1 | WARN 0 | SKIP 0 | PASS 45 ]
Error: Test failures
Execution halted

Example timings

GenomicDataCommons.Rcheck/GenomicDataCommons-Ex.timings

nameusersystemelapsed
aggregations0.110.010.69
available_expand0.020.000.06
available_fields0.030.000.13
available_values0.060.001.84
constants000
count0.110.000.39
default_fields0.040.000.12
entity_name0.110.000.20
expand0.110.000.32
faceting0.060.000.21
field_description0.520.000.74
filtering0.890.041.97
gdc_cache000
gdc_client000
gdc_clinical0.860.022.83
gdc_token000
gdcdata0.290.030.77
grep_fields0.040.000.07
id_field0.090.000.15
ids0.480.001.15
manifest0.180.000.33
mapping0.030.000.06
query0.170.000.25
readDNAcopy0.300.091.49
readHTSeqFile0.070.030.23
response0.080.000.20
results0.100.000.22
results_all0.040.000.30
select0.110.000.35
slicing000
status0.000.000.05
transfer000
write_manifest0.120.001.22