Back to Multiple platform build/check report for BioC 3.21:   simplified   long
ABCDEFGHIJKLMN[O]PQRSTUVWXYZ

This page was generated on 2025-02-06 11:42 -0500 (Thu, 06 Feb 2025).

HostnameOSArch (*)R versionInstalled pkgs
nebbiolo1Linux (Ubuntu 24.04.1 LTS)x86_64R Under development (unstable) (2025-01-20 r87609) -- "Unsuffered Consequences" 4719
palomino7Windows Server 2022 Datacenterx64R Under development (unstable) (2025-01-21 r87610 ucrt) -- "Unsuffered Consequences" 4480
lconwaymacOS 12.7.1 Montereyx86_64R Under development (unstable) (2025-01-22 r87618) -- "Unsuffered Consequences" 4491
kjohnson3macOS 13.7.1 Venturaarm64R Under development (unstable) (2025-01-20 r87609) -- "Unsuffered Consequences" 4444
Click on any hostname to see more info about the system (e.g. compilers)      (*) as reported by 'uname -p', except on Windows and Mac OS X

Package 1486/2295HostnameOS / ArchINSTALLBUILDCHECKBUILD BIN
OUTRIDER 1.25.0  (landing page)
Christian Mertes
Snapshot Date: 2025-02-05 13:48 -0500 (Wed, 05 Feb 2025)
git_url: https://git.bioconductor.org/packages/OUTRIDER
git_branch: devel
git_last_commit: e21b7d6
git_last_commit_date: 2024-10-29 10:29:54 -0500 (Tue, 29 Oct 2024)
nebbiolo1Linux (Ubuntu 24.04.1 LTS) / x86_64  OK    OK    OK  UNNEEDED, same version is already published
palomino7Windows Server 2022 Datacenter / x64  OK    OK    OK    OK  NO, package depends on 'DESeq2' which is only available as a source package that needs compilation
lconwaymacOS 12.7.1 Monterey / x86_64  OK    OK    OK    OK  NO, package depends on 'DESeq2' which is only available as a source package that needs compilation
kjohnson3macOS 13.7.1 Ventura / arm64  OK    OK    OK    OK  NO, package depends on 'DESeq2' which is only available as a source package that needs compilation


CHECK results for OUTRIDER on lconway

To the developers/maintainers of the OUTRIDER package:
- Allow up to 24 hours (and sometimes 48 hours) for your latest push to git@git.bioconductor.org:packages/OUTRIDER.git to reflect on this report. See Troubleshooting Build Report for more information.
- Use the following Renviron settings to reproduce errors and warnings.
- If 'R CMD check' started to fail recently on the Linux builder(s) over a missing dependency, add the missing dependency to 'Suggests:' in your DESCRIPTION file. See Renviron.bioc for more information.

raw results


Summary

Package: OUTRIDER
Version: 1.25.0
Command: /Library/Frameworks/R.framework/Resources/bin/R CMD check --install=check:OUTRIDER.install-out.txt --library=/Library/Frameworks/R.framework/Resources/library --no-vignettes --timings OUTRIDER_1.25.0.tar.gz
StartedAt: 2025-02-05 22:12:07 -0500 (Wed, 05 Feb 2025)
EndedAt: 2025-02-05 22:21:55 -0500 (Wed, 05 Feb 2025)
EllapsedTime: 587.1 seconds
RetCode: 0
Status:   OK  
CheckDir: OUTRIDER.Rcheck
Warnings: 0

Command output

##############################################################################
##############################################################################
###
### Running command:
###
###   /Library/Frameworks/R.framework/Resources/bin/R CMD check --install=check:OUTRIDER.install-out.txt --library=/Library/Frameworks/R.framework/Resources/library --no-vignettes --timings OUTRIDER_1.25.0.tar.gz
###
##############################################################################
##############################################################################


* using log directory ‘/Users/biocbuild/bbs-3.21-bioc/meat/OUTRIDER.Rcheck’
* using R Under development (unstable) (2025-01-22 r87618)
* using platform: x86_64-apple-darwin20
* R was compiled by
    Apple clang version 14.0.0 (clang-1400.0.29.202)
    GNU Fortran (GCC) 14.2.0
* running under: macOS Monterey 12.7.6
* using session charset: UTF-8
* using option ‘--no-vignettes’
* checking for file ‘OUTRIDER/DESCRIPTION’ ... OK
* checking extension type ... Package
* this is package ‘OUTRIDER’ version ‘1.25.0’
* package encoding: UTF-8
* checking package namespace information ... OK
* checking package dependencies ... OK
* checking if this is a source package ... OK
* checking if there is a namespace ... OK
* checking for hidden files and directories ... OK
* checking for portable file names ... OK
* checking for sufficient/correct file permissions ... OK
* checking whether package ‘OUTRIDER’ can be installed ... OK
* used C++ compiler: ‘Apple clang version 14.0.0 (clang-1400.0.29.202)’
* used SDK: ‘MacOSX11.3.sdk’
* checking C++ specification ... NOTE
  Specified C++11: please drop specification unless essential
* checking installed package size ... OK
* checking package directory ... OK
* checking ‘build’ directory ... OK
* checking DESCRIPTION meta-information ... NOTE
License stub is invalid DCF.
* checking top-level files ... OK
* checking for left-over files ... OK
* checking index information ... OK
* checking package subdirectories ... OK
* checking code files for non-ASCII characters ... OK
* checking R files for syntax errors ... OK
* checking whether the package can be loaded ... OK
* checking whether the package can be loaded with stated dependencies ... OK
* checking whether the package can be unloaded cleanly ... OK
* checking whether the namespace can be loaded with stated dependencies ... OK
* checking whether the namespace can be unloaded cleanly ... OK
* checking dependencies in R code ... NOTE
Unexported object imported by a ':::' call: 'ggbio:::.buildFacetsFromArgs'
  See the note in ?`:::` about the use of this operator.
* checking S3 generic/method consistency ... OK
* checking replacement functions ... OK
* checking foreign function calls ... OK
* checking R code for possible problems ... OK
* checking Rd files ... NOTE
checkRd: (-1) results.Rd:48-50: Lost braces in \itemize; \value handles \item{}{} directly
checkRd: (-1) results.Rd:51-52: Lost braces in \itemize; \value handles \item{}{} directly
checkRd: (-1) results.Rd:53-54: Lost braces in \itemize; \value handles \item{}{} directly
checkRd: (-1) results.Rd:55: Lost braces in \itemize; \value handles \item{}{} directly
checkRd: (-1) results.Rd:56-57: Lost braces in \itemize; \value handles \item{}{} directly
checkRd: (-1) results.Rd:58-60: Lost braces in \itemize; \value handles \item{}{} directly
checkRd: (-1) results.Rd:61-62: Lost braces in \itemize; \value handles \item{}{} directly
checkRd: (-1) results.Rd:63-64: Lost braces in \itemize; \value handles \item{}{} directly
checkRd: (-1) results.Rd:65-66: Lost braces in \itemize; \value handles \item{}{} directly
checkRd: (-1) results.Rd:67: Lost braces in \itemize; \value handles \item{}{} directly
checkRd: (-1) results.Rd:68-71: Lost braces in \itemize; \value handles \item{}{} directly
* checking Rd metadata ... OK
* checking Rd cross-references ... OK
* checking for missing documentation entries ... OK
* checking for code/documentation mismatches ... OK
* checking Rd \usage sections ... OK
* checking Rd contents ... OK
* checking for unstated dependencies in examples ... OK
* checking line endings in C/C++/Fortran sources/headers ... OK
* checking line endings in Makefiles ... OK
* checking compilation flags in Makevars ... OK
* checking for GNU extensions in Makefiles ... OK
* checking for portable use of $(BLAS_LIBS) and $(LAPACK_LIBS) ... OK
* checking use of PKG_*FLAGS in Makefiles ... OK
* checking compiled code ... NOTE
Note: information on .o files is not available
* checking sizes of PDF files under ‘inst/doc’ ... OK
* checking files in ‘vignettes’ ... OK
* checking examples ... OK
Examples with CPU (user + system) or elapsed time > 5s
                  user system elapsed
plotFunctions   16.197  1.002  17.516
OUTRIDER        12.476  2.580  13.963
findEncodingDim 13.588  0.251  13.916
* checking for unstated dependencies in ‘tests’ ... OK
* checking tests ...
  Running ‘testthat.R’
 OK
* checking for unstated dependencies in vignettes ... OK
* checking package vignettes ... OK
* checking running R code from vignettes ... SKIPPED
* checking re-building of vignette outputs ... SKIPPED
* checking PDF version of manual ... OK
* DONE

Status: 5 NOTEs
See
  ‘/Users/biocbuild/bbs-3.21-bioc/meat/OUTRIDER.Rcheck/00check.log’
for details.


Installation output

OUTRIDER.Rcheck/00install.out

##############################################################################
##############################################################################
###
### Running command:
###
###   /Library/Frameworks/R.framework/Resources/bin/R CMD INSTALL OUTRIDER
###
##############################################################################
##############################################################################


* installing to library ‘/Library/Frameworks/R.framework/Versions/4.5-x86_64/Resources/library’
* installing *source* package ‘OUTRIDER’ ...
** this is package ‘OUTRIDER’ version ‘1.25.0’
** using staged installation
** libs
using C++ compiler: ‘Apple clang version 14.0.0 (clang-1400.0.29.202)’
using C++11
using SDK: ‘MacOSX11.3.sdk’
clang++ -arch x86_64 -std=gnu++11 -I"/Library/Frameworks/R.framework/Resources/include" -DNDEBUG  -I'/Library/Frameworks/R.framework/Versions/4.5-x86_64/Resources/library/Rcpp/include' -I'/Library/Frameworks/R.framework/Versions/4.5-x86_64/Resources/library/RcppArmadillo/include' -I/opt/R/x86_64/include    -DARMA_DONT_USE_OPENMP -fPIC  -falign-functions=64 -Wall -g -O2  -DR_NO_REMAP -c RcppExports.cpp -o RcppExports.o
clang++ -arch x86_64 -std=gnu++11 -I"/Library/Frameworks/R.framework/Resources/include" -DNDEBUG  -I'/Library/Frameworks/R.framework/Versions/4.5-x86_64/Resources/library/Rcpp/include' -I'/Library/Frameworks/R.framework/Versions/4.5-x86_64/Resources/library/RcppArmadillo/include' -I/opt/R/x86_64/include    -DARMA_DONT_USE_OPENMP -fPIC  -falign-functions=64 -Wall -g -O2  -DR_NO_REMAP -c loss_n_gradient_functions.cpp -o loss_n_gradient_functions.o
clang++ -arch x86_64 -std=gnu++11 -dynamiclib -Wl,-headerpad_max_install_names -undefined dynamic_lookup -L/Library/Frameworks/R.framework/Resources/lib -L/opt/R/x86_64/lib -o OUTRIDER.so RcppExports.o loss_n_gradient_functions.o -L/Library/Frameworks/R.framework/Resources/lib -lRlapack -L/Library/Frameworks/R.framework/Resources/lib -lRblas -L/opt/gfortran/lib/gcc/x86_64-apple-darwin20.0/14.2.0 -L/opt/gfortran/lib -lemutls_w -lheapt_w -lgfortran -lquadmath -F/Library/Frameworks/R.framework/.. -framework R -Wl,-framework -Wl,CoreFoundation
installing to /Library/Frameworks/R.framework/Versions/4.5-x86_64/Resources/library/00LOCK-OUTRIDER/00new/OUTRIDER/libs
** R
** inst
** byte-compile and prepare package for lazy loading
** help
*** installing help indices
** building package indices
** installing vignettes
** testing if installed package can be loaded from temporary location
** checking absolute paths in shared objects and dynamic libraries
** testing if installed package can be loaded from final location
** testing if installed package keeps a record of temporary installation path
* DONE (OUTRIDER)

Tests output

OUTRIDER.Rcheck/tests/testthat.Rout


R Under development (unstable) (2025-01-22 r87618) -- "Unsuffered Consequences"
Copyright (C) 2025 The R Foundation for Statistical Computing
Platform: x86_64-apple-darwin20

R is free software and comes with ABSOLUTELY NO WARRANTY.
You are welcome to redistribute it under certain conditions.
Type 'license()' or 'licence()' for distribution details.

R is a collaborative project with many contributors.
Type 'contributors()' for more information and
'citation()' on how to cite R or R packages in publications.

Type 'demo()' for some demos, 'help()' for on-line help, or
'help.start()' for an HTML browser interface to help.
Type 'q()' to quit R.

> library(testthat)
> library(OUTRIDER)
Loading required package: BiocParallel
Loading required package: GenomicFeatures
Loading required package: BiocGenerics
Loading required package: generics

Attaching package: 'generics'

The following objects are masked from 'package:base':

    as.difftime, as.factor, as.ordered, intersect, is.element, setdiff,
    setequal, union


Attaching package: 'BiocGenerics'

The following objects are masked from 'package:stats':

    IQR, mad, sd, var, xtabs

The following objects are masked from 'package:base':

    Filter, Find, Map, Position, Reduce, anyDuplicated, aperm, append,
    as.data.frame, basename, cbind, colnames, dirname, do.call,
    duplicated, eval, evalq, get, grep, grepl, is.unsorted, lapply,
    mapply, match, mget, order, paste, pmax, pmax.int, pmin, pmin.int,
    rank, rbind, rownames, sapply, saveRDS, table, tapply, unique,
    unsplit, which.max, which.min

Loading required package: S4Vectors
Loading required package: stats4

Attaching package: 'S4Vectors'

The following object is masked from 'package:utils':

    findMatches

The following objects are masked from 'package:base':

    I, expand.grid, unname

Loading required package: IRanges
Loading required package: GenomeInfoDb
Loading required package: GenomicRanges
Loading required package: AnnotationDbi
Loading required package: Biobase
Welcome to Bioconductor

    Vignettes contain introductory material; view with
    'browseVignettes()'. To cite Bioconductor, see
    'citation("Biobase")', and for packages 'citation("pkgname")'.

Loading required package: SummarizedExperiment
Loading required package: MatrixGenerics
Loading required package: matrixStats

Attaching package: 'matrixStats'

The following objects are masked from 'package:Biobase':

    anyMissing, rowMedians


Attaching package: 'MatrixGenerics'

The following objects are masked from 'package:matrixStats':

    colAlls, colAnyNAs, colAnys, colAvgsPerRowSet, colCollapse,
    colCounts, colCummaxs, colCummins, colCumprods, colCumsums,
    colDiffs, colIQRDiffs, colIQRs, colLogSumExps, colMadDiffs,
    colMads, colMaxs, colMeans2, colMedians, colMins, colOrderStats,
    colProds, colQuantiles, colRanges, colRanks, colSdDiffs, colSds,
    colSums2, colTabulates, colVarDiffs, colVars, colWeightedMads,
    colWeightedMeans, colWeightedMedians, colWeightedSds,
    colWeightedVars, rowAlls, rowAnyNAs, rowAnys, rowAvgsPerColSet,
    rowCollapse, rowCounts, rowCummaxs, rowCummins, rowCumprods,
    rowCumsums, rowDiffs, rowIQRDiffs, rowIQRs, rowLogSumExps,
    rowMadDiffs, rowMads, rowMaxs, rowMeans2, rowMedians, rowMins,
    rowOrderStats, rowProds, rowQuantiles, rowRanges, rowRanks,
    rowSdDiffs, rowSds, rowSums2, rowTabulates, rowVarDiffs, rowVars,
    rowWeightedMads, rowWeightedMeans, rowWeightedMedians,
    rowWeightedSds, rowWeightedVars

The following object is masked from 'package:Biobase':

    rowMedians

Loading required package: data.table

Attaching package: 'data.table'

The following object is masked from 'package:SummarizedExperiment':

    shift

The following object is masked from 'package:GenomicRanges':

    shift

The following object is masked from 'package:IRanges':

    shift

The following objects are masked from 'package:S4Vectors':

    first, second

> 
> register(SerialParam())
> 
> test_check("OUTRIDER")
[1] "Wed Feb  5 22:20:35 2025: Initial PCA loss: 6.26541498339999"
[1] "Wed Feb  5 22:20:37 2025: Iteration: 1 loss: 4.43853132096592"
[1] "Wed Feb  5 22:20:38 2025: Iteration: 2 loss: 4.36250156770478"
[1] "Wed Feb  5 22:20:38 2025: Iteration: 3 loss: 4.31089470433868"
[1] "Wed Feb  5 22:20:39 2025: Iteration: 4 loss: 4.27690128211801"
[1] "Wed Feb  5 22:20:40 2025: Iteration: 5 loss: 4.26004246197819"
[1] "Wed Feb  5 22:20:40 2025: Iteration: 6 loss: 4.25516682730756"
Time difference of 4.358948 secs
[1] "Wed Feb  5 22:20:40 2025: 6 Final nb-AE loss: 4.25516682730756"
[1] "Wed Feb  5 22:20:42 2025: Initial PCA loss: 6.26541498339999"
[1] "Wed Feb  5 22:20:43 2025: Iteration: 1 loss: 4.43853132096592"
[1] "Wed Feb  5 22:20:44 2025: Iteration: 2 loss: 4.36250156770478"
[1] "Wed Feb  5 22:20:45 2025: Iteration: 3 loss: 4.31089470433868"
[1] "Wed Feb  5 22:20:45 2025: Iteration: 4 loss: 4.27690128211801"
[1] "Wed Feb  5 22:20:46 2025: Iteration: 5 loss: 4.26004246197819"
[1] "Wed Feb  5 22:20:47 2025: Iteration: 6 loss: 4.25516682730756"
Time difference of 4.543055 secs
[1] "Wed Feb  5 22:20:47 2025: 6 Final nb-AE loss: 4.25516682730756"
class: OutriderDataSet
class: RangedSummarizedExperiment 
dim: 100 50 
metadata(1): version
assays(1): counts
rownames(100): ENSG00000223972.4 ENSG00000227232.4 ...
  ENSG00000107404.13 ENSG00000162576.12
rowData names(0):
colnames(50): GTEX.UPK5.0426.SM.3GAEK GTEX.WFG7.2026.SM.3GIL7 ...
  GTEX.11UD2.2526.SM.5CVNU GTEX.13O61.1426.SM.5KM3D
colData names(1): sampleID
[1] "Wed Feb  5 22:21:02 2025: Initial PCA loss: 4.52113982124937"
[1] "Wed Feb  5 22:21:04 2025: Iteration: 1 loss: 4.12879564547847"
[1] "Wed Feb  5 22:21:04 2025: Iteration: 2 loss: 4.12119082016093"
Time difference of 1.372119 secs
[1] "Wed Feb  5 22:21:04 2025: 2 Final nb-AE loss: 4.12119082016093"
[1] "Evaluation loss: 0.596303972358349 for q=3"
[1] "Wed Feb  5 22:21:05 2025: Initial PCA loss: 4.46352693463732"
[1] "Wed Feb  5 22:21:07 2025: Iteration: 1 loss: 4.05362247160691"
[1] "Wed Feb  5 22:21:07 2025: Iteration: 2 loss: 4.0421898930436"
Time difference of 1.510702 secs
[1] "Wed Feb  5 22:21:07 2025: 2 Final nb-AE loss: 4.0421898930436"
[1] "Evaluation loss: 0.337804305281762 for q=4"
[1] "Wed Feb  5 22:21:08 2025: Initial PCA loss: 4.43944297070678"
[1] "Wed Feb  5 22:21:10 2025: Iteration: 1 loss: 3.9748030093007"
[1] "Wed Feb  5 22:21:10 2025: Iteration: 2 loss: 3.9464099211076"
Time difference of 1.531023 secs
[1] "Wed Feb  5 22:21:10 2025: 2 Final nb-AE loss: 3.9464099211076"
[1] "Evaluation loss: 0.247575090469604 for q=5"
[1] "Wed Feb  5 22:21:20 2025: Initial PCA loss: 7.16457134714849"
[1] "Wed Feb  5 22:21:22 2025: Iteration: 1 loss: 6.82914691619536"
[1] "Wed Feb  5 22:21:23 2025: Iteration: 2 loss: 6.82749571057606"
Time difference of 1.902507 secs
[1] "Wed Feb  5 22:21:23 2025: 2 Final nb-AE loss: 6.82749571057606"
[ FAIL 0 | WARN 11 | SKIP 0 | PASS 115 ]

[ FAIL 0 | WARN 11 | SKIP 0 | PASS 115 ]
> 
> proc.time()
   user  system elapsed 
 86.954   2.466  90.240 

Example timings

OUTRIDER.Rcheck/OUTRIDER-Ex.timings

nameusersystemelapsed
OUTRIDER12.476 2.58013.963
OutriderDataSet-class0.9950.0771.084
aberrant2.0530.6652.037
computeGeneLength1.8960.4392.311
computeLatentSpace0.8890.0150.918
computePvalues2.7811.7723.093
computeZscores1.1820.1361.337
controlForConfounders1.4620.0751.552
counts0.7360.0090.750
estimateBestQ0.5000.0070.510
filterExpression1.7610.0311.801
findEncodingDim13.588 0.25113.916
fit0.9710.0120.986
fpkm0.8290.0090.843
getter_setter_functions3.2800.0243.318
makeExampleOutriderDataSet1.1980.0091.212
normalizationFactors0.8930.0090.909
plotFunctions16.197 1.00217.516
results4.2080.0424.269
sampleExclusionMask0.4910.0040.497
sizeFactors0.7350.0070.744