Back to Multiple platform build/check report for BioC 3.21: simplified long |
|
This page was generated on 2025-02-01 11:43 -0500 (Sat, 01 Feb 2025).
Hostname | OS | Arch (*) | R version | Installed pkgs |
---|---|---|---|---|
nebbiolo1 | Linux (Ubuntu 24.04.1 LTS) | x86_64 | R Under development (unstable) (2025-01-20 r87609) -- "Unsuffered Consequences" | 4704 |
palomino7 | Windows Server 2022 Datacenter | x64 | R Under development (unstable) (2025-01-21 r87610 ucrt) -- "Unsuffered Consequences" | 4467 |
lconway | macOS 12.7.1 Monterey | x86_64 | R Under development (unstable) (2025-01-22 r87618) -- "Unsuffered Consequences" | 4478 |
kjohnson3 | macOS 13.7.1 Ventura | arm64 | R Under development (unstable) (2025-01-20 r87609) -- "Unsuffered Consequences" | 4431 |
Click on any hostname to see more info about the system (e.g. compilers) (*) as reported by 'uname -p', except on Windows and Mac OS X |
Package 1454/2289 | Hostname | OS / Arch | INSTALL | BUILD | CHECK | BUILD BIN | ||||||||
OmnipathR 3.15.0 (landing page) Denes Turei
| nebbiolo1 | Linux (Ubuntu 24.04.1 LTS) / x86_64 | OK | OK | OK | |||||||||
palomino7 | Windows Server 2022 Datacenter / x64 | OK | OK | OK | OK | |||||||||
lconway | macOS 12.7.1 Monterey / x86_64 | OK | OK | OK | OK | |||||||||
kjohnson3 | macOS 13.7.1 Ventura / arm64 | OK | OK | OK | OK | |||||||||
To the developers/maintainers of the OmnipathR package: - Allow up to 24 hours (and sometimes 48 hours) for your latest push to git@git.bioconductor.org:packages/OmnipathR.git to reflect on this report. See Troubleshooting Build Report for more information. - Use the following Renviron settings to reproduce errors and warnings. - If 'R CMD check' started to fail recently on the Linux builder(s) over a missing dependency, add the missing dependency to 'Suggests:' in your DESCRIPTION file. See Renviron.bioc for more information. |
Package: OmnipathR |
Version: 3.15.0 |
Command: /Library/Frameworks/R.framework/Resources/bin/R CMD check --install=check:OmnipathR.install-out.txt --library=/Library/Frameworks/R.framework/Resources/library --no-vignettes --timings OmnipathR_3.15.0.tar.gz |
StartedAt: 2025-01-31 21:59:23 -0500 (Fri, 31 Jan 2025) |
EndedAt: 2025-01-31 22:13:16 -0500 (Fri, 31 Jan 2025) |
EllapsedTime: 832.7 seconds |
RetCode: 0 |
Status: OK |
CheckDir: OmnipathR.Rcheck |
Warnings: 0 |
############################################################################## ############################################################################## ### ### Running command: ### ### /Library/Frameworks/R.framework/Resources/bin/R CMD check --install=check:OmnipathR.install-out.txt --library=/Library/Frameworks/R.framework/Resources/library --no-vignettes --timings OmnipathR_3.15.0.tar.gz ### ############################################################################## ############################################################################## * using log directory ‘/Users/biocbuild/bbs-3.21-bioc/meat/OmnipathR.Rcheck’ * using R Under development (unstable) (2025-01-22 r87618) * using platform: x86_64-apple-darwin20 * R was compiled by Apple clang version 14.0.0 (clang-1400.0.29.202) GNU Fortran (GCC) 14.2.0 * running under: macOS Monterey 12.7.6 * using session charset: UTF-8 * using option ‘--no-vignettes’ * checking for file ‘OmnipathR/DESCRIPTION’ ... OK * checking extension type ... Package * this is package ‘OmnipathR’ version ‘3.15.0’ * package encoding: UTF-8 * checking package namespace information ... OK * checking package dependencies ... INFO Imports includes 33 non-default packages. Importing from so many packages makes the package vulnerable to any of them becoming unavailable. Move as many as possible to Suggests and use conditionally. * checking if this is a source package ... OK * checking if there is a namespace ... OK * checking for hidden files and directories ... OK * checking for portable file names ... OK * checking for sufficient/correct file permissions ... OK * checking whether package ‘OmnipathR’ can be installed ... OK * checking installed package size ... OK * checking package directory ... OK * checking DESCRIPTION meta-information ... OK * checking top-level files ... OK * checking for left-over files ... OK * checking index information ... OK * checking package subdirectories ... OK * checking code files for non-ASCII characters ... OK * checking R files for syntax errors ... OK * checking whether the package can be loaded ... OK * checking whether the package can be loaded with stated dependencies ... OK * checking whether the package can be unloaded cleanly ... OK * checking whether the namespace can be loaded with stated dependencies ... OK * checking whether the namespace can be unloaded cleanly ... OK * checking whether startup messages can be suppressed ... NOTE [2025-01-31 21:59:52] [TRACE] [OmnipathR] Reading JSON from `/Users/biocbuild/Library/Caches/OmnipathR/cache.json` (encoding: UTF-8). [2025-01-31 21:59:52] [TRACE] [OmnipathR] JSON validation successful: TRUE [2025-01-31 21:59:52] [INFO] [OmnipathR] Initialized cache: `/Users/biocbuild/Library/Caches/OmnipathR`. [2025-01-31 21:59:52] [TRACE] [OmnipathR] Running on a build server, wiping cache. [2025-01-31 21:59:52] [TRACE] [OmnipathR] Cache is at `/Users/biocbuild/Library/Caches/OmnipathR`. [2025-01-31 21:59:52] [TRACE] [OmnipathR] Contains 1 files. [2025-01-31 21:59:52] [TRACE] [OmnipathR] Cache is locked: FALSE. [2025-01-31 21:59:52] [TRACE] [OmnipathR] Reading JSON from `/Users/biocbuild/Library/Caches/OmnipathR/cache.json` (encoding: UTF-8). [2025-01-31 21:59:52] [TRACE] [OmnipathR] JSON validation successful: TRUE [2025-01-31 21:59:52] [SUCCESS] [OmnipathR] Removing all cache contents from `/Users/biocbuild/Library/Caches/OmnipathR`. [2025-01-31 21:59:52] [TRACE] [OmnipathR] Pandoc version: `2.7.3`. [2025-01-31 21:59:52] [TRACE] [OmnipathR] Reading JSON from `/Library/Frameworks/R.framework/Versions/4.5-x86_64/Resources/library/OmnipathR/db/db_def.json` (encoding: UTF-8). [2025-01-31 21:59:52] [TRACE] [OmnipathR] JSON validation successful: TRUE [2025-01-31 21:59:52] [TRACE] [OmnipathR] Reading JSON from `/Library/Frameworks/R.framework/Versions/4.5-x86_64/Resources/library/OmnipathR/internal/magic_bytes.json` (encoding: UTF-8). [2025-01-31 21:59:52] [TRACE] [OmnipathR] JSON validation successful: TRUE [2025-01-31 21:59:52] [TRACE] [OmnipathR] Reading JSON from `/Library/Frameworks/R.framework/Versions/4.5-x86_64/Resources/library/OmnipathR/internal/urls.json` (encoding: UTF-8). [2025-01-31 21:59:52] [TRACE] [OmnipathR] JSON validation successful: TRUE [2025-01-31 21:59:52] [TRACE] [OmnipathR] Reading JSON from `/Library/Frameworks/R.framework/Versions/4.5-x86_64/Resources/library/OmnipathR/internal/id_types.json` (encoding: UTF-8). [2025-01-31 21:59:52] [TRACE] [OmnipathR] JSON validation successful: TRUE [2025-01-31 21:59:52] [TRACE] [OmnipathR] Cache locked: FALSE It looks like this package (or a package it requires) has a startup message which cannot be suppressed: see ?packageStartupMessage. * checking dependencies in R code ... OK * checking S3 generic/method consistency ... OK * checking replacement functions ... OK * checking foreign function calls ... OK * checking R code for possible problems ... NOTE [2025-01-31 22:00:09] [TRACE] [OmnipathR] Reading JSON from `/Users/biocbuild/Library/Caches/OmnipathR/cache.json` (encoding: UTF-8). [2025-01-31 22:00:09] [TRACE] [OmnipathR] JSON validation successful: TRUE [2025-01-31 22:00:09] [INFO] [OmnipathR] Initialized cache: `/Users/biocbuild/Library/Caches/OmnipathR`. [2025-01-31 22:00:09] [TRACE] [OmnipathR] Running on a build server, wiping cache. [2025-01-31 22:00:09] [TRACE] [OmnipathR] Cache is at `/Users/biocbuild/Library/Caches/OmnipathR`. [2025-01-31 22:00:09] [TRACE] [OmnipathR] Contains 1 files. [2025-01-31 22:00:09] [TRACE] [OmnipathR] Cache is locked: FALSE. [2025-01-31 22:00:09] [TRACE] [OmnipathR] Reading JSON from `/Users/biocbuild/Library/Caches/OmnipathR/cache.json` (encoding: UTF-8). [2025-01-31 22:00:09] [TRACE] [OmnipathR] JSON validation successful: TRUE [2025-01-31 22:00:09] [SUCCESS] [OmnipathR] Removing all cache contents from `/Users/biocbuild/Library/Caches/OmnipathR`. [2025-01-31 22:00:09] [TRACE] [OmnipathR] Pandoc version: `2.7.3`. [2025-01-31 22:00:09] [TRACE] [OmnipathR] Reading JSON from `/Library/Frameworks/R.framework/Versions/4.5-x86_64/Resources/library/OmnipathR/db/db_def.json` (encoding: UTF-8). [2025-01-31 22:00:09] [TRACE] [OmnipathR] JSON validation successful: TRUE [2025-01-31 22:00:09] [TRACE] [OmnipathR] Reading JSON from `/Library/Frameworks/R.framework/Versions/4.5-x86_64/Resources/library/OmnipathR/internal/magic_bytes.json` (encoding: UTF-8). [2025-01-31 22:00:09] [TRACE] [OmnipathR] JSON validation successful: TRUE [2025-01-31 22:00:09] [TRACE] [OmnipathR] Reading JSON from `/Library/Frameworks/R.framework/Versions/4.5-x86_64/Resources/library/OmnipathR/internal/urls.json` (encoding: UTF-8). [2025-01-31 22:00:09] [TRACE] [OmnipathR] JSON validation successful: TRUE [2025-01-31 22:00:09] [TRACE] [OmnipathR] Reading JSON from `/Library/Frameworks/R.framework/Versions/4.5-x86_64/Resources/library/OmnipathR/internal/id_types.json` (encoding: UTF-8). [2025-01-31 22:00:09] [TRACE] [OmnipathR] JSON validation successful: TRUE [2025-01-31 22:00:09] [TRACE] [OmnipathR] Cache locked: FALSE * checking Rd files ... OK * checking Rd metadata ... OK * checking Rd cross-references ... OK * checking for missing documentation entries ... OK * checking for code/documentation mismatches ... OK * checking Rd \usage sections ... OK * checking Rd contents ... OK * checking for unstated dependencies in examples ... OK * checking R/sysdata.rda ... OK * checking files in ‘vignettes’ ... OK * checking examples ... OK Examples with CPU (user + system) or elapsed time > 5s user system elapsed annotation_categories 60.154 0.159 61.803 curated_ligrec_stats 29.231 6.179 112.718 omnipath-interactions 26.711 1.257 58.799 filter_extra_attrs 17.369 0.094 18.059 nichenet_gr_network_omnipath 15.616 0.795 22.629 go_annot_download 12.540 1.017 24.211 nichenet_signaling_network_omnipath 12.471 0.568 19.398 extra_attrs_to_cols 11.975 0.233 12.291 with_extra_attrs 10.842 0.318 13.938 giant_component 10.580 0.553 17.362 pivot_annotations 10.126 0.903 19.864 extra_attr_values 10.256 0.218 13.150 omnipath_for_cosmos 7.618 0.362 23.294 filter_intercell 7.010 0.596 16.707 filter_by_resource 7.371 0.222 9.877 static_table 6.384 0.527 7.482 translate_ids_multi 5.891 0.217 23.290 extra_attrs 5.959 0.030 6.000 find_all_paths 5.518 0.249 10.094 print_interactions 5.479 0.225 9.648 has_extra_attrs 5.298 0.136 7.309 signed_ptms 4.791 0.035 5.430 curated_ligand_receptor_interactions 4.490 0.267 13.900 print_path_vs 2.146 0.143 5.054 database_summary 1.375 0.361 5.459 ensembl_id_mapping_table 1.242 0.479 14.639 uniprot_full_id_mapping_table 1.085 0.130 22.099 translate_ids 1.087 0.077 18.473 all_uniprots 0.812 0.092 22.464 * checking for unstated dependencies in ‘tests’ ... OK * checking tests ... Running ‘testthat.R’ OK * checking for unstated dependencies in vignettes ... OK * checking package vignettes ... OK * checking running R code from vignettes ... SKIPPED * checking re-building of vignette outputs ... SKIPPED * checking PDF version of manual ... OK * DONE Status: 2 NOTEs See ‘/Users/biocbuild/bbs-3.21-bioc/meat/OmnipathR.Rcheck/00check.log’ for details.
OmnipathR.Rcheck/00install.out
############################################################################## ############################################################################## ### ### Running command: ### ### /Library/Frameworks/R.framework/Resources/bin/R CMD INSTALL OmnipathR ### ############################################################################## ############################################################################## * installing to library ‘/Library/Frameworks/R.framework/Versions/4.5-x86_64/Resources/library’ * installing *source* package ‘OmnipathR’ ... ** this is package ‘OmnipathR’ version ‘3.15.0’ ** using staged installation ** R ** inst ** byte-compile and prepare package for lazy loading ** help *** installing help indices *** copying figures ** building package indices ** installing vignettes ** testing if installed package can be loaded from temporary location [2025-01-31 15:26:18] [TRACE] [OmnipathR] Reading JSON from `/Users/biocbuild/Library/Caches/OmnipathR/cache.json` (encoding: UTF-8). [2025-01-31 15:26:18] [TRACE] [OmnipathR] JSON validation successful: TRUE [2025-01-31 15:26:18] [INFO] [OmnipathR] Initialized cache: `/Users/biocbuild/Library/Caches/OmnipathR`. [2025-01-31 15:26:18] [TRACE] [OmnipathR] Running on a build server, wiping cache. [2025-01-31 15:26:18] [TRACE] [OmnipathR] Cache is at `/Users/biocbuild/Library/Caches/OmnipathR`. [2025-01-31 15:26:18] [TRACE] [OmnipathR] Contains 1 files. [2025-01-31 15:26:18] [TRACE] [OmnipathR] Cache is locked: FALSE. [2025-01-31 15:26:18] [TRACE] [OmnipathR] Reading JSON from `/Users/biocbuild/Library/Caches/OmnipathR/cache.json` (encoding: UTF-8). [2025-01-31 15:26:18] [TRACE] [OmnipathR] JSON validation successful: TRUE [2025-01-31 15:26:18] [SUCCESS] [OmnipathR] Removing all cache contents from `/Users/biocbuild/Library/Caches/OmnipathR`. [2025-01-31 15:26:19] [TRACE] [OmnipathR] Pandoc version: `2.7.3`. [2025-01-31 15:26:19] [TRACE] [OmnipathR] Reading JSON from `/Library/Frameworks/R.framework/Versions/4.5-x86_64/Resources/library/00LOCK-OmnipathR/00new/OmnipathR/db/db_def.json` (encoding: UTF-8). [2025-01-31 15:26:19] [TRACE] [OmnipathR] JSON validation successful: TRUE [2025-01-31 15:26:19] [TRACE] [OmnipathR] Reading JSON from `/Library/Frameworks/R.framework/Versions/4.5-x86_64/Resources/library/00LOCK-OmnipathR/00new/OmnipathR/internal/magic_bytes.json` (encoding: UTF-8). [2025-01-31 15:26:19] [TRACE] [OmnipathR] JSON validation successful: TRUE [2025-01-31 15:26:19] [TRACE] [OmnipathR] Reading JSON from `/Library/Frameworks/R.framework/Versions/4.5-x86_64/Resources/library/00LOCK-OmnipathR/00new/OmnipathR/internal/urls.json` (encoding: UTF-8). [2025-01-31 15:26:19] [TRACE] [OmnipathR] JSON validation successful: TRUE [2025-01-31 15:26:19] [TRACE] [OmnipathR] Reading JSON from `/Library/Frameworks/R.framework/Versions/4.5-x86_64/Resources/library/00LOCK-OmnipathR/00new/OmnipathR/internal/id_types.json` (encoding: UTF-8). [2025-01-31 15:26:19] [TRACE] [OmnipathR] JSON validation successful: TRUE [2025-01-31 15:26:19] [TRACE] [OmnipathR] Cache locked: FALSE ** testing if installed package can be loaded from final location [2025-01-31 15:26:22] [TRACE] [OmnipathR] Reading JSON from `/Users/biocbuild/Library/Caches/OmnipathR/cache.json` (encoding: UTF-8). [2025-01-31 15:26:22] [TRACE] [OmnipathR] JSON validation successful: TRUE [2025-01-31 15:26:22] [INFO] [OmnipathR] Initialized cache: `/Users/biocbuild/Library/Caches/OmnipathR`. [2025-01-31 15:26:22] [TRACE] [OmnipathR] Running on a build server, wiping cache. [2025-01-31 15:26:22] [TRACE] [OmnipathR] Cache is at `/Users/biocbuild/Library/Caches/OmnipathR`. [2025-01-31 15:26:22] [TRACE] [OmnipathR] Contains 1 files. [2025-01-31 15:26:22] [TRACE] [OmnipathR] Cache is locked: FALSE. [2025-01-31 15:26:22] [TRACE] [OmnipathR] Reading JSON from `/Users/biocbuild/Library/Caches/OmnipathR/cache.json` (encoding: UTF-8). [2025-01-31 15:26:22] [TRACE] [OmnipathR] JSON validation successful: TRUE [2025-01-31 15:26:22] [SUCCESS] [OmnipathR] Removing all cache contents from `/Users/biocbuild/Library/Caches/OmnipathR`. [2025-01-31 15:26:22] [TRACE] [OmnipathR] Pandoc version: `2.7.3`. [2025-01-31 15:26:22] [TRACE] [OmnipathR] Reading JSON from `/Library/Frameworks/R.framework/Versions/4.5-x86_64/Resources/library/OmnipathR/db/db_def.json` (encoding: UTF-8). [2025-01-31 15:26:22] [TRACE] [OmnipathR] JSON validation successful: TRUE [2025-01-31 15:26:22] [TRACE] [OmnipathR] Reading JSON from `/Library/Frameworks/R.framework/Versions/4.5-x86_64/Resources/library/OmnipathR/internal/magic_bytes.json` (encoding: UTF-8). [2025-01-31 15:26:22] [TRACE] [OmnipathR] JSON validation successful: TRUE [2025-01-31 15:26:22] [TRACE] [OmnipathR] Reading JSON from `/Library/Frameworks/R.framework/Versions/4.5-x86_64/Resources/library/OmnipathR/internal/urls.json` (encoding: UTF-8). [2025-01-31 15:26:22] [TRACE] [OmnipathR] JSON validation successful: TRUE [2025-01-31 15:26:22] [TRACE] [OmnipathR] Reading JSON from `/Library/Frameworks/R.framework/Versions/4.5-x86_64/Resources/library/OmnipathR/internal/id_types.json` (encoding: UTF-8). [2025-01-31 15:26:22] [TRACE] [OmnipathR] JSON validation successful: TRUE [2025-01-31 15:26:22] [TRACE] [OmnipathR] Cache locked: FALSE ** testing if installed package keeps a record of temporary installation path * DONE (OmnipathR)
OmnipathR.Rcheck/tests/testthat.Rout
R Under development (unstable) (2025-01-22 r87618) -- "Unsuffered Consequences" Copyright (C) 2025 The R Foundation for Statistical Computing Platform: x86_64-apple-darwin20 R is free software and comes with ABSOLUTELY NO WARRANTY. You are welcome to redistribute it under certain conditions. Type 'license()' or 'licence()' for distribution details. R is a collaborative project with many contributors. Type 'contributors()' for more information and 'citation()' on how to cite R or R packages in publications. Type 'demo()' for some demos, 'help()' for on-line help, or 'help.start()' for an HTML browser interface to help. Type 'q()' to quit R. > #!/usr/bin/env Rscript > > # > # This file is part of the `OmnipathR` R package > # > # Copyright > # 2018-2024 > # Saez Lab, Uniklinik RWTH Aachen, Heidelberg University > # > # File author(s): Alberto Valdeolivas > # Dénes Türei (turei.denes@gmail.com) > # Attila Gábor > # > # Distributed under the MIT (Expat) License. > # See accompanying file `LICENSE` or find a copy at > # https://directory.fsf.org/wiki/License:Expat > # > # Website: https://r.omnipathdb.org/ > # Git repo: https://github.com/saezlab/OmnipathR > # > > > library(testthat) > library(OmnipathR) [2025-01-31 22:12:21] [TRACE] [OmnipathR] Reading JSON from `/Users/biocbuild/Library/Caches/OmnipathR/cache.json` (encoding: UTF-8). [2025-01-31 22:12:21] [TRACE] [OmnipathR] JSON validation successful: TRUE [2025-01-31 22:12:21] [INFO] [OmnipathR] Initialized cache: `/Users/biocbuild/Library/Caches/OmnipathR`. [2025-01-31 22:12:21] [TRACE] [OmnipathR] Running on a build server, wiping cache. [2025-01-31 22:12:21] [TRACE] [OmnipathR] Cache is at `/Users/biocbuild/Library/Caches/OmnipathR`. [2025-01-31 22:12:21] [TRACE] [OmnipathR] Contains 21 files. [2025-01-31 22:12:21] [TRACE] [OmnipathR] Cache is locked: FALSE. [2025-01-31 22:12:21] [TRACE] [OmnipathR] Reading JSON from `/Users/biocbuild/Library/Caches/OmnipathR/cache.json` (encoding: UTF-8). [2025-01-31 22:12:21] [TRACE] [OmnipathR] JSON validation successful: TRUE [2025-01-31 22:12:21] [SUCCESS] [OmnipathR] Removing all cache contents from `/Users/biocbuild/Library/Caches/OmnipathR`. [2025-01-31 22:12:21] [TRACE] [OmnipathR] Pandoc version: `2.7.3`. [2025-01-31 22:12:21] [TRACE] [OmnipathR] Reading JSON from `/Library/Frameworks/R.framework/Versions/4.5-x86_64/Resources/library/OmnipathR/db/db_def.json` (encoding: UTF-8). [2025-01-31 22:12:21] [TRACE] [OmnipathR] JSON validation successful: TRUE [2025-01-31 22:12:21] [TRACE] [OmnipathR] Reading JSON from `/Library/Frameworks/R.framework/Versions/4.5-x86_64/Resources/library/OmnipathR/internal/magic_bytes.json` (encoding: UTF-8). [2025-01-31 22:12:21] [TRACE] [OmnipathR] JSON validation successful: TRUE [2025-01-31 22:12:21] [TRACE] [OmnipathR] Reading JSON from `/Library/Frameworks/R.framework/Versions/4.5-x86_64/Resources/library/OmnipathR/internal/urls.json` (encoding: UTF-8). [2025-01-31 22:12:21] [TRACE] [OmnipathR] JSON validation successful: TRUE [2025-01-31 22:12:21] [TRACE] [OmnipathR] Reading JSON from `/Library/Frameworks/R.framework/Versions/4.5-x86_64/Resources/library/OmnipathR/internal/id_types.json` (encoding: UTF-8). [2025-01-31 22:12:21] [TRACE] [OmnipathR] JSON validation successful: TRUE [2025-01-31 22:12:21] [TRACE] [OmnipathR] Cache locked: FALSE > > test_check('OmnipathR') [ FAIL 0 | WARN 0 | SKIP 0 | PASS 34 ] > > proc.time() user system elapsed 10.963 1.077 39.510
OmnipathR.Rcheck/OmnipathR-Ex.timings
name | user | system | elapsed | |
OmnipathR | 0.001 | 0.000 | 0.001 | |
all_uniprot_acs | 0.017 | 0.003 | 0.020 | |
all_uniprots | 0.812 | 0.092 | 22.464 | |
ancestors | 0.010 | 0.001 | 0.012 | |
annotated_network | 0.746 | 0.067 | 4.208 | |
annotation_categories | 60.154 | 0.159 | 61.803 | |
annotation_resources | 0.060 | 0.004 | 0.603 | |
annotations | 0.248 | 0.018 | 1.095 | |
biomart_query | 0.969 | 0.135 | 3.637 | |
bioplex1 | 0.010 | 0.001 | 0.010 | |
bioplex2 | 0.007 | 0.001 | 0.007 | |
bioplex3 | 0.009 | 0.001 | 0.011 | |
bioplex_all | 0.039 | 0.002 | 0.040 | |
bioplex_hct116_1 | 0.007 | 0.000 | 0.007 | |
bma_motif_es | 0.350 | 0.033 | 1.183 | |
bma_motif_vs | 0.201 | 0.006 | 0.795 | |
chalmers_gem | 0.008 | 0.000 | 0.008 | |
chalmers_gem_id_mapping_table | 0.009 | 0.001 | 0.010 | |
chalmers_gem_id_type | 0.002 | 0.000 | 0.003 | |
chalmers_gem_metabolites | 0.009 | 0.000 | 0.009 | |
chalmers_gem_network | 0.012 | 0.000 | 0.012 | |
chalmers_gem_raw | 0.009 | 0.000 | 0.009 | |
chalmers_gem_reactions | 0.008 | 0.001 | 0.010 | |
common_name | 0.025 | 0.000 | 0.026 | |
complex_genes | 0.476 | 0.024 | 2.235 | |
complex_resources | 0.062 | 0.003 | 0.598 | |
complexes | 0.168 | 0.006 | 0.709 | |
consensuspathdb_download | 0.000 | 0.000 | 0.001 | |
consensuspathdb_raw_table | 0.010 | 0.000 | 0.011 | |
cosmos_pkn | 0 | 0 | 0 | |
curated_ligand_receptor_interactions | 4.490 | 0.267 | 13.900 | |
curated_ligrec_stats | 29.231 | 6.179 | 112.718 | |
database_summary | 1.375 | 0.361 | 5.459 | |
descendants | 0.011 | 0.002 | 0.013 | |
ensembl_dataset | 0.011 | 0.001 | 0.011 | |
ensembl_id_mapping_table | 1.242 | 0.479 | 14.639 | |
ensembl_id_type | 0.003 | 0.001 | 0.003 | |
ensembl_name | 0.058 | 0.001 | 0.059 | |
ensembl_organisms | 0.202 | 0.006 | 0.210 | |
ensembl_organisms_raw | 0.095 | 0.002 | 0.097 | |
ensembl_orthology | 0.000 | 0.000 | 0.001 | |
enzsub_graph | 2.360 | 0.077 | 4.532 | |
enzsub_resources | 0.061 | 0.004 | 0.633 | |
enzyme_substrate | 1.086 | 0.071 | 1.892 | |
evex_download | 0.011 | 0.003 | 0.022 | |
evidences | 0 | 0 | 0 | |
extra_attr_values | 10.256 | 0.218 | 13.150 | |
extra_attrs | 5.959 | 0.030 | 6.000 | |
extra_attrs_to_cols | 11.975 | 0.233 | 12.291 | |
filter_by_resource | 7.371 | 0.222 | 9.877 | |
filter_extra_attrs | 17.369 | 0.094 | 18.059 | |
filter_intercell | 7.010 | 0.596 | 16.707 | |
filter_intercell_network | 0.014 | 0.002 | 0.023 | |
find_all_paths | 5.518 | 0.249 | 10.094 | |
from_evidences | 0.000 | 0.001 | 0.002 | |
get_db | 0.000 | 0.001 | 0.000 | |
get_ontology_db | 0.009 | 0.001 | 0.012 | |
giant_component | 10.580 | 0.553 | 17.362 | |
go_annot_download | 12.540 | 1.017 | 24.211 | |
go_annot_slim | 0.000 | 0.001 | 0.000 | |
go_ontology_download | 0.006 | 0.001 | 0.007 | |
guide2pharma_download | 0.006 | 0.001 | 0.006 | |
harmonizome_download | 0.005 | 0.001 | 0.007 | |
has_extra_attrs | 5.298 | 0.136 | 7.309 | |
hmdb_id_mapping_table | 0.011 | 0.001 | 0.012 | |
hmdb_id_type | 0.002 | 0.001 | 0.003 | |
hmdb_metabolite_fields | 0.000 | 0.001 | 0.001 | |
hmdb_protein_fields | 0.000 | 0.001 | 0.001 | |
hmdb_table | 0.011 | 0.001 | 0.012 | |
homologene_download | 0.010 | 0.001 | 0.010 | |
homologene_raw | 0.018 | 0.001 | 0.019 | |
homologene_uniprot_orthology | 0.011 | 0.001 | 0.012 | |
hpo_download | 1.966 | 0.418 | 2.493 | |
htridb_download | 0.008 | 0.001 | 0.009 | |
id_translation_resources | 0.000 | 0.001 | 0.001 | |
id_types | 0.040 | 0.001 | 0.040 | |
inbiomap_download | 0 | 0 | 0 | |
inbiomap_raw | 0 | 0 | 0 | |
interaction_datasets | 0.374 | 0.022 | 0.764 | |
interaction_graph | 0.533 | 0.015 | 1.304 | |
interaction_resources | 0.077 | 0.007 | 0.678 | |
interaction_types | 0.052 | 0.003 | 0.055 | |
intercell | 0.495 | 0.048 | 1.348 | |
intercell_categories | 0.423 | 0.038 | 0.914 | |
intercell_consensus_filter | 1.475 | 0.114 | 3.870 | |
intercell_generic_categories | 0.059 | 0.003 | 0.111 | |
intercell_network | 0.014 | 0.001 | 0.022 | |
intercell_resources | 0.077 | 0.003 | 0.628 | |
intercell_summary | 0.060 | 0.016 | 0.076 | |
is_ontology_id | 0.000 | 0.001 | 0.000 | |
is_swissprot | 0.034 | 0.002 | 0.037 | |
is_trembl | 0.034 | 0.002 | 0.047 | |
is_uniprot | 0.013 | 0.001 | 0.017 | |
kegg_info | 0.012 | 0.000 | 0.025 | |
kegg_open | 0.011 | 0.001 | 0.018 | |
kegg_pathway_annotations | 0.000 | 0.001 | 0.000 | |
kegg_pathway_download | 0.012 | 0.001 | 0.020 | |
kegg_pathway_list | 0.011 | 0.001 | 0.025 | |
kegg_pathways_download | 0.000 | 0.000 | 0.001 | |
kegg_picture | 0.131 | 0.019 | 4.105 | |
kegg_process | 0.021 | 0.002 | 0.023 | |
latin_name | 0.068 | 0.000 | 0.070 | |
load_db | 0.093 | 0.002 | 0.110 | |
ncbi_taxid | 0.078 | 0.001 | 0.133 | |
nichenet_build_model | 0 | 0 | 0 | |
nichenet_expression_data | 0.013 | 0.002 | 0.026 | |
nichenet_gr_network | 0.039 | 0.003 | 0.064 | |
nichenet_gr_network_evex | 0.013 | 0.001 | 0.026 | |
nichenet_gr_network_harmonizome | 0.014 | 0.001 | 0.027 | |
nichenet_gr_network_htridb | 0.013 | 0.001 | 0.023 | |
nichenet_gr_network_omnipath | 15.616 | 0.795 | 22.629 | |
nichenet_gr_network_pathwaycommons | 0.008 | 0.000 | 0.008 | |
nichenet_gr_network_regnetwork | 0.007 | 0.000 | 0.009 | |
nichenet_gr_network_remap | 0.009 | 0.001 | 0.011 | |
nichenet_gr_network_trrust | 0.010 | 0.001 | 0.011 | |
nichenet_ligand_activities | 0.000 | 0.000 | 0.001 | |
nichenet_ligand_target_links | 0.000 | 0.000 | 0.001 | |
nichenet_ligand_target_matrix | 0 | 0 | 0 | |
nichenet_lr_network | 0.027 | 0.002 | 0.030 | |
nichenet_lr_network_guide2pharma | 0.009 | 0.001 | 0.009 | |
nichenet_lr_network_omnipath | 0.028 | 0.002 | 0.030 | |
nichenet_lr_network_ramilowski | 0.008 | 0.001 | 0.009 | |
nichenet_main | 0.000 | 0.000 | 0.001 | |
nichenet_networks | 0.049 | 0.005 | 0.055 | |
nichenet_optimization | 0.000 | 0.000 | 0.001 | |
nichenet_remove_orphan_ligands | 0.025 | 0.002 | 0.027 | |
nichenet_results_dir | 0 | 0 | 0 | |
nichenet_signaling_network | 0.026 | 0.002 | 0.028 | |
nichenet_signaling_network_cpdb | 0.009 | 0.001 | 0.010 | |
nichenet_signaling_network_evex | 0.009 | 0.001 | 0.009 | |
nichenet_signaling_network_harmonizome | 0.010 | 0.000 | 0.012 | |
nichenet_signaling_network_inbiomap | 0 | 0 | 0 | |
nichenet_signaling_network_omnipath | 12.471 | 0.568 | 19.398 | |
nichenet_signaling_network_pathwaycommons | 0.011 | 0.001 | 0.012 | |
nichenet_signaling_network_vinayagam | 0.011 | 0.000 | 0.011 | |
nichenet_test | 0 | 0 | 0 | |
nichenet_workarounds | 0 | 0 | 0 | |
obo_parser | 0.103 | 0.007 | 0.176 | |
oma_code | 0.034 | 0.000 | 0.035 | |
oma_organisms | 0.097 | 0.003 | 0.099 | |
oma_pairwise | 0.013 | 0.002 | 0.014 | |
oma_pairwise_genesymbols | 0.014 | 0.001 | 0.015 | |
oma_pairwise_translated | 0.012 | 0.001 | 0.013 | |
omnipath-interactions | 26.711 | 1.257 | 58.799 | |
omnipath_cache_autoclean | 0 | 0 | 0 | |
omnipath_cache_clean | 0.006 | 0.001 | 0.008 | |
omnipath_cache_clean_db | 0.101 | 0.012 | 0.162 | |
omnipath_cache_download_ready | 0.512 | 0.043 | 0.654 | |
omnipath_cache_filter_versions | 0.106 | 0.013 | 0.140 | |
omnipath_cache_get | 0.096 | 0.011 | 0.109 | |
omnipath_cache_key | 0.001 | 0.000 | 0.001 | |
omnipath_cache_latest_or_new | 0.068 | 0.008 | 0.077 | |
omnipath_cache_load | 0.598 | 0.031 | 3.057 | |
omnipath_cache_move_in | 0.166 | 0.023 | 0.199 | |
omnipath_cache_remove | 0.117 | 0.014 | 0.137 | |
omnipath_cache_save | 0.160 | 0.017 | 0.196 | |
omnipath_cache_search | 0.001 | 0.000 | 0.001 | |
omnipath_cache_set_ext | 0.093 | 0.011 | 0.111 | |
omnipath_cache_update_status | 0.123 | 0.012 | 0.138 | |
omnipath_cache_wipe | 0 | 0 | 0 | |
omnipath_config_path | 0.000 | 0.001 | 0.001 | |
omnipath_for_cosmos | 7.618 | 0.362 | 23.294 | |
omnipath_load_config | 0.001 | 0.000 | 0.000 | |
omnipath_log | 0 | 0 | 0 | |
omnipath_logfile | 0.001 | 0.000 | 0.002 | |
omnipath_msg | 0.004 | 0.000 | 0.005 | |
omnipath_query | 3.853 | 0.053 | 3.939 | |
omnipath_reset_config | 0.001 | 0.000 | 0.000 | |
omnipath_save_config | 0.000 | 0.001 | 0.001 | |
omnipath_set_cachedir | 0.028 | 0.003 | 0.031 | |
omnipath_set_console_loglevel | 0.003 | 0.000 | 0.003 | |
omnipath_set_logfile_loglevel | 0.002 | 0.000 | 0.003 | |
omnipath_set_loglevel | 0.001 | 0.000 | 0.001 | |
omnipath_show_db | 0.061 | 0.001 | 0.062 | |
omnipath_unlock_cache_db | 0.000 | 0.000 | 0.001 | |
only_from | 0.000 | 0.000 | 0.001 | |
ontology_ensure_id | 0.001 | 0.000 | 0.001 | |
ontology_ensure_name | 0.000 | 0.001 | 0.001 | |
ontology_name_id | 0.001 | 0.001 | 0.001 | |
organism_for | 0.047 | 0.001 | 0.048 | |
pathwaycommons_download | 0.001 | 0.001 | 0.001 | |
pivot_annotations | 10.126 | 0.903 | 19.864 | |
preppi_download | 0 | 0 | 0 | |
preppi_filter | 0.000 | 0.000 | 0.001 | |
print_bma_motif_es | 0.199 | 0.037 | 1.034 | |
print_bma_motif_vs | 0.104 | 0.005 | 0.728 | |
print_interactions | 5.479 | 0.225 | 9.648 | |
print_path_es | 0.486 | 0.035 | 2.273 | |
print_path_vs | 2.146 | 0.143 | 5.054 | |
pubmed_open | 3.904 | 0.054 | 4.008 | |
query_info | 0.069 | 0.007 | 0.315 | |
ramilowski_download | 0.000 | 0.001 | 0.001 | |
ramp_id_mapping_table | 0.000 | 0.001 | 0.001 | |
ramp_id_type | 0.001 | 0.000 | 0.002 | |
ramp_sqlite | 0.000 | 0.000 | 0.001 | |
ramp_table | 0.001 | 0.000 | 0.001 | |
ramp_tables | 0 | 0 | 0 | |
regnetwork_directions | 0.000 | 0.001 | 0.001 | |
regnetwork_download | 0.001 | 0.001 | 0.001 | |
relations_list_to_table | 0.079 | 0.005 | 3.164 | |
relations_table_to_graph | 0.001 | 0.000 | 0.000 | |
relations_table_to_list | 0.074 | 0.003 | 0.090 | |
remap_dorothea_download | 0.001 | 0.000 | 0.001 | |
remap_filtered | 0.000 | 0.000 | 0.001 | |
remap_tf_target_download | 0 | 0 | 0 | |
resource_info | 0.136 | 0.073 | 0.825 | |
resources | 0.049 | 0.004 | 0.782 | |
resources_colname | 0.596 | 0.044 | 2.427 | |
resources_in | 3.351 | 0.022 | 3.400 | |
show_network | 0 | 0 | 0 | |
signed_ptms | 4.791 | 0.035 | 5.430 | |
simplify_intercell_network | 0.001 | 0.000 | 0.001 | |
static_table | 6.384 | 0.527 | 7.482 | |
static_tables | 0.060 | 0.001 | 0.067 | |
stitch_actions | 0.000 | 0.000 | 0.001 | |
stitch_links | 0.001 | 0.000 | 0.001 | |
stitch_network | 0.001 | 0.000 | 0.001 | |
stitch_remove_prefixes | 0.009 | 0.000 | 0.009 | |
swap_relations | 0.169 | 0.011 | 0.208 | |
swissprots_only | 0.041 | 0.000 | 0.041 | |
tfcensus_download | 0.169 | 0.016 | 0.419 | |
translate_ids | 1.087 | 0.077 | 18.473 | |
translate_ids_multi | 5.891 | 0.217 | 23.290 | |
trembls_only | 0.027 | 0.000 | 0.027 | |
trrust_download | 0.001 | 0.000 | 0.001 | |
uniprot_full_id_mapping_table | 1.085 | 0.130 | 22.099 | |
uniprot_genesymbol_cleanup | 0.001 | 0.000 | 0.001 | |
uniprot_id_mapping_table | 0.001 | 0.000 | 0.001 | |
uniprot_id_type | 0.003 | 0.000 | 0.003 | |
uniprot_idmapping_id_types | 0.162 | 0.010 | 0.882 | |
unique_intercell_network | 0.001 | 0.000 | 0.000 | |
unnest_evidences | 0 | 0 | 0 | |
uploadlists_id_type | 0.001 | 0.000 | 0.002 | |
vinayagam_download | 0 | 0 | 0 | |
walk_ontology_tree | 0.000 | 0.000 | 0.001 | |
with_extra_attrs | 10.842 | 0.318 | 13.938 | |
with_references | 0.440 | 0.038 | 2.020 | |
zenodo_download | 0.001 | 0.001 | 0.001 | |