Back to Multiple platform build/check report for BioC 3.21:   simplified   long
ABCDEFGHIJKLMN[O]PQRSTUVWXYZ

This page was generated on 2025-02-01 11:42 -0500 (Sat, 01 Feb 2025).

HostnameOSArch (*)R versionInstalled pkgs
nebbiolo1Linux (Ubuntu 24.04.1 LTS)x86_64R Under development (unstable) (2025-01-20 r87609) -- "Unsuffered Consequences" 4704
palomino7Windows Server 2022 Datacenterx64R Under development (unstable) (2025-01-21 r87610 ucrt) -- "Unsuffered Consequences" 4467
lconwaymacOS 12.7.1 Montereyx86_64R Under development (unstable) (2025-01-22 r87618) -- "Unsuffered Consequences" 4478
kjohnson3macOS 13.7.1 Venturaarm64R Under development (unstable) (2025-01-20 r87609) -- "Unsuffered Consequences" 4431
Click on any hostname to see more info about the system (e.g. compilers)      (*) as reported by 'uname -p', except on Windows and Mac OS X

Package 1454/2289HostnameOS / ArchINSTALLBUILDCHECKBUILD BIN
OmnipathR 3.15.0  (landing page)
Denes Turei
Snapshot Date: 2025-01-31 13:40 -0500 (Fri, 31 Jan 2025)
git_url: https://git.bioconductor.org/packages/OmnipathR
git_branch: devel
git_last_commit: bc4d2dd
git_last_commit_date: 2024-10-29 10:41:00 -0500 (Tue, 29 Oct 2024)
nebbiolo1Linux (Ubuntu 24.04.1 LTS) / x86_64  OK    OK    OK  UNNEEDED, same version is already published
palomino7Windows Server 2022 Datacenter / x64  OK    OK    OK    OK  UNNEEDED, same version is already published
lconwaymacOS 12.7.1 Monterey / x86_64  OK    OK    OK    OK  UNNEEDED, same version is already published
kjohnson3macOS 13.7.1 Ventura / arm64  OK    OK    OK    OK  YES


CHECK results for OmnipathR on palomino7

To the developers/maintainers of the OmnipathR package:
- Allow up to 24 hours (and sometimes 48 hours) for your latest push to git@git.bioconductor.org:packages/OmnipathR.git to reflect on this report. See Troubleshooting Build Report for more information.
- Use the following Renviron settings to reproduce errors and warnings.
- If 'R CMD check' started to fail recently on the Linux builder(s) over a missing dependency, add the missing dependency to 'Suggests:' in your DESCRIPTION file. See Renviron.bioc for more information.

raw results


Summary

Package: OmnipathR
Version: 3.15.0
Command: E:\biocbuild\bbs-3.21-bioc\R\bin\R.exe CMD check --no-multiarch --install=check:OmnipathR.install-out.txt --library=E:\biocbuild\bbs-3.21-bioc\R\library --no-vignettes --timings OmnipathR_3.15.0.tar.gz
StartedAt: 2025-02-01 03:24:04 -0500 (Sat, 01 Feb 2025)
EndedAt: 2025-02-01 03:37:54 -0500 (Sat, 01 Feb 2025)
EllapsedTime: 829.5 seconds
RetCode: 0
Status:   OK  
CheckDir: OmnipathR.Rcheck
Warnings: 0

Command output

##############################################################################
##############################################################################
###
### Running command:
###
###   E:\biocbuild\bbs-3.21-bioc\R\bin\R.exe CMD check --no-multiarch --install=check:OmnipathR.install-out.txt --library=E:\biocbuild\bbs-3.21-bioc\R\library --no-vignettes --timings OmnipathR_3.15.0.tar.gz
###
##############################################################################
##############################################################################


* using log directory 'E:/biocbuild/bbs-3.21-bioc/meat/OmnipathR.Rcheck'
* using R Under development (unstable) (2025-01-21 r87610 ucrt)
* using platform: x86_64-w64-mingw32
* R was compiled by
    gcc.exe (GCC) 13.3.0
    GNU Fortran (GCC) 13.3.0
* running under: Windows Server 2022 x64 (build 20348)
* using session charset: UTF-8
* using option '--no-vignettes'
* checking for file 'OmnipathR/DESCRIPTION' ... OK
* checking extension type ... Package
* this is package 'OmnipathR' version '3.15.0'
* package encoding: UTF-8
* checking package namespace information ... OK
* checking package dependencies ... OK
* checking if this is a source package ... OK
* checking if there is a namespace ... OK
* checking for hidden files and directories ... OK
* checking for portable file names ... OK
* checking whether package 'OmnipathR' can be installed ... OK
* checking installed package size ... OK
* checking package directory ... OK
* checking DESCRIPTION meta-information ... OK
* checking top-level files ... OK
* checking for left-over files ... OK
* checking index information ... OK
* checking package subdirectories ... OK
* checking code files for non-ASCII characters ... OK
* checking R files for syntax errors ... OK
* checking whether the package can be loaded ... OK
* checking whether the package can be loaded with stated dependencies ... OK
* checking whether the package can be unloaded cleanly ... OK
* checking whether the namespace can be loaded with stated dependencies ... OK
* checking whether the namespace can be unloaded cleanly ... OK
* checking whether startup messages can be suppressed ... NOTE
[2025-02-01 03:24:39] [TRACE]   [OmnipathR] Reading JSON from `C:\Users\biocbuild\AppData\Local\Cache\OmnipathR/cache.json` (encoding: UTF-8).
[2025-02-01 03:24:39] [TRACE]   [OmnipathR] JSON validation successful: TRUE
[2025-02-01 03:24:39] [INFO]    [OmnipathR] Initialized cache: `C:\Users\biocbuild\AppData\Local\Cache\OmnipathR`.
[2025-02-01 03:24:39] [TRACE]   [OmnipathR] Running on a build server, wiping cache.
[2025-02-01 03:24:39] [TRACE]   [OmnipathR] Cache is at `C:\Users\biocbuild\AppData\Local\Cache\OmnipathR`.
[2025-02-01 03:24:39] [TRACE]   [OmnipathR] Contains 1 files.
[2025-02-01 03:24:39] [TRACE]   [OmnipathR] Cache is locked: FALSE.
[2025-02-01 03:24:39] [TRACE]   [OmnipathR] Reading JSON from `C:\Users\biocbuild\AppData\Local\Cache\OmnipathR/cache.json` (encoding: UTF-8).
[2025-02-01 03:24:39] [TRACE]   [OmnipathR] JSON validation successful: TRUE
[2025-02-01 03:24:39] [SUCCESS] [OmnipathR] Removing all cache contents from `C:\Users\biocbuild\AppData\Local\Cache\OmnipathR`.
[2025-02-01 03:24:39] [TRACE]   [OmnipathR] Pandoc version: `2.7.3`.
[2025-02-01 03:24:39] [TRACE]   [OmnipathR] Reading JSON from `E:/biocbuild/bbs-3.21-bioc/R/library/OmnipathR/db/db_def.json` (encoding: UTF-8).
[2025-02-01 03:24:39] [TRACE]   [OmnipathR] JSON validation successful: TRUE
[2025-02-01 03:24:39] [TRACE]   [OmnipathR] Reading JSON from `E:/biocbuild/bbs-3.21-bioc/R/library/OmnipathR/internal/magic_bytes.json` (encoding: UTF-8).
[2025-02-01 03:24:39] [TRACE]   [OmnipathR] JSON validation successful: TRUE
[2025-02-01 03:24:40] [TRACE]   [OmnipathR] Reading JSON from `E:/biocbuild/bbs-3.21-bioc/R/library/OmnipathR/internal/urls.json` (encoding: UTF-8).
[2025-02-01 03:24:40] [TRACE]   [OmnipathR] JSON validation successful: TRUE
[2025-02-01 03:24:40] [TRACE]   [OmnipathR] Reading JSON from `E:/biocbuild/bbs-3.21-bioc/R/library/OmnipathR/internal/id_types.json` (encoding: UTF-8).
[2025-02-01 03:24:40] [TRACE]   [OmnipathR] JSON validation successful: TRUE
[2025-02-01 03:24:40] [TRACE]   [OmnipathR] Cache locked: FALSE

It looks like this package (or a package it requires) has a startup
message which cannot be suppressed: see ?packageStartupMessage.
* checking dependencies in R code ... OK
* checking S3 generic/method consistency ... OK
* checking replacement functions ... OK
* checking foreign function calls ... OK
* checking R code for possible problems ... NOTE
[2025-02-01 03:24:57] [TRACE]   [OmnipathR] Reading JSON from `C:\Users\biocbuild\AppData\Local\Cache\OmnipathR/cache.json` (encoding: UTF-8).
[2025-02-01 03:24:57] [TRACE]   [OmnipathR] JSON validation successful: TRUE
[2025-02-01 03:24:57] [INFO]    [OmnipathR] Initialized cache: `C:\Users\biocbuild\AppData\Local\Cache\OmnipathR`.
[2025-02-01 03:24:57] [TRACE]   [OmnipathR] Running on a build server, wiping cache.
[2025-02-01 03:24:57] [TRACE]   [OmnipathR] Cache is at `C:\Users\biocbuild\AppData\Local\Cache\OmnipathR`.
[2025-02-01 03:24:57] [TRACE]   [OmnipathR] Contains 1 files.
[2025-02-01 03:24:57] [TRACE]   [OmnipathR] Cache is locked: FALSE.
[2025-02-01 03:24:57] [TRACE]   [OmnipathR] Reading JSON from `C:\Users\biocbuild\AppData\Local\Cache\OmnipathR/cache.json` (encoding: UTF-8).
[2025-02-01 03:24:57] [TRACE]   [OmnipathR] JSON validation successful: TRUE
[2025-02-01 03:24:57] [SUCCESS] [OmnipathR] Removing all cache contents from `C:\Users\biocbuild\AppData\Local\Cache\OmnipathR`.
[2025-02-01 03:24:57] [TRACE]   [OmnipathR] Pandoc version: `2.7.3`.
[2025-02-01 03:24:57] [TRACE]   [OmnipathR] Reading JSON from `E:/biocbuild/bbs-3.21-bioc/R/library/OmnipathR/db/db_def.json` (encoding: UTF-8).
[2025-02-01 03:24:57] [TRACE]   [OmnipathR] JSON validation successful: TRUE
[2025-02-01 03:24:57] [TRACE]   [OmnipathR] Reading JSON from `E:/biocbuild/bbs-3.21-bioc/R/library/OmnipathR/internal/magic_bytes.json` (encoding: UTF-8).
[2025-02-01 03:24:57] [TRACE]   [OmnipathR] JSON validation successful: TRUE
[2025-02-01 03:24:57] [TRACE]   [OmnipathR] Reading JSON from `E:/biocbuild/bbs-3.21-bioc/R/library/OmnipathR/internal/urls.json` (encoding: UTF-8).
[2025-02-01 03:24:57] [TRACE]   [OmnipathR] JSON validation successful: TRUE
[2025-02-01 03:24:57] [TRACE]   [OmnipathR] Reading JSON from `E:/biocbuild/bbs-3.21-bioc/R/library/OmnipathR/internal/id_types.json` (encoding: UTF-8).
[2025-02-01 03:24:57] [TRACE]   [OmnipathR] JSON validation successful: TRUE
[2025-02-01 03:24:57] [TRACE]   [OmnipathR] Cache locked: FALSE
* checking Rd files ... OK
* checking Rd metadata ... OK
* checking Rd cross-references ... OK
* checking for missing documentation entries ... OK
* checking for code/documentation mismatches ... OK
* checking Rd \usage sections ... OK
* checking Rd contents ... OK
* checking for unstated dependencies in examples ... OK
* checking R/sysdata.rda ... OK
* checking files in 'vignettes' ... OK
* checking examples ... OK
Examples with CPU (user + system) or elapsed time > 5s
                                      user system elapsed
annotation_categories                73.38   0.05   74.25
curated_ligrec_stats                 30.91   1.70   79.46
omnipath-interactions                27.39   1.19   61.72
filter_extra_attrs                   20.89   0.20   21.55
nichenet_gr_network_omnipath         18.04   1.11   19.61
extra_attrs_to_cols                  13.73   0.19   13.92
with_extra_attrs                     13.40   0.21   14.42
nichenet_signaling_network_omnipath  12.47   0.78   13.78
pivot_annotations                    11.64   1.17   37.14
go_annot_download                    11.38   1.01   11.09
extra_attr_values                    11.80   0.22   12.47
omnipath_for_cosmos                  11.09   0.36   30.68
giant_component                      10.86   0.25   11.53
filter_by_resource                    9.60   0.22   10.41
static_table                          7.56   0.45   16.71
translate_ids_multi                   7.43   0.11   21.81
extra_attrs                           6.92   0.04    6.99
print_interactions                    6.48   0.19   10.08
filter_intercell                      6.10   0.50    6.88
has_extra_attrs                       6.34   0.05    6.39
signed_ptms                           6.08   0.03    6.86
find_all_paths                        5.55   0.17    5.75
curated_ligand_receptor_interactions  5.14   0.30   12.29
ensembl_id_mapping_table              1.65   0.04   16.08
translate_ids                         1.10   0.10   18.72
uniprot_full_id_mapping_table         1.03   0.14   22.28
all_uniprots                          0.84   0.05   21.56
print_bma_motif_es                    0.36   0.08    8.17
* checking for unstated dependencies in 'tests' ... OK
* checking tests ...
  Running 'testthat.R'
 OK
* checking for unstated dependencies in vignettes ... OK
* checking package vignettes ... OK
* checking running R code from vignettes ... SKIPPED
* checking re-building of vignette outputs ... SKIPPED
* checking PDF version of manual ... OK
* DONE

Status: 2 NOTEs
See
  'E:/biocbuild/bbs-3.21-bioc/meat/OmnipathR.Rcheck/00check.log'
for details.


Installation output

OmnipathR.Rcheck/00install.out

##############################################################################
##############################################################################
###
### Running command:
###
###   E:\biocbuild\bbs-3.21-bioc\R\bin\R.exe CMD INSTALL OmnipathR
###
##############################################################################
##############################################################################


* installing to library 'E:/biocbuild/bbs-3.21-bioc/R/library'
* installing *source* package 'OmnipathR' ...
** this is package 'OmnipathR' version '3.15.0'
** using staged installation
** R
** inst
** byte-compile and prepare package for lazy loading
** help
*** installing help indices
*** copying figures
** building package indices
** installing vignettes
** testing if installed package can be loaded from temporary location
[2025-01-31 16:08:51] [TRACE]   [OmnipathR] Reading JSON from `C:\Users\biocbuild\AppData\Local\Cache\OmnipathR/cache.json` (encoding: UTF-8).
[2025-01-31 16:08:51] [TRACE]   [OmnipathR] JSON validation successful: TRUE
[2025-01-31 16:08:51] [INFO]    [OmnipathR] Initialized cache: `C:\Users\biocbuild\AppData\Local\Cache\OmnipathR`.
[2025-01-31 16:08:51] [TRACE]   [OmnipathR] Running on a build server, wiping cache.
[2025-01-31 16:08:51] [TRACE]   [OmnipathR] Cache is at `C:\Users\biocbuild\AppData\Local\Cache\OmnipathR`.
[2025-01-31 16:08:51] [TRACE]   [OmnipathR] Contains 1 files.
[2025-01-31 16:08:51] [TRACE]   [OmnipathR] Cache is locked: FALSE.
[2025-01-31 16:08:52] [TRACE]   [OmnipathR] Reading JSON from `C:\Users\biocbuild\AppData\Local\Cache\OmnipathR/cache.json` (encoding: UTF-8).
[2025-01-31 16:08:52] [TRACE]   [OmnipathR] JSON validation successful: TRUE
[2025-01-31 16:08:52] [SUCCESS] [OmnipathR] Removing all cache contents from `C:\Users\biocbuild\AppData\Local\Cache\OmnipathR`.
[2025-01-31 16:08:52] [TRACE]   [OmnipathR] Pandoc version: `2.7.3`.
[2025-01-31 16:08:52] [TRACE]   [OmnipathR] Reading JSON from `E:/biocbuild/bbs-3.21-bioc/R/library/00LOCK-OmnipathR/00new/OmnipathR/db/db_def.json` (encoding: UTF-8).
[2025-01-31 16:08:52] [TRACE]   [OmnipathR] JSON validation successful: TRUE
[2025-01-31 16:08:52] [TRACE]   [OmnipathR] Reading JSON from `E:/biocbuild/bbs-3.21-bioc/R/library/00LOCK-OmnipathR/00new/OmnipathR/internal/magic_bytes.json` (encoding: UTF-8).
[2025-01-31 16:08:52] [TRACE]   [OmnipathR] JSON validation successful: TRUE
[2025-01-31 16:08:53] [TRACE]   [OmnipathR] Reading JSON from `E:/biocbuild/bbs-3.21-bioc/R/library/00LOCK-OmnipathR/00new/OmnipathR/internal/urls.json` (encoding: UTF-8).
[2025-01-31 16:08:53] [TRACE]   [OmnipathR] JSON validation successful: TRUE
[2025-01-31 16:08:53] [TRACE]   [OmnipathR] Reading JSON from `E:/biocbuild/bbs-3.21-bioc/R/library/00LOCK-OmnipathR/00new/OmnipathR/internal/id_types.json` (encoding: UTF-8).
[2025-01-31 16:08:53] [TRACE]   [OmnipathR] JSON validation successful: TRUE
[2025-01-31 16:08:53] [TRACE]   [OmnipathR] Cache locked: FALSE
** testing if installed package can be loaded from final location
[2025-01-31 16:09:07] [TRACE]   [OmnipathR] Reading JSON from `C:\Users\biocbuild\AppData\Local\Cache\OmnipathR/cache.json` (encoding: UTF-8).
[2025-01-31 16:09:07] [TRACE]   [OmnipathR] JSON validation successful: TRUE
[2025-01-31 16:09:07] [INFO]    [OmnipathR] Initialized cache: `C:\Users\biocbuild\AppData\Local\Cache\OmnipathR`.
[2025-01-31 16:09:07] [TRACE]   [OmnipathR] Running on a build server, wiping cache.
[2025-01-31 16:09:07] [TRACE]   [OmnipathR] Cache is at `C:\Users\biocbuild\AppData\Local\Cache\OmnipathR`.
[2025-01-31 16:09:07] [TRACE]   [OmnipathR] Contains 1 files.
[2025-01-31 16:09:07] [TRACE]   [OmnipathR] Cache is locked: FALSE.
[2025-01-31 16:09:07] [TRACE]   [OmnipathR] Reading JSON from `C:\Users\biocbuild\AppData\Local\Cache\OmnipathR/cache.json` (encoding: UTF-8).
[2025-01-31 16:09:07] [TRACE]   [OmnipathR] JSON validation successful: TRUE
[2025-01-31 16:09:07] [SUCCESS] [OmnipathR] Removing all cache contents from `C:\Users\biocbuild\AppData\Local\Cache\OmnipathR`.
[2025-01-31 16:09:07] [TRACE]   [OmnipathR] Pandoc version: `2.7.3`.
[2025-01-31 16:09:07] [TRACE]   [OmnipathR] Reading JSON from `E:/biocbuild/bbs-3.21-bioc/R/library/OmnipathR/db/db_def.json` (encoding: UTF-8).
[2025-01-31 16:09:07] [TRACE]   [OmnipathR] JSON validation successful: TRUE
[2025-01-31 16:09:07] [TRACE]   [OmnipathR] Reading JSON from `E:/biocbuild/bbs-3.21-bioc/R/library/OmnipathR/internal/magic_bytes.json` (encoding: UTF-8).
[2025-01-31 16:09:07] [TRACE]   [OmnipathR] JSON validation successful: TRUE
[2025-01-31 16:09:07] [TRACE]   [OmnipathR] Reading JSON from `E:/biocbuild/bbs-3.21-bioc/R/library/OmnipathR/internal/urls.json` (encoding: UTF-8).
[2025-01-31 16:09:07] [TRACE]   [OmnipathR] JSON validation successful: TRUE
[2025-01-31 16:09:07] [TRACE]   [OmnipathR] Reading JSON from `E:/biocbuild/bbs-3.21-bioc/R/library/OmnipathR/internal/id_types.json` (encoding: UTF-8).
[2025-01-31 16:09:07] [TRACE]   [OmnipathR] JSON validation successful: TRUE
[2025-01-31 16:09:07] [TRACE]   [OmnipathR] Cache locked: FALSE
** testing if installed package keeps a record of temporary installation path
* DONE (OmnipathR)

Tests output

OmnipathR.Rcheck/tests/testthat.Rout


R Under development (unstable) (2025-01-21 r87610 ucrt) -- "Unsuffered Consequences"
Copyright (C) 2025 The R Foundation for Statistical Computing
Platform: x86_64-w64-mingw32/x64

R is free software and comes with ABSOLUTELY NO WARRANTY.
You are welcome to redistribute it under certain conditions.
Type 'license()' or 'licence()' for distribution details.

R is a collaborative project with many contributors.
Type 'contributors()' for more information and
'citation()' on how to cite R or R packages in publications.

Type 'demo()' for some demos, 'help()' for on-line help, or
'help.start()' for an HTML browser interface to help.
Type 'q()' to quit R.

> #!/usr/bin/env Rscript
> 
> #
> #  This file is part of the `OmnipathR` R package
> #
> #  Copyright
> #  2018-2024
> #  Saez Lab, Uniklinik RWTH Aachen, Heidelberg University
> #
> #  File author(s): Alberto Valdeolivas
> #                  Dénes Türei (turei.denes@gmail.com)
> #                  Attila Gábor
> #
> #  Distributed under the MIT (Expat) License.
> #  See accompanying file `LICENSE` or find a copy at
> #      https://directory.fsf.org/wiki/License:Expat
> #
> #  Website: https://r.omnipathdb.org/
> #  Git repo: https://github.com/saezlab/OmnipathR
> #
> 
> 
> library(testthat)
> library(OmnipathR)
[2025-02-01 03:36:54] [TRACE]   [OmnipathR] Reading JSON from `C:\Users\biocbuild\AppData\Local\Cache\OmnipathR/cache.json` (encoding: UTF-8).
[2025-02-01 03:36:54] [TRACE]   [OmnipathR] JSON validation successful: TRUE
[2025-02-01 03:36:54] [INFO]    [OmnipathR] Initialized cache: `C:\Users\biocbuild\AppData\Local\Cache\OmnipathR`.
[2025-02-01 03:36:54] [TRACE]   [OmnipathR] Running on a build server, wiping cache.
[2025-02-01 03:36:54] [TRACE]   [OmnipathR] Cache is at `C:\Users\biocbuild\AppData\Local\Cache\OmnipathR`.
[2025-02-01 03:36:54] [TRACE]   [OmnipathR] Contains 21 files.
[2025-02-01 03:36:54] [TRACE]   [OmnipathR] Cache is locked: FALSE.
[2025-02-01 03:36:54] [TRACE]   [OmnipathR] Reading JSON from `C:\Users\biocbuild\AppData\Local\Cache\OmnipathR/cache.json` (encoding: UTF-8).
[2025-02-01 03:36:54] [TRACE]   [OmnipathR] JSON validation successful: TRUE
[2025-02-01 03:36:54] [SUCCESS] [OmnipathR] Removing all cache contents from `C:\Users\biocbuild\AppData\Local\Cache\OmnipathR`.
[2025-02-01 03:36:55] [TRACE]   [OmnipathR] Pandoc version: `2.7.3`.
[2025-02-01 03:36:55] [TRACE]   [OmnipathR] Reading JSON from `E:/biocbuild/bbs-3.21-bioc/R/library/OmnipathR/db/db_def.json` (encoding: UTF-8).
[2025-02-01 03:36:55] [TRACE]   [OmnipathR] JSON validation successful: TRUE
[2025-02-01 03:36:55] [TRACE]   [OmnipathR] Reading JSON from `E:/biocbuild/bbs-3.21-bioc/R/library/OmnipathR/internal/magic_bytes.json` (encoding: UTF-8).
[2025-02-01 03:36:55] [TRACE]   [OmnipathR] JSON validation successful: TRUE
[2025-02-01 03:36:55] [TRACE]   [OmnipathR] Reading JSON from `E:/biocbuild/bbs-3.21-bioc/R/library/OmnipathR/internal/urls.json` (encoding: UTF-8).
[2025-02-01 03:36:55] [TRACE]   [OmnipathR] JSON validation successful: TRUE
[2025-02-01 03:36:55] [TRACE]   [OmnipathR] Reading JSON from `E:/biocbuild/bbs-3.21-bioc/R/library/OmnipathR/internal/id_types.json` (encoding: UTF-8).
[2025-02-01 03:36:55] [TRACE]   [OmnipathR] JSON validation successful: TRUE
[2025-02-01 03:36:55] [TRACE]   [OmnipathR] Cache locked: FALSE
> 
> test_check('OmnipathR')
[ FAIL 0 | WARN 0 | SKIP 0 | PASS 34 ]
> 
> proc.time()
   user  system elapsed 
  12.21    1.31   34.96 

Example timings

OmnipathR.Rcheck/OmnipathR-Ex.timings

nameusersystemelapsed
OmnipathR000
all_uniprot_acs0.010.000.02
all_uniprots 0.84 0.0521.56
ancestors0.020.000.02
annotated_network0.790.063.28
annotation_categories73.38 0.0574.25
annotation_resources0.060.000.55
annotations0.240.011.20
biomart_query0.870.033.78
bioplex1000
bioplex20.020.000.02
bioplex3000
bioplex_all0.030.000.03
bioplex_hct116_10.020.000.02
bma_motif_es0.280.051.27
bma_motif_vs0.140.000.54
chalmers_gem0.020.000.02
chalmers_gem_id_mapping_table000
chalmers_gem_id_type0.010.000.01
chalmers_gem_metabolites000
chalmers_gem_network0.020.000.02
chalmers_gem_raw000
chalmers_gem_reactions0.010.000.01
common_name0.030.000.04
complex_genes0.380.031.68
complex_resources0.030.000.52
complexes0.160.001.50
consensuspathdb_download000
consensuspathdb_raw_table0.010.000.01
cosmos_pkn000
curated_ligand_receptor_interactions 5.14 0.3012.29
curated_ligrec_stats30.91 1.7079.46
database_summary1.450.002.24
descendants0.020.000.01
ensembl_dataset0.000.020.02
ensembl_id_mapping_table 1.65 0.0416.08
ensembl_id_type0.020.000.01
ensembl_name0.170.000.18
ensembl_organisms0.170.000.61
ensembl_organisms_raw0.140.000.14
ensembl_orthology000
enzsub_graph2.040.083.29
enzsub_resources0.030.000.46
enzyme_substrate1.110.021.53
evex_download0.010.000.01
evidences000
extra_attr_values11.80 0.2212.47
extra_attrs6.920.046.99
extra_attrs_to_cols13.73 0.1913.92
filter_by_resource 9.60 0.2210.41
filter_extra_attrs20.89 0.2021.55
filter_intercell6.100.506.88
filter_intercell_network0.030.000.03
find_all_paths5.550.175.75
from_evidences000
get_db000
get_ontology_db000
giant_component10.86 0.2511.53
go_annot_download11.38 1.0111.09
go_annot_slim000
go_ontology_download000
guide2pharma_download0.010.000.02
harmonizome_download0.020.000.02
has_extra_attrs6.340.056.39
hmdb_id_mapping_table0.020.000.01
hmdb_id_type000
hmdb_metabolite_fields000
hmdb_protein_fields000
hmdb_table0.010.000.02
homologene_download0.020.000.01
homologene_raw0.010.000.02
homologene_uniprot_orthology0.020.000.01
hpo_download1.840.092.27
htridb_download000
id_translation_resources0.020.000.02
id_types0.050.000.04
inbiomap_download000
inbiomap_raw000
interaction_datasets0.390.020.69
interaction_graph0.420.010.86
interaction_resources0.080.000.48
interaction_types0.070.000.08
intercell0.600.031.08
intercell_categories0.390.020.77
intercell_consensus_filter1.230.131.87
intercell_generic_categories0.070.000.06
intercell_network000
intercell_resources0.050.000.45
intercell_summary0.060.000.06
is_ontology_id000
is_swissprot0.060.000.07
is_trembl0.030.000.03
is_uniprot0.020.000.01
kegg_info000
kegg_open000
kegg_pathway_annotations000
kegg_pathway_download0.020.000.02
kegg_pathway_list0.010.000.02
kegg_pathways_download000
kegg_picture0.080.012.43
kegg_process0.020.000.02
latin_name0.090.000.09
load_db0.090.020.11
ncbi_taxid0.10.00.1
nichenet_build_model000
nichenet_expression_data0.010.000.01
nichenet_gr_network0.050.000.05
nichenet_gr_network_evex000
nichenet_gr_network_harmonizome0.010.000.02
nichenet_gr_network_htridb0.070.000.06
nichenet_gr_network_omnipath18.04 1.1119.61
nichenet_gr_network_pathwaycommons000
nichenet_gr_network_regnetwork000
nichenet_gr_network_remap000
nichenet_gr_network_trrust0.000.000.01
nichenet_ligand_activities000
nichenet_ligand_target_links000
nichenet_ligand_target_matrix000
nichenet_lr_network0.030.000.03
nichenet_lr_network_guide2pharma0.020.000.02
nichenet_lr_network_omnipath0.040.000.04
nichenet_lr_network_ramilowski0.040.010.05
nichenet_main000
nichenet_networks0.040.000.05
nichenet_optimization000
nichenet_remove_orphan_ligands0.030.000.03
nichenet_results_dir000
nichenet_signaling_network0.040.000.03
nichenet_signaling_network_cpdb0.010.000.01
nichenet_signaling_network_evex0.020.000.02
nichenet_signaling_network_harmonizome000
nichenet_signaling_network_inbiomap000
nichenet_signaling_network_omnipath12.47 0.7813.78
nichenet_signaling_network_pathwaycommons0.010.020.03
nichenet_signaling_network_vinayagam0.020.000.02
nichenet_test000
nichenet_workarounds000
obo_parser0.090.000.34
oma_code0.030.000.03
oma_organisms0.080.000.11
oma_pairwise0.020.000.02
oma_pairwise_genesymbols0.010.000.01
oma_pairwise_translated0.020.000.02
omnipath-interactions27.39 1.1961.72
omnipath_cache_autoclean000
omnipath_cache_clean0.010.000.01
omnipath_cache_clean_db0.170.010.19
omnipath_cache_download_ready0.630.031.00
omnipath_cache_filter_versions0.140.020.64
omnipath_cache_get0.130.000.14
omnipath_cache_key000
omnipath_cache_latest_or_new0.090.020.11
omnipath_cache_load0.690.031.64
omnipath_cache_move_in0.280.010.52
omnipath_cache_remove0.140.030.31
omnipath_cache_save0.250.020.69
omnipath_cache_search000
omnipath_cache_set_ext0.080.010.25
omnipath_cache_update_status0.140.040.24
omnipath_cache_wipe000
omnipath_config_path000
omnipath_for_cosmos11.09 0.3630.68
omnipath_load_config000
omnipath_log000
omnipath_logfile000
omnipath_msg0.050.000.05
omnipath_query4.550.034.58
omnipath_reset_config0.010.000.01
omnipath_save_config000
omnipath_set_cachedir0.030.000.03
omnipath_set_console_loglevel000
omnipath_set_logfile_loglevel0.000.020.02
omnipath_set_loglevel000
omnipath_show_db0.080.000.08
omnipath_unlock_cache_db000
only_from000
ontology_ensure_id000
ontology_ensure_name000
ontology_name_id000
organism_for0.060.000.06
pathwaycommons_download000
pivot_annotations11.64 1.1737.14
preppi_download000
preppi_filter000
print_bma_motif_es0.360.088.17
print_bma_motif_vs0.130.000.86
print_interactions 6.48 0.1910.08
print_path_es0.520.041.45
print_path_vs2.560.114.25
pubmed_open4.660.054.75
query_info0.110.010.58
ramilowski_download000
ramp_id_mapping_table000
ramp_id_type000
ramp_sqlite000
ramp_table0.010.000.02
ramp_tables000
regnetwork_directions000
regnetwork_download000
relations_list_to_table0.140.000.53
relations_table_to_graph000
relations_table_to_list0.140.000.36
remap_dorothea_download000
remap_filtered000
remap_tf_target_download000
resource_info0.190.051.14
resources0.040.000.50
resources_colname0.740.061.85
resources_in4.610.024.62
show_network000
signed_ptms6.080.036.86
simplify_intercell_network000
static_table 7.56 0.4516.71
static_tables0.080.000.26
stitch_actions000
stitch_links000
stitch_network000
stitch_remove_prefixes0.010.000.02
swap_relations0.170.000.31
swissprots_only0.050.000.04
tfcensus_download0.170.031.24
translate_ids 1.10 0.1018.72
translate_ids_multi 7.43 0.1121.81
trembls_only0.040.000.04
trrust_download000
uniprot_full_id_mapping_table 1.03 0.1422.28
uniprot_genesymbol_cleanup000
uniprot_id_mapping_table000
uniprot_id_type000
uniprot_idmapping_id_types0.190.010.55
unique_intercell_network000
unnest_evidences000
uploadlists_id_type000
vinayagam_download000
walk_ontology_tree000
with_extra_attrs13.40 0.2114.42
with_references0.530.091.76
zenodo_download000