Back to Multiple platform build/check report for BioC 3.21:   simplified   long
ABCDEFGHIJKLMNO[P]QRSTUVWXYZ

This page was generated on 2025-02-06 11:44 -0500 (Thu, 06 Feb 2025).

HostnameOSArch (*)R versionInstalled pkgs
nebbiolo1Linux (Ubuntu 24.04.1 LTS)x86_64R Under development (unstable) (2025-01-20 r87609) -- "Unsuffered Consequences" 4719
palomino7Windows Server 2022 Datacenterx64R Under development (unstable) (2025-01-21 r87610 ucrt) -- "Unsuffered Consequences" 4480
lconwaymacOS 12.7.1 Montereyx86_64R Under development (unstable) (2025-01-22 r87618) -- "Unsuffered Consequences" 4491
kjohnson3macOS 13.7.1 Venturaarm64R Under development (unstable) (2025-01-20 r87609) -- "Unsuffered Consequences" 4444
Click on any hostname to see more info about the system (e.g. compilers)      (*) as reported by 'uname -p', except on Windows and Mac OS X

Package 1545/2295HostnameOS / ArchINSTALLBUILDCHECKBUILD BIN
PhenStat 2.43.0  (landing page)
Hamed Haselimashhadi
Snapshot Date: 2025-02-05 13:48 -0500 (Wed, 05 Feb 2025)
git_url: https://git.bioconductor.org/packages/PhenStat
git_branch: devel
git_last_commit: 59cb12c
git_last_commit_date: 2024-10-29 09:49:35 -0500 (Tue, 29 Oct 2024)
nebbiolo1Linux (Ubuntu 24.04.1 LTS) / x86_64  OK    OK    OK  UNNEEDED, same version is already published
palomino7Windows Server 2022 Datacenter / x64  OK    OK    OK    OK  UNNEEDED, same version is already published
lconwaymacOS 12.7.1 Monterey / x86_64  OK    OK    OK    OK  UNNEEDED, same version is already published
kjohnson3macOS 13.7.1 Ventura / arm64  OK    OK    OK    OK  UNNEEDED, same version is already published


CHECK results for PhenStat on kjohnson3

To the developers/maintainers of the PhenStat package:
- Allow up to 24 hours (and sometimes 48 hours) for your latest push to git@git.bioconductor.org:packages/PhenStat.git to reflect on this report. See Troubleshooting Build Report for more information.
- Use the following Renviron settings to reproduce errors and warnings.
- If 'R CMD check' started to fail recently on the Linux builder(s) over a missing dependency, add the missing dependency to 'Suggests:' in your DESCRIPTION file. See Renviron.bioc for more information.

raw results


Summary

Package: PhenStat
Version: 2.43.0
Command: /Library/Frameworks/R.framework/Resources/bin/R CMD check --install=check:PhenStat.install-out.txt --library=/Library/Frameworks/R.framework/Resources/library --no-vignettes --timings PhenStat_2.43.0.tar.gz
StartedAt: 2025-02-05 20:44:42 -0500 (Wed, 05 Feb 2025)
EndedAt: 2025-02-05 20:45:35 -0500 (Wed, 05 Feb 2025)
EllapsedTime: 52.6 seconds
RetCode: 0
Status:   OK  
CheckDir: PhenStat.Rcheck
Warnings: 0

Command output

##############################################################################
##############################################################################
###
### Running command:
###
###   /Library/Frameworks/R.framework/Resources/bin/R CMD check --install=check:PhenStat.install-out.txt --library=/Library/Frameworks/R.framework/Resources/library --no-vignettes --timings PhenStat_2.43.0.tar.gz
###
##############################################################################
##############################################################################


* using log directory ‘/Users/biocbuild/bbs-3.21-bioc/meat/PhenStat.Rcheck’
* using R Under development (unstable) (2025-01-20 r87609)
* using platform: aarch64-apple-darwin20
* R was compiled by
    Apple clang version 14.0.0 (clang-1400.0.29.202)
    GNU Fortran (GCC) 14.2.0
* running under: macOS Ventura 13.7.1
* using session charset: UTF-8
* using option ‘--no-vignettes’
* checking for file ‘PhenStat/DESCRIPTION’ ... OK
* checking extension type ... Package
* this is package ‘PhenStat’ version ‘2.43.0’
* checking package namespace information ... OK
* checking package dependencies ... OK
* checking if this is a source package ... OK
* checking if there is a namespace ... OK
* checking for hidden files and directories ... OK
* checking for portable file names ... OK
* checking for sufficient/correct file permissions ... OK
* checking whether package ‘PhenStat’ can be installed ... OK
* checking installed package size ... OK
* checking package directory ... OK
* checking ‘build’ directory ... OK
* checking DESCRIPTION meta-information ... OK
* checking top-level files ... OK
* checking for left-over files ... OK
* checking index information ... OK
* checking package subdirectories ... OK
* checking code files for non-ASCII characters ... OK
* checking R files for syntax errors ... OK
* checking whether the package can be loaded ... OK
* checking whether the package can be loaded with stated dependencies ... OK
* checking whether the package can be unloaded cleanly ... OK
* checking whether the namespace can be loaded with stated dependencies ... OK
* checking whether the namespace can be unloaded cleanly ... OK
* checking whether startup messages can be suppressed ... OK
* checking dependencies in R code ... NOTE
Namespace in Imports field not imported from: ‘SmoothWin’
  All declared Imports should be used.
* checking S3 generic/method consistency ... OK
* checking replacement functions ... OK
* checking foreign function calls ... OK
* checking R code for possible problems ... OK
* checking Rd files ... NOTE
checkRd: (-1) plot.PhenList.Rd:49-53: Lost braces
    49 |       \item boxplotSexGenotype. See documentations for {
       |                                                        ^
checkRd: (-1) plot.PhenList.Rd:54-58: Lost braces
    54 |       \item boxplotSexGenotypeBatchAdjusted. See documentations for {
       |                                                                     ^
checkRd: (-1) plot.PhenList.Rd:59-63: Lost braces
    59 |       \item boxplotSexGenotypeWeightBatchAdjusted. See documentations for {
       |                                                                           ^
checkRd: (-1) plot.PhenList.Rd:64-68: Lost braces
    64 |       \item scatterplotSexGenotypeBatch. See documentations for {
       |                                                                 ^
checkRd: (-1) plot.PhenList.Rd:69-73: Lost braces
    69 |       \item scatterplotGenotypeWeight. See documentations for {
       |                                                               ^
checkRd: (-1) plot.PhenList.Rd:74-78: Lost braces
    74 |       \item boxplotSexGenotypeBatch. See documentations for {
       |                                                             ^
checkRd: (-1) plot.PhenTestResult.Rd:41-45: Lost braces
    41 |       \item boxplotSexGenotypeResult. See documentations for {
       |                                                              ^
checkRd: (-1) plot.PhenTestResult.Rd:46-50: Lost braces
    46 |       \item scatterplotSexGenotypeBatchResult. See documentations for {
       |                                                                       ^
checkRd: (-1) plot.PhenTestResult.Rd:51-55: Lost braces
    51 |       \item scatterplotGenotypeWeightResult. See documentations for {
       |                                                                     ^
checkRd: (-1) plot.PhenTestResult.Rd:56-60: Lost braces
    56 |       \item plotResidualPredicted. See documentations for {
       |                                                           ^
checkRd: (-1) plot.PhenTestResult.Rd:61-65: Lost braces
    61 |       \item qqplotRandomEffects. See documentations for {
       |                                                         ^
checkRd: (-1) plot.PhenTestResult.Rd:66-70: Lost braces
    66 |       \item boxplotResidualBatch. See documentations for {
       |                                                          ^
checkRd: (-1) plot.PhenTestResult.Rd:71-75: Lost braces
    71 |       \item qqplotRotatedResiduals. See documentations for {
       |                                                            ^
checkRd: (-1) plot.PhenTestResult.Rd:76-80: Lost braces
    76 |       \item qqplotGenotype. See documentations for {
       |                                                    ^
checkRd: (-1) plot.PhenTestResult.Rd:81-85: Lost braces
    81 |       \item categoricalBarplot. See documentations for {
       |                                                        ^
checkRd: (-1) qqplotRotatedResiduals.Rd:18: Lost braces
    18 |     Houseman, E. A., Ryan, L. M., Coull, B. A. (2004): Cholesky residuals for assessing normal errors in a linear model with correlated outcomes. \emph{Journal of the American Statistical Association} \bold{99}{466}: pg 383-394. Doi 10.1198
       |                                                                                                                                                                                                                   ^
* checking Rd metadata ... OK
* checking Rd cross-references ... OK
* checking for missing documentation entries ... OK
* checking for code/documentation mismatches ... OK
* checking Rd \usage sections ... NOTE
Documented arguments not in \usage in Rd file 'printLROutput.Rd':
  ‘effectValues’

Functions with \usage entries need to have the appropriate \alias
entries, and all their arguments documented.
The \usage entries must correspond to syntactically valid R code.
See chapter ‘Writing R documentation files’ in the ‘Writing R
Extensions’ manual.
* checking Rd contents ... NOTE
Argument items with no description in Rd file 'plot.PhenList.Rd':
  ‘\dots’
Argument items with no description in Rd file 'plot.PhenTestResult.Rd':
  ‘\dots’
* checking for unstated dependencies in examples ... OK
* checking sizes of PDF files under ‘inst/doc’ ... OK
* checking installed files from ‘inst/doc’ ... OK
* checking files in ‘vignettes’ ... OK
* checking examples ... OK
* checking for unstated dependencies in ‘tests’ ... OK
* checking tests ...
  Running ‘runTests.R’
 OK
* checking for unstated dependencies in vignettes ... OK
* checking package vignettes ... OK
* checking running R code from vignettes ... SKIPPED
* checking re-building of vignette outputs ... SKIPPED
* checking PDF version of manual ... OK
* DONE

Status: 4 NOTEs
See
  ‘/Users/biocbuild/bbs-3.21-bioc/meat/PhenStat.Rcheck/00check.log’
for details.


Installation output

PhenStat.Rcheck/00install.out

##############################################################################
##############################################################################
###
### Running command:
###
###   /Library/Frameworks/R.framework/Resources/bin/R CMD INSTALL PhenStat
###
##############################################################################
##############################################################################


* installing to library ‘/Library/Frameworks/R.framework/Versions/4.5-arm64/Resources/library’
* installing *source* package ‘PhenStat’ ...
** this is package ‘PhenStat’ version ‘2.43.0’
** using staged installation
** R
** inst
** byte-compile and prepare package for lazy loading
** help
*** installing help indices
** building package indices
** installing vignettes
** testing if installed package can be loaded from temporary location
** testing if installed package can be loaded from final location
** testing if installed package keeps a record of temporary installation path
* DONE (PhenStat)

Tests output

PhenStat.Rcheck/tests/runTests.Rout


R Under development (unstable) (2025-01-20 r87609) -- "Unsuffered Consequences"
Copyright (C) 2025 The R Foundation for Statistical Computing
Platform: aarch64-apple-darwin20

R is free software and comes with ABSOLUTELY NO WARRANTY.
You are welcome to redistribute it under certain conditions.
Type 'license()' or 'licence()' for distribution details.

R is a collaborative project with many contributors.
Type 'contributors()' for more information and
'citation()' on how to cite R or R packages in publications.

Type 'demo()' for some demos, 'help()' for on-line help, or
'help.start()' for an HTML browser interface to help.
Type 'q()' to quit R.

> BiocGenerics:::testPackage("PhenStat")

 >=========================================================================<
 This version of PhenStat includes *FEWER* functions than the previous ones 
 You *still* can use the previous functions by using `:::`. For example :   
 PhenStat:::boxplotSexGenotype   or   PhenStat:::FisherExactTest            
 *** Want to know what is new in this version? run PhenStat:::WhatIsNew()   
 >=========================================================================<


RUNIT TEST PROTOCOL -- Wed Feb  5 20:45:29 2025 
*********************************************** 
Number of test functions: 0 
Number of errors: 0 
Number of failures: 0 

 
1 Test Suite : 
PhenStat RUnit Tests - 0 test functions, 0 errors, 0 failures
Number of test functions: 0 
Number of errors: 0 
Number of failures: 0 
> 
> proc.time()
   user  system elapsed 
  1.081   0.093   1.209 

Example timings

PhenStat.Rcheck/PhenStat-Ex.timings

nameusersystemelapsed
FisherExactTest0.0480.0040.053
JSONOutput0.3460.0140.361
LRDataset0.0160.0030.018
PhenList-class0.0550.0040.059
PhenList0.0560.0020.057
PhenStatReport0.0110.0000.011
PhenTestResult-class0.3020.0080.312
PhenTestResult0.2550.0030.258
RRTest0.0300.0030.032
TFDataset0.0630.0060.070
analysedDataset0.2810.0040.286
analysisResults0.2810.0030.283
boxplotResidualBatch0.2990.0040.303
boxplotSexGenotype0.0210.0010.023
boxplotSexGenotypeBatch0.0360.0030.039
boxplotSexGenotypeBatchAdjusted0.0190.0010.020
boxplotSexGenotypeResult0.3520.0080.360
boxplotSexGenotypeWeightBatchAdjusted0.0190.0010.020
categoricalBarplot0.1680.0050.173
checkDataset0.0110.0010.011
classificationTag0.2740.0060.280
determiningLambda0.2960.1280.425
dim0.0110.0000.011
finalLRModel0.1590.0110.172
finalModel0.2470.0040.254
finalTFModel0.1390.0100.153
htestPhenStat-class0.0380.0030.042
modelFormula0.0010.0000.000
modelFormulaLR0.0000.0000.001
parserOutputSummary0.2940.0120.307
parserOutputSummaryLR0.1410.0130.154
parserOutputTFSummary0.0290.0000.030
performReverseTransformation000
performTransformation000
plot.PhenList0.9200.0310.967
plot.PhenTestResult0.9120.0290.942
plotResidualPredicted0.2870.0120.300
printLROutput0.1360.0080.145
printTabStyle000
qqplotGenotype0.2880.0100.298
qqplotRandomEffects0.2890.0090.299
qqplotRotatedResiduals1.7820.0171.805
recommendMethod0.0620.0070.069
scatterplotGenotypeWeight0.0560.0050.061
scatterplotGenotypeWeightResult0.3490.0090.358
scatterplotSexGenotypeBatch0.0260.0020.028
scatterplotSexGenotypeBatchResult0.3400.0080.349
startLRModel0.1290.0050.134
startModel0.2250.0020.227
startTFModel0.1150.0070.122
summaryOutput0.4400.0150.456
summaryPhenListResult0.3180.0140.332
testDataset0.9050.0380.961
testFinalLRModel0.1470.0080.156
testFinalModel0.3790.0070.423
vectorOutput0.3180.0100.331
vectorOutputMatrices0.0400.0040.044