Back to Multiple platform build/check report for BioC 3.21:   simplified   long
ABCDEFGHIJKLMNO[P]QRSTUVWXYZ

This page was generated on 2025-02-04 11:43 -0500 (Tue, 04 Feb 2025).

HostnameOSArch (*)R versionInstalled pkgs
nebbiolo1Linux (Ubuntu 24.04.1 LTS)x86_64R Under development (unstable) (2025-01-20 r87609) -- "Unsuffered Consequences" 4716
palomino7Windows Server 2022 Datacenterx64R Under development (unstable) (2025-01-21 r87610 ucrt) -- "Unsuffered Consequences" 4478
lconwaymacOS 12.7.1 Montereyx86_64R Under development (unstable) (2025-01-22 r87618) -- "Unsuffered Consequences" 4489
kjohnson3macOS 13.7.1 Venturaarm64R Under development (unstable) (2025-01-20 r87609) -- "Unsuffered Consequences" 4442
Click on any hostname to see more info about the system (e.g. compilers)      (*) as reported by 'uname -p', except on Windows and Mac OS X

Package 1545/2295HostnameOS / ArchINSTALLBUILDCHECKBUILD BIN
PhenStat 2.43.0  (landing page)
Hamed Haselimashhadi
Snapshot Date: 2025-02-03 13:40 -0500 (Mon, 03 Feb 2025)
git_url: https://git.bioconductor.org/packages/PhenStat
git_branch: devel
git_last_commit: 59cb12c
git_last_commit_date: 2024-10-29 09:49:35 -0500 (Tue, 29 Oct 2024)
nebbiolo1Linux (Ubuntu 24.04.1 LTS) / x86_64  OK    OK    OK  UNNEEDED, same version is already published
palomino7Windows Server 2022 Datacenter / x64  OK    OK    OK    OK  UNNEEDED, same version is already published
lconwaymacOS 12.7.1 Monterey / x86_64  OK    OK    OK    OK  UNNEEDED, same version is already published
kjohnson3macOS 13.7.1 Ventura / arm64  OK    OK    OK    OK  UNNEEDED, same version is already published


CHECK results for PhenStat on lconway

To the developers/maintainers of the PhenStat package:
- Allow up to 24 hours (and sometimes 48 hours) for your latest push to git@git.bioconductor.org:packages/PhenStat.git to reflect on this report. See Troubleshooting Build Report for more information.
- Use the following Renviron settings to reproduce errors and warnings.
- If 'R CMD check' started to fail recently on the Linux builder(s) over a missing dependency, add the missing dependency to 'Suggests:' in your DESCRIPTION file. See Renviron.bioc for more information.

raw results


Summary

Package: PhenStat
Version: 2.43.0
Command: /Library/Frameworks/R.framework/Resources/bin/R CMD check --install=check:PhenStat.install-out.txt --library=/Library/Frameworks/R.framework/Resources/library --no-vignettes --timings PhenStat_2.43.0.tar.gz
StartedAt: 2025-02-03 22:26:03 -0500 (Mon, 03 Feb 2025)
EndedAt: 2025-02-03 22:28:29 -0500 (Mon, 03 Feb 2025)
EllapsedTime: 146.2 seconds
RetCode: 0
Status:   OK  
CheckDir: PhenStat.Rcheck
Warnings: 0

Command output

##############################################################################
##############################################################################
###
### Running command:
###
###   /Library/Frameworks/R.framework/Resources/bin/R CMD check --install=check:PhenStat.install-out.txt --library=/Library/Frameworks/R.framework/Resources/library --no-vignettes --timings PhenStat_2.43.0.tar.gz
###
##############################################################################
##############################################################################


* using log directory ‘/Users/biocbuild/bbs-3.21-bioc/meat/PhenStat.Rcheck’
* using R Under development (unstable) (2025-01-22 r87618)
* using platform: x86_64-apple-darwin20
* R was compiled by
    Apple clang version 14.0.0 (clang-1400.0.29.202)
    GNU Fortran (GCC) 14.2.0
* running under: macOS Monterey 12.7.6
* using session charset: UTF-8
* using option ‘--no-vignettes’
* checking for file ‘PhenStat/DESCRIPTION’ ... OK
* checking extension type ... Package
* this is package ‘PhenStat’ version ‘2.43.0’
* checking package namespace information ... OK
* checking package dependencies ... OK
* checking if this is a source package ... OK
* checking if there is a namespace ... OK
* checking for hidden files and directories ... OK
* checking for portable file names ... OK
* checking for sufficient/correct file permissions ... OK
* checking whether package ‘PhenStat’ can be installed ... OK
* checking installed package size ... OK
* checking package directory ... OK
* checking ‘build’ directory ... OK
* checking DESCRIPTION meta-information ... OK
* checking top-level files ... OK
* checking for left-over files ... OK
* checking index information ... OK
* checking package subdirectories ... OK
* checking code files for non-ASCII characters ... OK
* checking R files for syntax errors ... OK
* checking whether the package can be loaded ... OK
* checking whether the package can be loaded with stated dependencies ... OK
* checking whether the package can be unloaded cleanly ... OK
* checking whether the namespace can be loaded with stated dependencies ... OK
* checking whether the namespace can be unloaded cleanly ... OK
* checking whether startup messages can be suppressed ... OK
* checking dependencies in R code ... NOTE
Namespace in Imports field not imported from: ‘SmoothWin’
  All declared Imports should be used.
* checking S3 generic/method consistency ... OK
* checking replacement functions ... OK
* checking foreign function calls ... OK
* checking R code for possible problems ... OK
* checking Rd files ... NOTE
checkRd: (-1) plot.PhenList.Rd:49-53: Lost braces
    49 |       \item boxplotSexGenotype. See documentations for {
       |                                                        ^
checkRd: (-1) plot.PhenList.Rd:54-58: Lost braces
    54 |       \item boxplotSexGenotypeBatchAdjusted. See documentations for {
       |                                                                     ^
checkRd: (-1) plot.PhenList.Rd:59-63: Lost braces
    59 |       \item boxplotSexGenotypeWeightBatchAdjusted. See documentations for {
       |                                                                           ^
checkRd: (-1) plot.PhenList.Rd:64-68: Lost braces
    64 |       \item scatterplotSexGenotypeBatch. See documentations for {
       |                                                                 ^
checkRd: (-1) plot.PhenList.Rd:69-73: Lost braces
    69 |       \item scatterplotGenotypeWeight. See documentations for {
       |                                                               ^
checkRd: (-1) plot.PhenList.Rd:74-78: Lost braces
    74 |       \item boxplotSexGenotypeBatch. See documentations for {
       |                                                             ^
checkRd: (-1) plot.PhenTestResult.Rd:41-45: Lost braces
    41 |       \item boxplotSexGenotypeResult. See documentations for {
       |                                                              ^
checkRd: (-1) plot.PhenTestResult.Rd:46-50: Lost braces
    46 |       \item scatterplotSexGenotypeBatchResult. See documentations for {
       |                                                                       ^
checkRd: (-1) plot.PhenTestResult.Rd:51-55: Lost braces
    51 |       \item scatterplotGenotypeWeightResult. See documentations for {
       |                                                                     ^
checkRd: (-1) plot.PhenTestResult.Rd:56-60: Lost braces
    56 |       \item plotResidualPredicted. See documentations for {
       |                                                           ^
checkRd: (-1) plot.PhenTestResult.Rd:61-65: Lost braces
    61 |       \item qqplotRandomEffects. See documentations for {
       |                                                         ^
checkRd: (-1) plot.PhenTestResult.Rd:66-70: Lost braces
    66 |       \item boxplotResidualBatch. See documentations for {
       |                                                          ^
checkRd: (-1) plot.PhenTestResult.Rd:71-75: Lost braces
    71 |       \item qqplotRotatedResiduals. See documentations for {
       |                                                            ^
checkRd: (-1) plot.PhenTestResult.Rd:76-80: Lost braces
    76 |       \item qqplotGenotype. See documentations for {
       |                                                    ^
checkRd: (-1) plot.PhenTestResult.Rd:81-85: Lost braces
    81 |       \item categoricalBarplot. See documentations for {
       |                                                        ^
checkRd: (-1) qqplotRotatedResiduals.Rd:18: Lost braces
    18 |     Houseman, E. A., Ryan, L. M., Coull, B. A. (2004): Cholesky residuals for assessing normal errors in a linear model with correlated outcomes. \emph{Journal of the American Statistical Association} \bold{99}{466}: pg 383-394. Doi 10.1198
       |                                                                                                                                                                                                                   ^
* checking Rd metadata ... OK
* checking Rd cross-references ... OK
* checking for missing documentation entries ... OK
* checking for code/documentation mismatches ... OK
* checking Rd \usage sections ... NOTE
Documented arguments not in \usage in Rd file 'printLROutput.Rd':
  ‘effectValues’

Functions with \usage entries need to have the appropriate \alias
entries, and all their arguments documented.
The \usage entries must correspond to syntactically valid R code.
See chapter ‘Writing R documentation files’ in the ‘Writing R
Extensions’ manual.
* checking Rd contents ... NOTE
Argument items with no description in Rd file 'plot.PhenList.Rd':
  ‘\dots’
Argument items with no description in Rd file 'plot.PhenTestResult.Rd':
  ‘\dots’
* checking for unstated dependencies in examples ... OK
* checking sizes of PDF files under ‘inst/doc’ ... OK
* checking installed files from ‘inst/doc’ ... OK
* checking files in ‘vignettes’ ... OK
* checking examples ... OK
* checking for unstated dependencies in ‘tests’ ... OK
* checking tests ...
  Running ‘runTests.R’
 OK
* checking for unstated dependencies in vignettes ... OK
* checking package vignettes ... OK
* checking running R code from vignettes ... SKIPPED
* checking re-building of vignette outputs ... SKIPPED
* checking PDF version of manual ... OK
* DONE

Status: 4 NOTEs
See
  ‘/Users/biocbuild/bbs-3.21-bioc/meat/PhenStat.Rcheck/00check.log’
for details.


Installation output

PhenStat.Rcheck/00install.out

##############################################################################
##############################################################################
###
### Running command:
###
###   /Library/Frameworks/R.framework/Resources/bin/R CMD INSTALL PhenStat
###
##############################################################################
##############################################################################


* installing to library ‘/Library/Frameworks/R.framework/Versions/4.5-x86_64/Resources/library’
* installing *source* package ‘PhenStat’ ...
** this is package ‘PhenStat’ version ‘2.43.0’
** using staged installation
** R
** inst
** byte-compile and prepare package for lazy loading
** help
*** installing help indices
** building package indices
** installing vignettes
** testing if installed package can be loaded from temporary location
** testing if installed package can be loaded from final location
** testing if installed package keeps a record of temporary installation path
* DONE (PhenStat)

Tests output

PhenStat.Rcheck/tests/runTests.Rout


R Under development (unstable) (2025-01-22 r87618) -- "Unsuffered Consequences"
Copyright (C) 2025 The R Foundation for Statistical Computing
Platform: x86_64-apple-darwin20

R is free software and comes with ABSOLUTELY NO WARRANTY.
You are welcome to redistribute it under certain conditions.
Type 'license()' or 'licence()' for distribution details.

R is a collaborative project with many contributors.
Type 'contributors()' for more information and
'citation()' on how to cite R or R packages in publications.

Type 'demo()' for some demos, 'help()' for on-line help, or
'help.start()' for an HTML browser interface to help.
Type 'q()' to quit R.

> BiocGenerics:::testPackage("PhenStat")

 >=========================================================================<
 This version of PhenStat includes *FEWER* functions than the previous ones 
 You *still* can use the previous functions by using `:::`. For example :   
 PhenStat:::boxplotSexGenotype   or   PhenStat:::FisherExactTest            
 *** Want to know what is new in this version? run PhenStat:::WhatIsNew()   
 >=========================================================================<


RUNIT TEST PROTOCOL -- Mon Feb  3 22:28:18 2025 
*********************************************** 
Number of test functions: 0 
Number of errors: 0 
Number of failures: 0 

 
1 Test Suite : 
PhenStat RUnit Tests - 0 test functions, 0 errors, 0 failures
Number of test functions: 0 
Number of errors: 0 
Number of failures: 0 
> 
> proc.time()
   user  system elapsed 
  3.337   0.325   3.674 

Example timings

PhenStat.Rcheck/PhenStat-Ex.timings

nameusersystemelapsed
FisherExactTest0.1600.0170.179
JSONOutput0.9610.0341.003
LRDataset0.0610.0050.068
PhenList-class0.1640.0090.175
PhenList0.1640.0070.175
PhenStatReport0.0480.0020.049
PhenTestResult-class0.8260.0210.857
PhenTestResult0.6880.0090.700
RRTest0.0830.0040.087
TFDataset0.2720.0170.291
analysedDataset0.8150.0200.839
analysisResults0.7540.0130.772
boxplotResidualBatch0.8010.0140.818
boxplotSexGenotype0.0760.0070.086
boxplotSexGenotypeBatch0.1150.0060.122
boxplotSexGenotypeBatchAdjusted0.0660.0030.070
boxplotSexGenotypeResult0.9500.0170.972
boxplotSexGenotypeWeightBatchAdjusted0.0580.0020.061
categoricalBarplot0.1310.0040.137
checkDataset0.0300.0010.031
classificationTag1.0450.0131.065
determiningLambda0.6340.2590.908
dim0.0540.0120.066
finalLRModel0.5160.0080.530
finalModel0.6530.0080.667
finalTFModel0.4210.0140.437
htestPhenStat-class0.1080.0070.116
modelFormula0.0000.0000.001
modelFormulaLR000
parserOutputSummary0.7160.0110.732
parserOutputSummaryLR0.4250.0100.438
parserOutputTFSummary0.1000.0020.104
performReverseTransformation0.0000.0000.001
performTransformation0.0000.0010.000
plot.PhenList2.4640.0812.569
plot.PhenTestResult2.4730.0692.566
plotResidualPredicted0.7440.0140.762
printLROutput0.4800.0230.510
printTabStyle0.0010.0000.001
qqplotGenotype0.8520.0120.871
qqplotRandomEffects0.7870.0120.807
qqplotRotatedResiduals4.4850.0544.567
recommendMethod0.1930.0120.206
scatterplotGenotypeWeight0.1530.0080.163
scatterplotGenotypeWeightResult1.0090.0131.029
scatterplotSexGenotypeBatch0.0850.0050.092
scatterplotSexGenotypeBatchResult0.9990.0141.020
startLRModel0.4300.0090.442
startModel0.6490.0070.660
startTFModel0.4290.0080.439
summaryOutput0.9490.0120.970
summaryPhenListResult1.2060.0341.248
testDataset2.4360.0762.531
testFinalLRModel0.4430.0080.454
testFinalModel0.9300.0090.943
vectorOutput0.8910.0180.914
vectorOutputMatrices0.1380.0070.146