Back to Multiple platform build/check report for BioC 3.21:   simplified   long
ABCDEFGHIJKLMNO[P]QRSTUVWXYZ

This page was generated on 2025-02-06 11:44 -0500 (Thu, 06 Feb 2025).

HostnameOSArch (*)R versionInstalled pkgs
nebbiolo1Linux (Ubuntu 24.04.1 LTS)x86_64R Under development (unstable) (2025-01-20 r87609) -- "Unsuffered Consequences" 4719
palomino7Windows Server 2022 Datacenterx64R Under development (unstable) (2025-01-21 r87610 ucrt) -- "Unsuffered Consequences" 4480
lconwaymacOS 12.7.1 Montereyx86_64R Under development (unstable) (2025-01-22 r87618) -- "Unsuffered Consequences" 4491
kjohnson3macOS 13.7.1 Venturaarm64R Under development (unstable) (2025-01-20 r87609) -- "Unsuffered Consequences" 4444
Click on any hostname to see more info about the system (e.g. compilers)      (*) as reported by 'uname -p', except on Windows and Mac OS X

Package 1550/2295HostnameOS / ArchINSTALLBUILDCHECKBUILD BIN
PhyloProfile 1.99.3  (landing page)
Vinh Tran
Snapshot Date: 2025-02-05 13:48 -0500 (Wed, 05 Feb 2025)
git_url: https://git.bioconductor.org/packages/PhyloProfile
git_branch: devel
git_last_commit: e36b906
git_last_commit_date: 2025-02-04 04:52:36 -0500 (Tue, 04 Feb 2025)
nebbiolo1Linux (Ubuntu 24.04.1 LTS) / x86_64  OK    OK    OK  UNNEEDED, same version is already published
palomino7Windows Server 2022 Datacenter / x64  OK    OK    OK    OK  UNNEEDED, same version is already published
lconwaymacOS 12.7.1 Monterey / x86_64  OK    OK    OK    OK  UNNEEDED, same version is already published
kjohnson3macOS 13.7.1 Ventura / arm64  OK    OK    OK    OK  UNNEEDED, same version is already published


CHECK results for PhyloProfile on kjohnson3

To the developers/maintainers of the PhyloProfile package:
- Allow up to 24 hours (and sometimes 48 hours) for your latest push to git@git.bioconductor.org:packages/PhyloProfile.git to reflect on this report. See Troubleshooting Build Report for more information.
- Use the following Renviron settings to reproduce errors and warnings.
- If 'R CMD check' started to fail recently on the Linux builder(s) over a missing dependency, add the missing dependency to 'Suggests:' in your DESCRIPTION file. See Renviron.bioc for more information.

raw results


Summary

Package: PhyloProfile
Version: 1.99.3
Command: /Library/Frameworks/R.framework/Resources/bin/R CMD check --install=check:PhyloProfile.install-out.txt --library=/Library/Frameworks/R.framework/Resources/library --no-vignettes --timings PhyloProfile_1.99.3.tar.gz
StartedAt: 2025-02-05 20:45:38 -0500 (Wed, 05 Feb 2025)
EndedAt: 2025-02-05 20:46:54 -0500 (Wed, 05 Feb 2025)
EllapsedTime: 75.9 seconds
RetCode: 0
Status:   OK  
CheckDir: PhyloProfile.Rcheck
Warnings: 0

Command output

##############################################################################
##############################################################################
###
### Running command:
###
###   /Library/Frameworks/R.framework/Resources/bin/R CMD check --install=check:PhyloProfile.install-out.txt --library=/Library/Frameworks/R.framework/Resources/library --no-vignettes --timings PhyloProfile_1.99.3.tar.gz
###
##############################################################################
##############################################################################


* using log directory ‘/Users/biocbuild/bbs-3.21-bioc/meat/PhyloProfile.Rcheck’
* using R Under development (unstable) (2025-01-20 r87609)
* using platform: aarch64-apple-darwin20
* R was compiled by
    Apple clang version 14.0.0 (clang-1400.0.29.202)
    GNU Fortran (GCC) 14.2.0
* running under: macOS Ventura 13.7.1
* using session charset: UTF-8
* using option ‘--no-vignettes’
* checking for file ‘PhyloProfile/DESCRIPTION’ ... OK
* this is package ‘PhyloProfile’ version ‘1.99.3’
* package encoding: UTF-8
* checking package namespace information ... OK
* checking package dependencies ... INFO
Imports includes 31 non-default packages.
Importing from so many packages makes the package vulnerable to any of
them becoming unavailable.  Move as many as possible to Suggests and
use conditionally.
* checking if this is a source package ... OK
* checking if there is a namespace ... OK
* checking for hidden files and directories ... OK
* checking for portable file names ... OK
* checking for sufficient/correct file permissions ... OK
* checking whether package ‘PhyloProfile’ can be installed ... OK
* checking installed package size ... OK
* checking package directory ... OK
* checking ‘build’ directory ... OK
* checking DESCRIPTION meta-information ... OK
* checking top-level files ... OK
* checking for left-over files ... OK
* checking index information ... OK
* checking package subdirectories ... OK
* checking code files for non-ASCII characters ... OK
* checking R files for syntax errors ... OK
* checking whether the package can be loaded ... OK
* checking whether the package can be loaded with stated dependencies ... OK
* checking whether the package can be unloaded cleanly ... OK
* checking whether the namespace can be loaded with stated dependencies ... OK
* checking whether the namespace can be unloaded cleanly ... OK
* checking dependencies in R code ... OK
* checking S3 generic/method consistency ... OK
* checking replacement functions ... OK
* checking foreign function calls ... OK
* checking R code for possible problems ... OK
* checking Rd files ... OK
* checking Rd metadata ... OK
* checking Rd cross-references ... OK
* checking for missing documentation entries ... OK
* checking for code/documentation mismatches ... OK
* checking Rd \usage sections ... OK
* checking Rd contents ... OK
* checking for unstated dependencies in examples ... OK
* checking contents of ‘data’ directory ... OK
* checking data for non-ASCII characters ... OK
* checking data for ASCII and uncompressed saves ... OK
* checking files in ‘vignettes’ ... OK
* checking examples ... OK
* checking for unstated dependencies in ‘tests’ ... OK
* checking tests ...
  Running ‘testthat.R’
 OK
* checking for unstated dependencies in vignettes ... OK
* checking package vignettes ... OK
* checking running R code from vignettes ... SKIPPED
* checking re-building of vignette outputs ... SKIPPED
* checking PDF version of manual ... OK
* DONE

Status: OK


Installation output

PhyloProfile.Rcheck/00install.out

##############################################################################
##############################################################################
###
### Running command:
###
###   /Library/Frameworks/R.framework/Resources/bin/R CMD INSTALL PhyloProfile
###
##############################################################################
##############################################################################


* installing to library ‘/Library/Frameworks/R.framework/Versions/4.5-arm64/Resources/library’
* installing *source* package ‘PhyloProfile’ ...
** this is package ‘PhyloProfile’ version ‘1.99.3’
** using staged installation
** R
** data
** inst
** byte-compile and prepare package for lazy loading
** help
*** installing help indices
** building package indices
** installing vignettes
** testing if installed package can be loaded from temporary location
** testing if installed package can be loaded from final location
** testing if installed package keeps a record of temporary installation path
* DONE (PhyloProfile)

Tests output

PhyloProfile.Rcheck/tests/testthat.Rout


R Under development (unstable) (2025-01-20 r87609) -- "Unsuffered Consequences"
Copyright (C) 2025 The R Foundation for Statistical Computing
Platform: aarch64-apple-darwin20

R is free software and comes with ABSOLUTELY NO WARRANTY.
You are welcome to redistribute it under certain conditions.
Type 'license()' or 'licence()' for distribution details.

R is a collaborative project with many contributors.
Type 'contributors()' for more information and
'citation()' on how to cite R or R packages in publications.

Type 'demo()' for some demos, 'help()' for on-line help, or
'help.start()' for an HTML browser interface to help.
Type 'q()' to quit R.

> library(testthat)
> library(PhyloProfile)
> 
> test_check("PhyloProfile")
[ FAIL 0 | WARN 0 | SKIP 0 | PASS 22 ]
> 
> proc.time()
   user  system elapsed 
  3.011   0.187   3.203 

Example timings

PhyloProfile.Rcheck/PhyloProfile-Ex.timings

nameusersystemelapsed
addDimRedTaxaColors0.5460.0160.563
addFeatureColors0.0100.0010.012
addRankDivisionPlot0.2250.0060.232
calcPresSpec0.0130.0010.014
checkColorPalette000
checkInputValidity0.0020.0000.002
checkNewick0.0010.0000.001
checkOmaID000
checkOverlapDomains0.0040.0000.005
clusterDataDend0.0050.0000.007
compareMedianTaxonGroups0.0080.0020.009
compareTaxonGroups0.0110.0010.011
createArchiPlot0.6050.0070.611
createDimRedPlotData0.2320.0050.237
createGeneAgePlot0.0630.0010.064
createLongMatrix0.0060.0020.008
createPercentageDistributionData0.0240.0050.028
createProfileFromOma000
createUnrootedTree0.0040.0010.005
createVarDistPlot0.0500.0000.051
createVariableDistributionData0.0020.0010.004
createVariableDistributionDataSubset0.0020.0010.003
dataCustomizedPlot0.0110.0000.011
dataFeatureTaxGroup0.0040.0000.005
dataMainPlot0.0130.0040.017
dataVarDistTaxGroup0.0020.0010.003
dimReduction0.4710.0030.474
estimateGeneAge0.0410.0040.046
fastaParser0.010.000.01
featureDistTaxPlot0.0560.0010.057
filterProfileData0.0430.0090.052
fromInputToProfile0.0340.0040.038
geneAgePlotDf0.0030.0000.002
generateSinglePlot0.1090.0010.110
getAllDomainsOma000
getAllFastaOma000
getCommonAncestor0.0230.0070.030
getCoreGene0.0330.0040.037
getDataClustering0.0050.0010.006
getDataForOneOma000
getDendrogram0.0150.0010.015
getDistanceMatrix0.0050.0010.005
getDomainFolder000
getFastaFromFasInput0.0050.0000.005
getFastaFromFile0.0030.0010.003
getFastaFromFolder0.0020.0000.002
getIDsRank0.0050.0010.006
getInputTaxaID0.0010.0000.001
getInputTaxaName0.0040.0010.004
getNameList0.0060.0060.013
getOmaDataForOneOrtholog000
getOmaDomainFromURL000
getOmaMembers000
getQualColForVector0.0000.0000.001
getSelectedFastaOma0.0000.0010.000
getSelectedTaxonNames0.0060.0010.008
getTaxHierarchy0.0040.0000.006
getTaxonomyInfo0.0040.0000.004
getTaxonomyMatrix0.0310.0250.055
getTaxonomyRanks0.0000.0000.001
gridArrangeSharedLegend000
groupLabelDimRedData0.0180.0030.021
heatmapPlotting0.0850.0040.090
heatmapPlottingFast1.7410.0431.631
highlightProfilePlot0.0980.0010.099
id2name0.0010.0010.002
joinPlotMergeLegends0.1690.0070.176
linearizeArchitecture0.0030.0010.003
mainTaxonomyRank000
modifyFeatureName0.0060.0040.011
pairDomainPlotting0.1310.0010.132
parseDomainInput0.0060.0040.009
parseInfoProfile0.0470.0040.050
plotDimRed0.3140.0060.320
plotDimRed3D0.3220.0120.334
prepareDimRedData0.0160.0030.018
processNcbiTaxonomy000
processOrthoID0.0450.0230.089
qualitativeColours0.0010.0000.001
rankIndexing0.0140.0010.014
reduceProfile0.0040.0020.006
resolveOverlapFeatures0.0050.0000.005
runPhyloProfile000
singleDomainPlotting0.0550.0010.056
sortDomains0.0030.0000.003
sortDomainsByList0.0030.0010.004
sortInputTaxa0.0160.0030.019
sortTaxaFromTree0.0040.0010.004
taxonomyTableCreator0.0280.0010.029
varDistTaxPlot0.2540.0040.263
wideToLong0.0040.0020.007
xmlParser0.0060.0010.007