Back to Multiple platform build/check report for BioC 3.21:   simplified   long
ABCDEFGHIJKLMNO[P]QRSTUVWXYZ

This page was generated on 2025-02-06 11:42 -0500 (Thu, 06 Feb 2025).

HostnameOSArch (*)R versionInstalled pkgs
nebbiolo1Linux (Ubuntu 24.04.1 LTS)x86_64R Under development (unstable) (2025-01-20 r87609) -- "Unsuffered Consequences" 4719
palomino7Windows Server 2022 Datacenterx64R Under development (unstable) (2025-01-21 r87610 ucrt) -- "Unsuffered Consequences" 4480
lconwaymacOS 12.7.1 Montereyx86_64R Under development (unstable) (2025-01-22 r87618) -- "Unsuffered Consequences" 4491
kjohnson3macOS 13.7.1 Venturaarm64R Under development (unstable) (2025-01-20 r87609) -- "Unsuffered Consequences" 4444
Click on any hostname to see more info about the system (e.g. compilers)      (*) as reported by 'uname -p', except on Windows and Mac OS X

Package 1550/2295HostnameOS / ArchINSTALLBUILDCHECKBUILD BIN
PhyloProfile 1.99.3  (landing page)
Vinh Tran
Snapshot Date: 2025-02-05 13:48 -0500 (Wed, 05 Feb 2025)
git_url: https://git.bioconductor.org/packages/PhyloProfile
git_branch: devel
git_last_commit: e36b906
git_last_commit_date: 2025-02-04 04:52:36 -0500 (Tue, 04 Feb 2025)
nebbiolo1Linux (Ubuntu 24.04.1 LTS) / x86_64  OK    OK    OK  UNNEEDED, same version is already published
palomino7Windows Server 2022 Datacenter / x64  OK    OK    OK    OK  UNNEEDED, same version is already published
lconwaymacOS 12.7.1 Monterey / x86_64  OK    OK    OK    OK  UNNEEDED, same version is already published
kjohnson3macOS 13.7.1 Ventura / arm64  OK    OK    OK    OK  UNNEEDED, same version is already published


CHECK results for PhyloProfile on lconway

To the developers/maintainers of the PhyloProfile package:
- Allow up to 24 hours (and sometimes 48 hours) for your latest push to git@git.bioconductor.org:packages/PhyloProfile.git to reflect on this report. See Troubleshooting Build Report for more information.
- Use the following Renviron settings to reproduce errors and warnings.
- If 'R CMD check' started to fail recently on the Linux builder(s) over a missing dependency, add the missing dependency to 'Suggests:' in your DESCRIPTION file. See Renviron.bioc for more information.

raw results


Summary

Package: PhyloProfile
Version: 1.99.3
Command: /Library/Frameworks/R.framework/Resources/bin/R CMD check --install=check:PhyloProfile.install-out.txt --library=/Library/Frameworks/R.framework/Resources/library --no-vignettes --timings PhyloProfile_1.99.3.tar.gz
StartedAt: 2025-02-05 22:23:07 -0500 (Wed, 05 Feb 2025)
EndedAt: 2025-02-05 22:26:50 -0500 (Wed, 05 Feb 2025)
EllapsedTime: 222.8 seconds
RetCode: 0
Status:   OK  
CheckDir: PhyloProfile.Rcheck
Warnings: 0

Command output

##############################################################################
##############################################################################
###
### Running command:
###
###   /Library/Frameworks/R.framework/Resources/bin/R CMD check --install=check:PhyloProfile.install-out.txt --library=/Library/Frameworks/R.framework/Resources/library --no-vignettes --timings PhyloProfile_1.99.3.tar.gz
###
##############################################################################
##############################################################################


* using log directory ‘/Users/biocbuild/bbs-3.21-bioc/meat/PhyloProfile.Rcheck’
* using R Under development (unstable) (2025-01-22 r87618)
* using platform: x86_64-apple-darwin20
* R was compiled by
    Apple clang version 14.0.0 (clang-1400.0.29.202)
    GNU Fortran (GCC) 14.2.0
* running under: macOS Monterey 12.7.6
* using session charset: UTF-8
* using option ‘--no-vignettes’
* checking for file ‘PhyloProfile/DESCRIPTION’ ... OK
* this is package ‘PhyloProfile’ version ‘1.99.3’
* package encoding: UTF-8
* checking package namespace information ... OK
* checking package dependencies ... INFO
Imports includes 31 non-default packages.
Importing from so many packages makes the package vulnerable to any of
them becoming unavailable.  Move as many as possible to Suggests and
use conditionally.
* checking if this is a source package ... OK
* checking if there is a namespace ... OK
* checking for hidden files and directories ... OK
* checking for portable file names ... OK
* checking for sufficient/correct file permissions ... OK
* checking whether package ‘PhyloProfile’ can be installed ... OK
* checking installed package size ... OK
* checking package directory ... OK
* checking ‘build’ directory ... OK
* checking DESCRIPTION meta-information ... OK
* checking top-level files ... OK
* checking for left-over files ... OK
* checking index information ... OK
* checking package subdirectories ... OK
* checking code files for non-ASCII characters ... OK
* checking R files for syntax errors ... OK
* checking whether the package can be loaded ... OK
* checking whether the package can be loaded with stated dependencies ... OK
* checking whether the package can be unloaded cleanly ... OK
* checking whether the namespace can be loaded with stated dependencies ... OK
* checking whether the namespace can be unloaded cleanly ... OK
* checking dependencies in R code ... OK
* checking S3 generic/method consistency ... OK
* checking replacement functions ... OK
* checking foreign function calls ... OK
* checking R code for possible problems ... OK
* checking Rd files ... OK
* checking Rd metadata ... OK
* checking Rd cross-references ... OK
* checking for missing documentation entries ... OK
* checking for code/documentation mismatches ... OK
* checking Rd \usage sections ... OK
* checking Rd contents ... OK
* checking for unstated dependencies in examples ... OK
* checking contents of ‘data’ directory ... OK
* checking data for non-ASCII characters ... OK
* checking data for ASCII and uncompressed saves ... OK
* checking files in ‘vignettes’ ... OK
* checking examples ... OK
* checking for unstated dependencies in ‘tests’ ... OK
* checking tests ...
  Running ‘testthat.R’
 OK
* checking for unstated dependencies in vignettes ... OK
* checking package vignettes ... OK
* checking running R code from vignettes ... SKIPPED
* checking re-building of vignette outputs ... SKIPPED
* checking PDF version of manual ... OK
* DONE

Status: OK


Installation output

PhyloProfile.Rcheck/00install.out

##############################################################################
##############################################################################
###
### Running command:
###
###   /Library/Frameworks/R.framework/Resources/bin/R CMD INSTALL PhyloProfile
###
##############################################################################
##############################################################################


* installing to library ‘/Library/Frameworks/R.framework/Versions/4.5-x86_64/Resources/library’
* installing *source* package ‘PhyloProfile’ ...
** this is package ‘PhyloProfile’ version ‘1.99.3’
** using staged installation
** R
** data
** inst
** byte-compile and prepare package for lazy loading
** help
*** installing help indices
** building package indices
** installing vignettes
** testing if installed package can be loaded from temporary location
** testing if installed package can be loaded from final location
** testing if installed package keeps a record of temporary installation path
* DONE (PhyloProfile)

Tests output

PhyloProfile.Rcheck/tests/testthat.Rout


R Under development (unstable) (2025-01-22 r87618) -- "Unsuffered Consequences"
Copyright (C) 2025 The R Foundation for Statistical Computing
Platform: x86_64-apple-darwin20

R is free software and comes with ABSOLUTELY NO WARRANTY.
You are welcome to redistribute it under certain conditions.
Type 'license()' or 'licence()' for distribution details.

R is a collaborative project with many contributors.
Type 'contributors()' for more information and
'citation()' on how to cite R or R packages in publications.

Type 'demo()' for some demos, 'help()' for on-line help, or
'help.start()' for an HTML browser interface to help.
Type 'q()' to quit R.

> library(testthat)
> library(PhyloProfile)
> 
> test_check("PhyloProfile")
[ FAIL 0 | WARN 0 | SKIP 0 | PASS 22 ]
> 
> proc.time()
   user  system elapsed 
  9.132   0.671   9.881 

Example timings

PhyloProfile.Rcheck/PhyloProfile-Ex.timings

nameusersystemelapsed
addDimRedTaxaColors1.4530.0711.539
addFeatureColors0.0300.0030.034
addRankDivisionPlot0.8570.0260.889
calcPresSpec0.0460.0030.048
checkColorPalette000
checkInputValidity0.0030.0010.005
checkNewick0.0020.0010.003
checkOmaID000
checkOverlapDomains0.0210.0010.022
clusterDataDend0.0220.0020.023
compareMedianTaxonGroups0.0260.0030.029
compareTaxonGroups0.0320.0030.035
createArchiPlot2.5320.0282.573
createDimRedPlotData0.7600.0190.783
createGeneAgePlot0.2510.0040.260
createLongMatrix0.0170.0070.024
createPercentageDistributionData0.0870.0140.103
createProfileFromOma0.0000.0000.001
createUnrootedTree0.0140.0010.016
createVarDistPlot0.2110.0030.215
createVariableDistributionData0.0070.0040.011
createVariableDistributionDataSubset0.0080.0020.009
dataCustomizedPlot0.0360.0020.038
dataFeatureTaxGroup0.0150.0020.018
dataMainPlot0.0460.0090.057
dataVarDistTaxGroup0.0050.0010.007
dimReduction1.4130.0171.437
estimateGeneAge0.1490.0150.166
fastaParser0.0350.0030.038
featureDistTaxPlot0.2250.0040.230
filterProfileData0.1420.0300.173
fromInputToProfile0.1280.0150.143
geneAgePlotDf0.0100.0010.010
generateSinglePlot0.4450.0090.456
getAllDomainsOma000
getAllFastaOma000
getCommonAncestor0.0310.0050.035
getCoreGene0.1160.0120.128
getDataClustering0.0210.0030.023
getDataForOneOma000
getDendrogram0.0500.0030.053
getDistanceMatrix0.0220.0010.023
getDomainFolder0.0010.0010.001
getFastaFromFasInput0.0180.0010.019
getFastaFromFile0.0130.0020.015
getFastaFromFolder0.0080.0010.009
getIDsRank0.0220.0030.024
getInputTaxaID0.0020.0010.003
getInputTaxaName0.0140.0030.017
getNameList0.0210.0220.044
getOmaDataForOneOrtholog000
getOmaDomainFromURL0.0000.0010.000
getOmaMembers000
getQualColForVector0.0000.0000.001
getSelectedFastaOma000
getSelectedTaxonNames0.0190.0050.024
getTaxHierarchy0.0180.0020.020
getTaxonomyInfo0.0150.0010.017
getTaxonomyMatrix0.0970.0870.185
getTaxonomyRanks0.0010.0000.000
gridArrangeSharedLegend000
groupLabelDimRedData0.0670.0070.073
heatmapPlotting0.3460.0070.357
heatmapPlottingFast4.0470.2104.019
highlightProfilePlot0.3680.0080.377
id2name0.0050.0010.005
joinPlotMergeLegends0.6690.0380.714
linearizeArchitecture0.0090.0000.010
mainTaxonomyRank0.0000.0010.001
modifyFeatureName0.0170.0170.035
pairDomainPlotting0.5260.0040.532
parseDomainInput0.0170.0130.029
parseInfoProfile0.1690.0130.183
plotDimRed1.0740.0161.096
plotDimRed3D1.0420.0651.114
prepareDimRedData0.0570.0090.067
processNcbiTaxonomy000
processOrthoID0.1430.0750.268
qualitativeColours0.0000.0000.001
rankIndexing0.0470.0020.049
reduceProfile0.0130.0080.021
resolveOverlapFeatures0.0200.0010.022
runPhyloProfile000
singleDomainPlotting0.2150.0040.221
sortDomains0.0070.0020.008
sortDomainsByList0.0290.0010.030
sortInputTaxa0.0370.0080.045
sortTaxaFromTree0.0120.0010.014
taxonomyTableCreator0.0950.0040.100
varDistTaxPlot0.9520.0100.969
wideToLong0.0110.0070.017
xmlParser0.0170.0020.020