Back to Multiple platform build/check report for BioC 3.21: simplified long |
|
This page was generated on 2025-02-04 11:43 -0500 (Tue, 04 Feb 2025).
Hostname | OS | Arch (*) | R version | Installed pkgs |
---|---|---|---|---|
nebbiolo1 | Linux (Ubuntu 24.04.1 LTS) | x86_64 | R Under development (unstable) (2025-01-20 r87609) -- "Unsuffered Consequences" | 4716 |
palomino7 | Windows Server 2022 Datacenter | x64 | R Under development (unstable) (2025-01-21 r87610 ucrt) -- "Unsuffered Consequences" | 4478 |
lconway | macOS 12.7.1 Monterey | x86_64 | R Under development (unstable) (2025-01-22 r87618) -- "Unsuffered Consequences" | 4489 |
kjohnson3 | macOS 13.7.1 Ventura | arm64 | R Under development (unstable) (2025-01-20 r87609) -- "Unsuffered Consequences" | 4442 |
Click on any hostname to see more info about the system (e.g. compilers) (*) as reported by 'uname -p', except on Windows and Mac OS X |
Package 1211/2295 | Hostname | OS / Arch | INSTALL | BUILD | CHECK | BUILD BIN | ||||||||
metagenomeSeq 1.49.1 (landing page) Joseph N. Paulson
| nebbiolo1 | Linux (Ubuntu 24.04.1 LTS) / x86_64 | OK | OK | OK | |||||||||
palomino7 | Windows Server 2022 Datacenter / x64 | OK | OK | OK | OK | |||||||||
lconway | macOS 12.7.1 Monterey / x86_64 | OK | OK | OK | OK | |||||||||
kjohnson3 | macOS 13.7.1 Ventura / arm64 | OK | OK | OK | OK | |||||||||
To the developers/maintainers of the metagenomeSeq package: - Allow up to 24 hours (and sometimes 48 hours) for your latest push to git@git.bioconductor.org:packages/metagenomeSeq.git to reflect on this report. See Troubleshooting Build Report for more information. - Use the following Renviron settings to reproduce errors and warnings. - If 'R CMD check' started to fail recently on the Linux builder(s) over a missing dependency, add the missing dependency to 'Suggests:' in your DESCRIPTION file. See Renviron.bioc for more information. |
Package: metagenomeSeq |
Version: 1.49.1 |
Command: /Library/Frameworks/R.framework/Resources/bin/R CMD check --install=check:metagenomeSeq.install-out.txt --library=/Library/Frameworks/R.framework/Resources/library --no-vignettes --timings metagenomeSeq_1.49.1.tar.gz |
StartedAt: 2025-02-03 21:33:49 -0500 (Mon, 03 Feb 2025) |
EndedAt: 2025-02-03 21:37:55 -0500 (Mon, 03 Feb 2025) |
EllapsedTime: 246.4 seconds |
RetCode: 0 |
Status: OK |
CheckDir: metagenomeSeq.Rcheck |
Warnings: 0 |
############################################################################## ############################################################################## ### ### Running command: ### ### /Library/Frameworks/R.framework/Resources/bin/R CMD check --install=check:metagenomeSeq.install-out.txt --library=/Library/Frameworks/R.framework/Resources/library --no-vignettes --timings metagenomeSeq_1.49.1.tar.gz ### ############################################################################## ############################################################################## * using log directory ‘/Users/biocbuild/bbs-3.21-bioc/meat/metagenomeSeq.Rcheck’ * using R Under development (unstable) (2025-01-22 r87618) * using platform: x86_64-apple-darwin20 * R was compiled by Apple clang version 14.0.0 (clang-1400.0.29.202) GNU Fortran (GCC) 14.2.0 * running under: macOS Monterey 12.7.6 * using session charset: UTF-8 * using option ‘--no-vignettes’ * checking for file ‘metagenomeSeq/DESCRIPTION’ ... OK * this is package ‘metagenomeSeq’ version ‘1.49.1’ * checking package namespace information ... OK * checking package dependencies ... OK * checking if this is a source package ... OK * checking if there is a namespace ... OK * checking for hidden files and directories ... OK * checking for portable file names ... OK * checking for sufficient/correct file permissions ... OK * checking whether package ‘metagenomeSeq’ can be installed ... OK * checking installed package size ... OK * checking package directory ... OK * checking ‘build’ directory ... OK * checking DESCRIPTION meta-information ... OK * checking top-level files ... OK * checking for left-over files ... OK * checking index information ... OK * checking package subdirectories ... OK * checking code files for non-ASCII characters ... OK * checking R files for syntax errors ... OK * checking whether the package can be loaded ... OK * checking whether the package can be loaded with stated dependencies ... OK * checking whether the package can be unloaded cleanly ... OK * checking whether the namespace can be loaded with stated dependencies ... OK * checking whether the namespace can be unloaded cleanly ... OK * checking dependencies in R code ... OK * checking S3 generic/method consistency ... OK * checking replacement functions ... OK * checking foreign function calls ... OK * checking R code for possible problems ... OK * checking Rd files ... OK * checking Rd metadata ... OK * checking Rd cross-references ... OK * checking for missing documentation entries ... OK * checking for code/documentation mismatches ... OK * checking Rd \usage sections ... OK * checking Rd contents ... OK * checking for unstated dependencies in examples ... OK * checking contents of ‘data’ directory ... OK * checking data for non-ASCII characters ... OK * checking data for ASCII and uncompressed saves ... OK * checking sizes of PDF files under ‘inst/doc’ ... OK * checking files in ‘vignettes’ ... OK * checking examples ... OK Examples with CPU (user + system) or elapsed time > 5s user system elapsed wrenchNorm 13.740 0.992 14.879 MRfulltable 1.062 0.032 5.858 * checking for unstated dependencies in ‘tests’ ... OK * checking tests ... Running ‘testthat.R’ OK * checking for unstated dependencies in vignettes ... OK * checking package vignettes ... OK * checking running R code from vignettes ... SKIPPED * checking re-building of vignette outputs ... SKIPPED * checking PDF version of manual ... OK * DONE Status: OK
metagenomeSeq.Rcheck/00install.out
############################################################################## ############################################################################## ### ### Running command: ### ### /Library/Frameworks/R.framework/Resources/bin/R CMD INSTALL metagenomeSeq ### ############################################################################## ############################################################################## * installing to library ‘/Library/Frameworks/R.framework/Versions/4.5-x86_64/Resources/library’ * installing *source* package ‘metagenomeSeq’ ... ** this is package ‘metagenomeSeq’ version ‘1.49.1’ ** using staged installation ** R ** data ** inst ** byte-compile and prepare package for lazy loading in method for ‘MRihw’ with signature ‘"fitFeatureModelResults"’: no definition for class “fitFeatureModelResults” in method for ‘MRihw’ with signature ‘"fitZigResults"’: no definition for class “fitZigResults” ** help *** installing help indices ** building package indices ** installing vignettes ** testing if installed package can be loaded from temporary location ** testing if installed package can be loaded from final location ** testing if installed package keeps a record of temporary installation path * DONE (metagenomeSeq)
metagenomeSeq.Rcheck/tests/testthat.Rout
R Under development (unstable) (2025-01-22 r87618) -- "Unsuffered Consequences" Copyright (C) 2025 The R Foundation for Statistical Computing Platform: x86_64-apple-darwin20 R is free software and comes with ABSOLUTELY NO WARRANTY. You are welcome to redistribute it under certain conditions. Type 'license()' or 'licence()' for distribution details. R is a collaborative project with many contributors. Type 'contributors()' for more information and 'citation()' on how to cite R or R packages in publications. Type 'demo()' for some demos, 'help()' for on-line help, or 'help.start()' for an HTML browser interface to help. Type 'q()' to quit R. > library("testthat") > packageVersion("metagenomeSeq") [1] '1.49.1' > # As suggested for opt-out option on testing by users, > # recommended by CRAN: http://adv-r.had.co.nz/Testing.html > # Previously, best practice was to put all test files in inst/tests > # and ensure that R CMD check ran them by putting the following code in tests/test-all.R: > # >library(testthat) > # >library(yourpackage) > # >test_package("yourpackage") > # Now, recommended practice is to put your tests in tests/testthat, > # and ensure R CMD check runs them by putting the following code in tests/test-all.R: > # >library(testthat) > # >test_check("yourpackage") > # The advantage of this new structure is that the user has control over whether or not tests are installed using the –install-tests parameter to > # R CMD install, or INSTALL_opts = c(“–install-tests”) argument to install.packages(). I’m not sure why you wouldn’t want to install the tests, > # but now you have the flexibility as requested by CRAN maintainers. > test_check("metagenomeSeq") Loading required package: metagenomeSeq Loading required package: Biobase Loading required package: BiocGenerics Loading required package: generics Attaching package: 'generics' The following objects are masked from 'package:base': as.difftime, as.factor, as.ordered, intersect, is.element, setdiff, setequal, union Attaching package: 'BiocGenerics' The following objects are masked from 'package:stats': IQR, mad, sd, var, xtabs The following objects are masked from 'package:base': Filter, Find, Map, Position, Reduce, anyDuplicated, aperm, append, as.data.frame, basename, cbind, colnames, dirname, do.call, duplicated, eval, evalq, get, grep, grepl, is.unsorted, lapply, mapply, match, mget, order, paste, pmax, pmax.int, pmin, pmin.int, rank, rbind, rownames, sapply, saveRDS, table, tapply, unique, unsplit, which.max, which.min Welcome to Bioconductor Vignettes contain introductory material; view with 'browseVignettes()'. To cite Bioconductor, see 'citation("Biobase")', and for packages 'citation("pkgname")'. Loading required package: limma Attaching package: 'limma' The following object is masked from 'package:BiocGenerics': plotMA Loading required package: glmnet Loading required package: Matrix Loaded glmnet 4.1-8 Loading required package: RColorBrewer [ FAIL 0 | WARN 6 | SKIP 0 | PASS 15 ] [ FAIL 0 | WARN 6 | SKIP 0 | PASS 15 ] > > proc.time() user system elapsed 88.595 6.518 95.822
metagenomeSeq.Rcheck/metagenomeSeq-Ex.timings
name | user | system | elapsed | |
MRcoefs | 1.163 | 0.058 | 1.226 | |
MRcounts | 0.505 | 0.020 | 0.527 | |
MRexperiment-class | 0.000 | 0.001 | 0.001 | |
MRfulltable | 1.062 | 0.032 | 5.858 | |
MRtable | 1.050 | 0.020 | 1.074 | |
aggregateBySample | 0.134 | 0.011 | 0.147 | |
aggregateByTaxonomy | 0.138 | 0.010 | 0.149 | |
biom2MRexperiment | 0.232 | 0.015 | 0.249 | |
calcNormFactors | 0.441 | 0.085 | 0.529 | |
correctIndices | 0.089 | 0.009 | 0.099 | |
correlationTest | 0.217 | 0.017 | 0.235 | |
cumNorm | 0.617 | 0.084 | 0.706 | |
cumNormMat | 0.467 | 0.117 | 0.593 | |
cumNormStat | 0.573 | 0.078 | 0.653 | |
cumNormStatFast | 0.262 | 0.026 | 0.289 | |
expSummary | 0.094 | 0.009 | 0.103 | |
exportMat | 1.120 | 2.601 | 3.745 | |
exportStats | 0.491 | 0.033 | 0.526 | |
extractMR | 0.989 | 1.158 | 2.164 | |
filterData | 0.171 | 0.011 | 0.183 | |
fitDO | 0.460 | 0.024 | 3.268 | |
fitFeatureModel | 1.120 | 0.052 | 1.184 | |
fitLogNormal | 1.770 | 0.150 | 1.931 | |
fitMultipleTimeSeries | 1.643 | 0.137 | 1.796 | |
fitPA | 0.427 | 0.022 | 3.091 | |
fitSSTimeSeries | 0.430 | 0.047 | 0.481 | |
fitTimeSeries | 0.410 | 0.025 | 0.438 | |
fitZig | 1.909 | 0.141 | 2.062 | |
libSize-set | 0.363 | 0.006 | 0.371 | |
libSize | 0.352 | 0.030 | 0.383 | |
loadBiom | 0.035 | 0.001 | 0.037 | |
loadMeta | 0.014 | 0.002 | 0.016 | |
loadMetaQ | 0.000 | 0.001 | 0.001 | |
loadPhenoData | 0.007 | 0.001 | 0.009 | |
makeLabels | 0.000 | 0.001 | 0.000 | |
mergeMRexperiments | 1.578 | 0.164 | 1.750 | |
newMRexperiment | 0.033 | 0.001 | 0.034 | |
normFactors-set | 0.381 | 0.033 | 0.417 | |
normFactors | 0.349 | 0.007 | 0.357 | |
plotBubble | 0.264 | 0.020 | 2.926 | |
plotClassTimeSeries | 1.004 | 0.101 | 1.112 | |
plotCorr | 0.442 | 0.040 | 0.487 | |
plotFeature | 0.159 | 0.012 | 0.198 | |
plotGenus | 0.127 | 0.012 | 0.141 | |
plotMRheatmap | 1.819 | 0.090 | 1.922 | |
plotOTU | 0.134 | 0.011 | 0.146 | |
plotOrd | 0.212 | 0.015 | 0.229 | |
plotRare | 0.129 | 0.015 | 0.144 | |
plotTimeSeries | 0.993 | 0.112 | 1.114 | |
posteriorProbs | 1.661 | 0.160 | 1.829 | |
returnAppropriateObj | 0.342 | 0.089 | 0.435 | |
ssFit | 0 | 0 | 0 | |
ssIntervalCandidate | 0.000 | 0.001 | 0.000 | |
ssPerm | 0.000 | 0.000 | 0.001 | |
ssPermAnalysis | 0.001 | 0.000 | 0.001 | |
trapz | 0.000 | 0.001 | 0.000 | |
ts2MRexperiment | 1.576 | 0.129 | 1.712 | |
uniqueFeatures | 0.099 | 0.012 | 0.110 | |
wrenchNorm | 13.740 | 0.992 | 14.879 | |
zigControl | 0.000 | 0.001 | 0.001 | |