Back to Multiple platform build/check report for BioC 3.21:   simplified   long
ABCDEFGHIJKL[M]NOPQRSTUVWXYZ

This page was generated on 2025-02-06 11:41 -0500 (Thu, 06 Feb 2025).

HostnameOSArch (*)R versionInstalled pkgs
nebbiolo1Linux (Ubuntu 24.04.1 LTS)x86_64R Under development (unstable) (2025-01-20 r87609) -- "Unsuffered Consequences" 4719
palomino7Windows Server 2022 Datacenterx64R Under development (unstable) (2025-01-21 r87610 ucrt) -- "Unsuffered Consequences" 4480
lconwaymacOS 12.7.1 Montereyx86_64R Under development (unstable) (2025-01-22 r87618) -- "Unsuffered Consequences" 4491
kjohnson3macOS 13.7.1 Venturaarm64R Under development (unstable) (2025-01-20 r87609) -- "Unsuffered Consequences" 4444
Click on any hostname to see more info about the system (e.g. compilers)      (*) as reported by 'uname -p', except on Windows and Mac OS X

Package 1211/2295HostnameOS / ArchINSTALLBUILDCHECKBUILD BIN
metagenomeSeq 1.49.1  (landing page)
Joseph N. Paulson
Snapshot Date: 2025-02-05 13:48 -0500 (Wed, 05 Feb 2025)
git_url: https://git.bioconductor.org/packages/metagenomeSeq
git_branch: devel
git_last_commit: 96adc06
git_last_commit_date: 2024-12-18 01:49:01 -0500 (Wed, 18 Dec 2024)
nebbiolo1Linux (Ubuntu 24.04.1 LTS) / x86_64  OK    OK    OK  UNNEEDED, same version is already published
palomino7Windows Server 2022 Datacenter / x64  OK    OK    OK    OK  UNNEEDED, same version is already published
lconwaymacOS 12.7.1 Monterey / x86_64  OK    OK    OK    OK  UNNEEDED, same version is already published
kjohnson3macOS 13.7.1 Ventura / arm64  OK    OK    OK    OK  UNNEEDED, same version is already published


CHECK results for metagenomeSeq on palomino7

To the developers/maintainers of the metagenomeSeq package:
- Allow up to 24 hours (and sometimes 48 hours) for your latest push to git@git.bioconductor.org:packages/metagenomeSeq.git to reflect on this report. See Troubleshooting Build Report for more information.
- Use the following Renviron settings to reproduce errors and warnings.
- If 'R CMD check' started to fail recently on the Linux builder(s) over a missing dependency, add the missing dependency to 'Suggests:' in your DESCRIPTION file. See Renviron.bioc for more information.

raw results


Summary

Package: metagenomeSeq
Version: 1.49.1
Command: E:\biocbuild\bbs-3.21-bioc\R\bin\R.exe CMD check --no-multiarch --install=check:metagenomeSeq.install-out.txt --library=E:\biocbuild\bbs-3.21-bioc\R\library --no-vignettes --timings metagenomeSeq_1.49.1.tar.gz
StartedAt: 2025-02-06 03:13:37 -0500 (Thu, 06 Feb 2025)
EndedAt: 2025-02-06 03:18:07 -0500 (Thu, 06 Feb 2025)
EllapsedTime: 270.3 seconds
RetCode: 0
Status:   OK  
CheckDir: metagenomeSeq.Rcheck
Warnings: 0

Command output

##############################################################################
##############################################################################
###
### Running command:
###
###   E:\biocbuild\bbs-3.21-bioc\R\bin\R.exe CMD check --no-multiarch --install=check:metagenomeSeq.install-out.txt --library=E:\biocbuild\bbs-3.21-bioc\R\library --no-vignettes --timings metagenomeSeq_1.49.1.tar.gz
###
##############################################################################
##############################################################################


* using log directory 'E:/biocbuild/bbs-3.21-bioc/meat/metagenomeSeq.Rcheck'
* using R Under development (unstable) (2025-01-21 r87610 ucrt)
* using platform: x86_64-w64-mingw32
* R was compiled by
    gcc.exe (GCC) 13.3.0
    GNU Fortran (GCC) 13.3.0
* running under: Windows Server 2022 x64 (build 20348)
* using session charset: UTF-8
* using option '--no-vignettes'
* checking for file 'metagenomeSeq/DESCRIPTION' ... OK
* this is package 'metagenomeSeq' version '1.49.1'
* checking package namespace information ... OK
* checking package dependencies ... OK
* checking if this is a source package ... OK
* checking if there is a namespace ... OK
* checking for hidden files and directories ... OK
* checking for portable file names ... OK
* checking whether package 'metagenomeSeq' can be installed ... OK
* checking installed package size ... OK
* checking package directory ... OK
* checking 'build' directory ... OK
* checking DESCRIPTION meta-information ... OK
* checking top-level files ... OK
* checking for left-over files ... OK
* checking index information ... OK
* checking package subdirectories ... OK
* checking code files for non-ASCII characters ... OK
* checking R files for syntax errors ... OK
* checking whether the package can be loaded ... OK
* checking whether the package can be loaded with stated dependencies ... OK
* checking whether the package can be unloaded cleanly ... OK
* checking whether the namespace can be loaded with stated dependencies ... OK
* checking whether the namespace can be unloaded cleanly ... OK
* checking dependencies in R code ... OK
* checking S3 generic/method consistency ... OK
* checking replacement functions ... OK
* checking foreign function calls ... OK
* checking R code for possible problems ... OK
* checking Rd files ... OK
* checking Rd metadata ... OK
* checking Rd cross-references ... OK
* checking for missing documentation entries ... OK
* checking for code/documentation mismatches ... OK
* checking Rd \usage sections ... OK
* checking Rd contents ... OK
* checking for unstated dependencies in examples ... OK
* checking contents of 'data' directory ... OK
* checking data for non-ASCII characters ... OK
* checking data for ASCII and uncompressed saves ... OK
* checking sizes of PDF files under 'inst/doc' ... OK
* checking files in 'vignettes' ... OK
* checking examples ... OK
Examples with CPU (user + system) or elapsed time > 5s
             user system elapsed
wrenchNorm  17.47   0.82   18.28
MRfulltable  1.09   0.14    5.92
* checking for unstated dependencies in 'tests' ... OK
* checking tests ...
  Running 'testthat.R'
 OK
* checking for unstated dependencies in vignettes ... OK
* checking package vignettes ... OK
* checking running R code from vignettes ... SKIPPED
* checking re-building of vignette outputs ... SKIPPED
* checking PDF version of manual ... OK
* DONE

Status: OK


Installation output

metagenomeSeq.Rcheck/00install.out

##############################################################################
##############################################################################
###
### Running command:
###
###   E:\biocbuild\bbs-3.21-bioc\R\bin\R.exe CMD INSTALL metagenomeSeq
###
##############################################################################
##############################################################################


* installing to library 'E:/biocbuild/bbs-3.21-bioc/R/library'
* installing *source* package 'metagenomeSeq' ...
** this is package 'metagenomeSeq' version '1.49.1'
** using staged installation
** R
** data
** inst
** byte-compile and prepare package for lazy loading
in method for 'MRihw' with signature '"fitFeatureModelResults"': no definition for class "fitFeatureModelResults"
in method for 'MRihw' with signature '"fitZigResults"': no definition for class "fitZigResults"
** help
*** installing help indices
** building package indices
** installing vignettes
** testing if installed package can be loaded from temporary location
** testing if installed package can be loaded from final location
** testing if installed package keeps a record of temporary installation path
* DONE (metagenomeSeq)

Tests output

metagenomeSeq.Rcheck/tests/testthat.Rout


R Under development (unstable) (2025-01-21 r87610 ucrt) -- "Unsuffered Consequences"
Copyright (C) 2025 The R Foundation for Statistical Computing
Platform: x86_64-w64-mingw32/x64

R is free software and comes with ABSOLUTELY NO WARRANTY.
You are welcome to redistribute it under certain conditions.
Type 'license()' or 'licence()' for distribution details.

R is a collaborative project with many contributors.
Type 'contributors()' for more information and
'citation()' on how to cite R or R packages in publications.

Type 'demo()' for some demos, 'help()' for on-line help, or
'help.start()' for an HTML browser interface to help.
Type 'q()' to quit R.

> library("testthat")
> packageVersion("metagenomeSeq")
[1] '1.49.1'
> # As suggested for opt-out option on testing by users, 
> # recommended by CRAN: http://adv-r.had.co.nz/Testing.html
> # Previously, best practice was to put all test files in inst/tests 
> # and ensure that R CMD check ran them by putting the following code in tests/test-all.R:  
> # >library(testthat)
> # >library(yourpackage)
> # >test_package("yourpackage")
> # Now, recommended practice is to put your tests in tests/testthat, 
> # and ensure R CMD check runs them by putting the following code in tests/test-all.R:
> # >library(testthat)
> # >test_check("yourpackage")
> # The advantage of this new structure is that the user has control over whether or not tests are installed using the –install-tests parameter to 
> # R CMD install, or INSTALL_opts = c(“–install-tests”) argument to install.packages(). I’m not sure why you wouldn’t want to install the tests, 
> # but now you have the flexibility as requested by CRAN maintainers.
> test_check("metagenomeSeq")
Loading required package: metagenomeSeq
Loading required package: Biobase
Loading required package: BiocGenerics
Loading required package: generics

Attaching package: 'generics'

The following objects are masked from 'package:base':

    as.difftime, as.factor, as.ordered, intersect, is.element, setdiff,
    setequal, union


Attaching package: 'BiocGenerics'

The following objects are masked from 'package:stats':

    IQR, mad, sd, var, xtabs

The following objects are masked from 'package:base':

    Filter, Find, Map, Position, Reduce, anyDuplicated, aperm, append,
    as.data.frame, basename, cbind, colnames, dirname, do.call,
    duplicated, eval, evalq, get, grep, grepl, is.unsorted, lapply,
    mapply, match, mget, order, paste, pmax, pmax.int, pmin, pmin.int,
    rank, rbind, rownames, sapply, saveRDS, table, tapply, unique,
    unsplit, which.max, which.min

Welcome to Bioconductor

    Vignettes contain introductory material; view with
    'browseVignettes()'. To cite Bioconductor, see
    'citation("Biobase")', and for packages 'citation("pkgname")'.

Loading required package: limma

Attaching package: 'limma'

The following object is masked from 'package:BiocGenerics':

    plotMA

Loading required package: glmnet
Loading required package: Matrix
Loaded glmnet 4.1-8
Loading required package: RColorBrewer
[ FAIL 0 | WARN 6 | SKIP 0 | PASS 15 ]

[ FAIL 0 | WARN 6 | SKIP 0 | PASS 15 ]
> 
> proc.time()
   user  system elapsed 
  99.15    6.18  105.31 

Example timings

metagenomeSeq.Rcheck/metagenomeSeq-Ex.timings

nameusersystemelapsed
MRcoefs1.130.121.25
MRcounts0.480.130.61
MRexperiment-class000
MRfulltable1.090.145.92
MRtable1.250.111.36
aggregateBySample0.200.000.21
aggregateByTaxonomy0.210.030.23
biom2MRexperiment0.180.040.25
calcNormFactors0.770.080.84
correctIndices0.140.000.14
correlationTest0.230.050.29
cumNorm0.540.110.64
cumNormMat0.640.120.76
cumNormStat0.780.100.88
cumNormStatFast0.340.040.39
expSummary0.130.000.12
exportMat1.481.723.22
exportStats0.470.100.58
extractMR1.940.702.64
filterData0.200.030.23
fitDO0.370.173.13
fitFeatureModel1.240.221.45
fitLogNormal2.070.422.48
fitMultipleTimeSeries2.030.362.39
fitPA0.360.103.10
fitSSTimeSeries0.480.140.62
fitTimeSeries0.470.090.56
fitZig1.950.252.21
libSize-set0.300.080.37
libSize0.360.090.45
loadBiom0.040.000.04
loadMeta0.050.000.05
loadMetaQ000
loadPhenoData0.020.000.02
makeLabels000
mergeMRexperiments1.710.452.17
newMRexperiment0.020.000.02
normFactors-set0.580.160.73
normFactors0.310.090.41
plotBubble0.270.072.73
plotClassTimeSeries1.310.261.58
plotCorr0.590.110.70
plotFeature0.160.050.20
plotGenus0.140.040.19
plotMRheatmap2.200.132.33
plotOTU0.240.000.23
plotOrd0.420.020.44
plotRare0.170.000.17
plotTimeSeries1.250.141.39
posteriorProbs2.140.352.48
returnAppropriateObj0.250.090.35
ssFit000
ssIntervalCandidate000
ssPerm000
ssPermAnalysis000
trapz000
ts2MRexperiment1.690.201.89
uniqueFeatures0.140.030.17
wrenchNorm17.47 0.8218.28
zigControl000