Back to Multiple platform build/check report for BioC 3.21: simplified long |
|
This page was generated on 2025-02-04 11:43 -0500 (Tue, 04 Feb 2025).
Hostname | OS | Arch (*) | R version | Installed pkgs |
---|---|---|---|---|
nebbiolo1 | Linux (Ubuntu 24.04.1 LTS) | x86_64 | R Under development (unstable) (2025-01-20 r87609) -- "Unsuffered Consequences" | 4716 |
palomino7 | Windows Server 2022 Datacenter | x64 | R Under development (unstable) (2025-01-21 r87610 ucrt) -- "Unsuffered Consequences" | 4478 |
lconway | macOS 12.7.1 Monterey | x86_64 | R Under development (unstable) (2025-01-22 r87618) -- "Unsuffered Consequences" | 4489 |
kjohnson3 | macOS 13.7.1 Ventura | arm64 | R Under development (unstable) (2025-01-20 r87609) -- "Unsuffered Consequences" | 4442 |
Click on any hostname to see more info about the system (e.g. compilers) (*) as reported by 'uname -p', except on Windows and Mac OS X |
Package 1525/2295 | Hostname | OS / Arch | INSTALL | BUILD | CHECK | BUILD BIN | ||||||||
peakPantheR 1.21.0 (landing page) Arnaud Wolfer
| nebbiolo1 | Linux (Ubuntu 24.04.1 LTS) / x86_64 | OK | OK | OK | |||||||||
palomino7 | Windows Server 2022 Datacenter / x64 | OK | OK | OK | OK | |||||||||
lconway | macOS 12.7.1 Monterey / x86_64 | OK | OK | OK | OK | |||||||||
kjohnson3 | macOS 13.7.1 Ventura / arm64 | OK | OK | ERROR | OK | |||||||||
To the developers/maintainers of the peakPantheR package: - Allow up to 24 hours (and sometimes 48 hours) for your latest push to git@git.bioconductor.org:packages/peakPantheR.git to reflect on this report. See Troubleshooting Build Report for more information. - Use the following Renviron settings to reproduce errors and warnings. - If 'R CMD check' started to fail recently on the Linux builder(s) over a missing dependency, add the missing dependency to 'Suggests:' in your DESCRIPTION file. See Renviron.bioc for more information. |
Package: peakPantheR |
Version: 1.21.0 |
Command: /Library/Frameworks/R.framework/Resources/bin/R CMD check --install=check:peakPantheR.install-out.txt --library=/Library/Frameworks/R.framework/Resources/library --no-vignettes --timings peakPantheR_1.21.0.tar.gz |
StartedAt: 2025-02-03 22:22:18 -0500 (Mon, 03 Feb 2025) |
EndedAt: 2025-02-03 22:44:22 -0500 (Mon, 03 Feb 2025) |
EllapsedTime: 1324.0 seconds |
RetCode: 0 |
Status: OK |
CheckDir: peakPantheR.Rcheck |
Warnings: 0 |
############################################################################## ############################################################################## ### ### Running command: ### ### /Library/Frameworks/R.framework/Resources/bin/R CMD check --install=check:peakPantheR.install-out.txt --library=/Library/Frameworks/R.framework/Resources/library --no-vignettes --timings peakPantheR_1.21.0.tar.gz ### ############################################################################## ############################################################################## * using log directory ‘/Users/biocbuild/bbs-3.21-bioc/meat/peakPantheR.Rcheck’ * using R Under development (unstable) (2025-01-22 r87618) * using platform: x86_64-apple-darwin20 * R was compiled by Apple clang version 14.0.0 (clang-1400.0.29.202) GNU Fortran (GCC) 14.2.0 * running under: macOS Monterey 12.7.6 * using session charset: UTF-8 * using option ‘--no-vignettes’ * checking for file ‘peakPantheR/DESCRIPTION’ ... OK * this is package ‘peakPantheR’ version ‘1.21.0’ * package encoding: UTF-8 * checking package namespace information ... OK * checking package dependencies ... OK * checking if this is a source package ... OK * checking if there is a namespace ... OK * checking for hidden files and directories ... OK * checking for portable file names ... OK * checking for sufficient/correct file permissions ... OK * checking whether package ‘peakPantheR’ can be installed ... OK * checking installed package size ... OK * checking package directory ... OK * checking ‘build’ directory ... OK * checking DESCRIPTION meta-information ... OK * checking top-level files ... OK * checking for left-over files ... OK * checking index information ... OK * checking package subdirectories ... OK * checking code files for non-ASCII characters ... OK * checking R files for syntax errors ... OK * checking whether the package can be loaded ... OK * checking whether the package can be loaded with stated dependencies ... OK * checking whether the package can be unloaded cleanly ... OK * checking whether the namespace can be loaded with stated dependencies ... OK * checking whether the namespace can be unloaded cleanly ... OK * checking whether startup messages can be suppressed ... OK * checking dependencies in R code ... OK * checking S3 generic/method consistency ... OK * checking replacement functions ... OK * checking foreign function calls ... OK * checking R code for possible problems ... OK * checking Rd files ... OK * checking Rd metadata ... OK * checking Rd cross-references ... OK * checking for missing documentation entries ... OK * checking for code/documentation mismatches ... OK * checking Rd \usage sections ... OK * checking Rd contents ... OK * checking for unstated dependencies in examples ... OK * checking files in ‘vignettes’ ... OK * checking examples ... OK Examples with CPU (user + system) or elapsed time > 5s user system elapsed peakPantheR_ROIStatistics 21.930 0.271 22.358 peakPantheR_parallelAnnotation 16.284 0.409 17.134 outputAnnotationDiagnostic-peakPantheRAnnotation-method 15.614 0.166 15.868 outputAnnotationResult-peakPantheRAnnotation-method 14.955 0.125 15.154 EICs-peakPantheRAnnotation-method 13.249 0.559 13.905 retentionTimeCorrection-peakPantheRAnnotation-method 10.476 0.083 10.617 peakPantheR_singleFileSearch 5.534 0.053 5.625 * checking for unstated dependencies in ‘tests’ ... OK * checking tests ... Running ‘testthat.R’ OK * checking for unstated dependencies in vignettes ... OK * checking package vignettes ... OK * checking running R code from vignettes ... SKIPPED * checking re-building of vignette outputs ... SKIPPED * checking PDF version of manual ... OK * DONE Status: OK
peakPantheR.Rcheck/00install.out
############################################################################## ############################################################################## ### ### Running command: ### ### /Library/Frameworks/R.framework/Resources/bin/R CMD INSTALL peakPantheR ### ############################################################################## ############################################################################## * installing to library ‘/Library/Frameworks/R.framework/Versions/4.5-x86_64/Resources/library’ * installing *source* package ‘peakPantheR’ ... ** this is package ‘peakPantheR’ version ‘1.21.0’ ** using staged installation ** R ** inst ** byte-compile and prepare package for lazy loading ** help *** installing help indices *** copying figures ** building package indices ** installing vignettes ** testing if installed package can be loaded from temporary location ** testing if installed package can be loaded from final location ** testing if installed package keeps a record of temporary installation path * DONE (peakPantheR)
peakPantheR.Rcheck/tests/testthat.Rout
R Under development (unstable) (2025-01-22 r87618) -- "Unsuffered Consequences" Copyright (C) 2025 The R Foundation for Statistical Computing Platform: x86_64-apple-darwin20 R is free software and comes with ABSOLUTELY NO WARRANTY. You are welcome to redistribute it under certain conditions. Type 'license()' or 'licence()' for distribution details. R is a collaborative project with many contributors. Type 'contributors()' for more information and 'citation()' on how to cite R or R packages in publications. Type 'demo()' for some demos, 'help()' for on-line help, or 'help.start()' for an HTML browser interface to help. Type 'q()' to quit R. > library(testthat) > library(peakPantheR) This is peakPantheR version 1.21.0 > > test_check("peakPantheR") 2025-02-03 22:31:04.294 R[39462:83774587] XType: com.apple.fonts is not accessible. 2025-02-03 22:31:04.294 R[39462:83774587] XType: XTFontStaticRegistry is enabled. 2025-02-03 22:31:20.205 R[66848:83841729] XType: com.apple.fonts is not accessible. 2025-02-03 22:31:20.205 R[66848:83841729] XType: XTFontStaticRegistry is enabled. 2025-02-03 22:31:30.384 R[68398:83844547] XType: com.apple.fonts is not accessible. 2025-02-03 22:31:30.384 R[68398:83844547] XType: XTFontStaticRegistry is enabled. 2025-02-03 22:35:42.491 R[88291:83886759] XType: com.apple.fonts is not accessible. 2025-02-03 22:35:42.492 R[88291:83886759] XType: XTFontStaticRegistry is enabled. [ FAIL 0 | WARN 0 | SKIP 0 | PASS 1478 ] Warning messages: 1: In .Internal(gc(verbose, reset, full)) : closing unused connection 10 (/private/tmp/Rtmpwdt7ow/notValidXML.mzML) 2: In .Internal(gc(verbose, reset, full)) : closing unused connection 9 (/private/tmp/Rtmpwdt7ow/notValidXML.mzML) 3: In .Internal(gc(verbose, reset, full)) : closing unused connection 8 (/private/tmp/Rtmpwdt7ow/notValidXML.mzML) 4: In .Internal(gc(verbose, reset, full)) : closing unused connection 7 (/private/tmp/Rtmpwdt7ow/notValidXML.mzML) 5: In .Internal(gc(verbose, reset, full)) : closing unused connection 6 (/Library/Frameworks/R.framework/Versions/4.5-x86_64/Resources/library/peakPantheR/extdata/test_fakemzML.mzML) 6: In .Internal(gc(verbose, reset, full)) : closing unused connection 5 (/Library/Frameworks/R.framework/Versions/4.5-x86_64/Resources/library/peakPantheR/extdata/test_fakemzML.mzML) > > proc.time() user system elapsed 815.564 8.993 1123.326
peakPantheR.Rcheck/peakPantheR-Ex.timings
name | user | system | elapsed | |
EICs-peakPantheRAnnotation-method | 13.249 | 0.559 | 13.905 | |
FIR-peakPantheRAnnotation-method | 0.036 | 0.003 | 0.042 | |
ROI-peakPantheRAnnotation-method | 0.028 | 0.002 | 0.031 | |
TIC-peakPantheRAnnotation-method | 0.027 | 0.002 | 0.029 | |
acquisitionTime-peakPantheRAnnotation-method | 0.026 | 0.003 | 0.029 | |
annotationDiagnosticPlots-peakPantheRAnnotation-method | 0.027 | 0.002 | 0.029 | |
annotationParamsDiagnostic-peakPantheRAnnotation-method | 0.027 | 0.002 | 0.029 | |
annotationTable-peakPantheRAnnotation-method | 0.030 | 0.002 | 0.032 | |
annotation_diagnostic_multiplot_UI_helper | 0.126 | 0.014 | 0.141 | |
annotation_fit_summary_UI_helper | 0.009 | 0.002 | 0.011 | |
annotation_showMethod_UI_helper | 0.003 | 0.001 | 0.005 | |
annotation_showText_UI_helper | 0.000 | 0.001 | 0.001 | |
cpdID-peakPantheRAnnotation-method | 0.028 | 0.002 | 0.031 | |
cpdMetadata-peakPantheRAnnotation-method | 0.032 | 0.003 | 0.035 | |
cpdName-peakPantheRAnnotation-method | 0.032 | 0.003 | 0.036 | |
dataPoints-peakPantheRAnnotation-method | 0.031 | 0.004 | 0.034 | |
filename-peakPantheRAnnotation-method | 0.029 | 0.004 | 0.036 | |
filepath-peakPantheRAnnotation-method | 0.032 | 0.003 | 0.036 | |
initialise_annotation_from_files_UI_helper | 0.017 | 0.002 | 0.020 | |
isAnnotated-peakPantheRAnnotation-method | 0.027 | 0.003 | 0.030 | |
load_annotation_from_file_UI_helper | 0.008 | 0.003 | 0.011 | |
nbCompounds-peakPantheRAnnotation-method | 0.024 | 0.002 | 0.027 | |
nbSamples-peakPantheRAnnotation-method | 0.026 | 0.002 | 0.028 | |
outputAnnotationDiagnostic-peakPantheRAnnotation-method | 15.614 | 0.166 | 15.868 | |
outputAnnotationFeatureMetadata_UI_helper | 0.005 | 0.001 | 0.007 | |
outputAnnotationParamsCSV-peakPantheRAnnotation-method | 0.029 | 0.001 | 0.031 | |
outputAnnotationResult-peakPantheRAnnotation-method | 14.955 | 0.125 | 15.154 | |
outputAnnotationSpectraMetadata_UI_helper | 0.006 | 0.001 | 0.007 | |
peakFit-peakPantheRAnnotation-method | 0.023 | 0.002 | 0.026 | |
peakPantheRAnnotation | 0.033 | 0.003 | 0.035 | |
peakPantheR_ROIStatistics | 21.930 | 0.271 | 22.358 | |
peakPantheR_loadAnnotationParamsCSV | 0.006 | 0.002 | 0.007 | |
peakPantheR_parallelAnnotation | 16.284 | 0.409 | 17.134 | |
peakPantheR_plotEICFit | 0.358 | 0.005 | 0.365 | |
peakPantheR_plotPeakwidth | 0.601 | 0.018 | 0.622 | |
peakPantheR_quickEIC | 4.623 | 0.061 | 4.713 | |
peakPantheR_singleFileSearch | 5.534 | 0.053 | 5.625 | |
peakPantheR_start_GUI | 0 | 0 | 0 | |
peakTables-peakPantheRAnnotation-method | 0.022 | 0.002 | 0.025 | |
resetAnnotation-peakPantheRAnnotation-method | 0.033 | 0.003 | 0.036 | |
resetFIR-peakPantheRAnnotation-method | 0.004 | 0.001 | 0.005 | |
retentionTimeCorrection-peakPantheRAnnotation-method | 10.476 | 0.083 | 10.617 | |
spectraMetadata-peakPantheRAnnotation-method | 0.027 | 0.002 | 0.029 | |
spectraPaths_and_metadata_UI_helper | 0.003 | 0.001 | 0.004 | |
spectra_metadata_colourScheme_UI_helper | 0.007 | 0.001 | 0.008 | |
uROI-peakPantheRAnnotation-method | 0.028 | 0.003 | 0.030 | |
uROIExist-peakPantheRAnnotation-method | 0.028 | 0.002 | 0.030 | |
useFIR-peakPantheRAnnotation-method | 0.024 | 0.002 | 0.026 | |
useUROI-peakPantheRAnnotation-method | 0.027 | 0.002 | 0.029 | |