Back to Multiple platform build/check report for BioC 3.21:   simplified   long
ABCDEFGHIJKLMNO[P]QRSTUVWXYZ

This page was generated on 2025-02-04 11:41 -0500 (Tue, 04 Feb 2025).

HostnameOSArch (*)R versionInstalled pkgs
nebbiolo1Linux (Ubuntu 24.04.1 LTS)x86_64R Under development (unstable) (2025-01-20 r87609) -- "Unsuffered Consequences" 4716
palomino7Windows Server 2022 Datacenterx64R Under development (unstable) (2025-01-21 r87610 ucrt) -- "Unsuffered Consequences" 4478
lconwaymacOS 12.7.1 Montereyx86_64R Under development (unstable) (2025-01-22 r87618) -- "Unsuffered Consequences" 4489
kjohnson3macOS 13.7.1 Venturaarm64R Under development (unstable) (2025-01-20 r87609) -- "Unsuffered Consequences" 4442
Click on any hostname to see more info about the system (e.g. compilers)      (*) as reported by 'uname -p', except on Windows and Mac OS X

Package 1525/2295HostnameOS / ArchINSTALLBUILDCHECKBUILD BIN
peakPantheR 1.21.0  (landing page)
Arnaud Wolfer
Snapshot Date: 2025-02-03 13:40 -0500 (Mon, 03 Feb 2025)
git_url: https://git.bioconductor.org/packages/peakPantheR
git_branch: devel
git_last_commit: 4d6e977
git_last_commit_date: 2024-10-29 10:40:22 -0500 (Tue, 29 Oct 2024)
nebbiolo1Linux (Ubuntu 24.04.1 LTS) / x86_64  OK    OK    OK  UNNEEDED, same version is already published
palomino7Windows Server 2022 Datacenter / x64  OK    OK    OK    OK  UNNEEDED, same version is already published
lconwaymacOS 12.7.1 Monterey / x86_64  OK    OK    OK    OK  UNNEEDED, same version is already published
kjohnson3macOS 13.7.1 Ventura / arm64  OK    OK    ERROR    OK  


CHECK results for peakPantheR on palomino7

To the developers/maintainers of the peakPantheR package:
- Allow up to 24 hours (and sometimes 48 hours) for your latest push to git@git.bioconductor.org:packages/peakPantheR.git to reflect on this report. See Troubleshooting Build Report for more information.
- Use the following Renviron settings to reproduce errors and warnings.
- If 'R CMD check' started to fail recently on the Linux builder(s) over a missing dependency, add the missing dependency to 'Suggests:' in your DESCRIPTION file. See Renviron.bioc for more information.

raw results


Summary

Package: peakPantheR
Version: 1.21.0
Command: E:\biocbuild\bbs-3.21-bioc\R\bin\R.exe CMD check --no-multiarch --install=check:peakPantheR.install-out.txt --library=E:\biocbuild\bbs-3.21-bioc\R\library --no-vignettes --timings peakPantheR_1.21.0.tar.gz
StartedAt: 2025-02-04 04:26:43 -0500 (Tue, 04 Feb 2025)
EndedAt: 2025-02-04 04:50:24 -0500 (Tue, 04 Feb 2025)
EllapsedTime: 1421.2 seconds
RetCode: 0
Status:   OK  
CheckDir: peakPantheR.Rcheck
Warnings: 0

Command output

##############################################################################
##############################################################################
###
### Running command:
###
###   E:\biocbuild\bbs-3.21-bioc\R\bin\R.exe CMD check --no-multiarch --install=check:peakPantheR.install-out.txt --library=E:\biocbuild\bbs-3.21-bioc\R\library --no-vignettes --timings peakPantheR_1.21.0.tar.gz
###
##############################################################################
##############################################################################


* using log directory 'E:/biocbuild/bbs-3.21-bioc/meat/peakPantheR.Rcheck'
* using R Under development (unstable) (2025-01-21 r87610 ucrt)
* using platform: x86_64-w64-mingw32
* R was compiled by
    gcc.exe (GCC) 13.3.0
    GNU Fortran (GCC) 13.3.0
* running under: Windows Server 2022 x64 (build 20348)
* using session charset: UTF-8
* using option '--no-vignettes'
* checking for file 'peakPantheR/DESCRIPTION' ... OK
* this is package 'peakPantheR' version '1.21.0'
* package encoding: UTF-8
* checking package namespace information ... OK
* checking package dependencies ... OK
* checking if this is a source package ... OK
* checking if there is a namespace ... OK
* checking for hidden files and directories ... OK
* checking for portable file names ... OK
* checking whether package 'peakPantheR' can be installed ... OK
* checking installed package size ... OK
* checking package directory ... OK
* checking 'build' directory ... OK
* checking DESCRIPTION meta-information ... OK
* checking top-level files ... OK
* checking for left-over files ... OK
* checking index information ... OK
* checking package subdirectories ... OK
* checking code files for non-ASCII characters ... OK
* checking R files for syntax errors ... OK
* checking whether the package can be loaded ... OK
* checking whether the package can be loaded with stated dependencies ... OK
* checking whether the package can be unloaded cleanly ... OK
* checking whether the namespace can be loaded with stated dependencies ... OK
* checking whether the namespace can be unloaded cleanly ... OK
* checking whether startup messages can be suppressed ... OK
* checking dependencies in R code ... OK
* checking S3 generic/method consistency ... OK
* checking replacement functions ... OK
* checking foreign function calls ... OK
* checking R code for possible problems ... OK
* checking Rd files ... OK
* checking Rd metadata ... OK
* checking Rd cross-references ... OK
* checking for missing documentation entries ... OK
* checking for code/documentation mismatches ... OK
* checking Rd \usage sections ... OK
* checking Rd contents ... OK
* checking for unstated dependencies in examples ... OK
* checking files in 'vignettes' ... OK
* checking examples ... OK
Examples with CPU (user + system) or elapsed time > 5s
                                                         user system elapsed
peakPantheR_ROIStatistics                               24.08   0.36   24.48
peakPantheR_parallelAnnotation                          17.88   0.17   18.25
outputAnnotationDiagnostic-peakPantheRAnnotation-method 17.28   0.17   17.56
outputAnnotationResult-peakPantheRAnnotation-method     16.53   0.20   16.75
EICs-peakPantheRAnnotation-method                       14.80   0.66   16.17
retentionTimeCorrection-peakPantheRAnnotation-method    10.72   0.07   11.01
peakPantheR_singleFileSearch                             5.83   0.04    5.86
* checking for unstated dependencies in 'tests' ... OK
* checking tests ...
  Running 'testthat.R'
 OK
* checking for unstated dependencies in vignettes ... OK
* checking package vignettes ... OK
* checking running R code from vignettes ... SKIPPED
* checking re-building of vignette outputs ... SKIPPED
* checking PDF version of manual ... OK
* DONE

Status: OK


Installation output

peakPantheR.Rcheck/00install.out

##############################################################################
##############################################################################
###
### Running command:
###
###   E:\biocbuild\bbs-3.21-bioc\R\bin\R.exe CMD INSTALL peakPantheR
###
##############################################################################
##############################################################################


* installing to library 'E:/biocbuild/bbs-3.21-bioc/R/library'
* installing *source* package 'peakPantheR' ...
** this is package 'peakPantheR' version '1.21.0'
** using staged installation
** R
** inst
** byte-compile and prepare package for lazy loading
** help
*** installing help indices
*** copying figures
** building package indices
** installing vignettes
** testing if installed package can be loaded from temporary location
** testing if installed package can be loaded from final location
** testing if installed package keeps a record of temporary installation path
* DONE (peakPantheR)

Tests output

peakPantheR.Rcheck/tests/testthat.Rout


R Under development (unstable) (2025-01-21 r87610 ucrt) -- "Unsuffered Consequences"
Copyright (C) 2025 The R Foundation for Statistical Computing
Platform: x86_64-w64-mingw32/x64

R is free software and comes with ABSOLUTELY NO WARRANTY.
You are welcome to redistribute it under certain conditions.
Type 'license()' or 'licence()' for distribution details.

R is a collaborative project with many contributors.
Type 'contributors()' for more information and
'citation()' on how to cite R or R packages in publications.

Type 'demo()' for some demos, 'help()' for on-line help, or
'help.start()' for an HTML browser interface to help.
Type 'q()' to quit R.

> library(testthat)
> library(peakPantheR)

This is peakPantheR version 1.21.0 

> 
> test_check("peakPantheR")
[ FAIL 0 | WARN 0 | SKIP 0 | PASS 1478 ]
Warning messages:
1: In .Internal(gc(verbose, reset, full)) :
  closing unused connection 10 (E:\biocbuild\bbs-3.21-bioc\tmpdir\Rtmpoj7iLB\notValidXML.mzML)
2: In .Internal(gc(verbose, reset, full)) :
  closing unused connection 9 (E:\biocbuild\bbs-3.21-bioc\tmpdir\Rtmpoj7iLB\notValidXML.mzML)
3: In .Internal(gc(verbose, reset, full)) :
  closing unused connection 8 (E:\biocbuild\bbs-3.21-bioc\tmpdir\Rtmpoj7iLB\notValidXML.mzML)
4: In .Internal(gc(verbose, reset, full)) :
  closing unused connection 7 (E:\biocbuild\bbs-3.21-bioc\tmpdir\Rtmpoj7iLB\notValidXML.mzML)
5: In .Internal(gc(verbose, reset, full)) :
  closing unused connection 6 (E:\biocbuild\bbs-3.21-bioc\R\library\peakPantheR\extdata\test_fakemzML.mzML)
6: In .Internal(gc(verbose, reset, full)) :
  closing unused connection 5 (E:\biocbuild\bbs-3.21-bioc\R\library\peakPantheR\extdata\test_fakemzML.mzML)
> 
> proc.time()
   user  system elapsed 
 854.73    8.95 1196.68 

Example timings

peakPantheR.Rcheck/peakPantheR-Ex.timings

nameusersystemelapsed
EICs-peakPantheRAnnotation-method14.80 0.6616.17
FIR-peakPantheRAnnotation-method0.050.000.05
ROI-peakPantheRAnnotation-method0.030.000.03
TIC-peakPantheRAnnotation-method0.030.000.03
acquisitionTime-peakPantheRAnnotation-method0.050.000.05
annotationDiagnosticPlots-peakPantheRAnnotation-method0.040.000.04
annotationParamsDiagnostic-peakPantheRAnnotation-method0.030.000.04
annotationTable-peakPantheRAnnotation-method0.030.000.03
annotation_diagnostic_multiplot_UI_helper0.160.020.17
annotation_fit_summary_UI_helper0.020.000.01
annotation_showMethod_UI_helper000
annotation_showText_UI_helper000
cpdID-peakPantheRAnnotation-method0.030.000.04
cpdMetadata-peakPantheRAnnotation-method0.030.000.03
cpdName-peakPantheRAnnotation-method0.010.000.01
dataPoints-peakPantheRAnnotation-method0.040.000.03
filename-peakPantheRAnnotation-method0.010.000.02
filepath-peakPantheRAnnotation-method0.000.010.02
initialise_annotation_from_files_UI_helper0.010.000.03
isAnnotated-peakPantheRAnnotation-method0.050.000.05
load_annotation_from_file_UI_helper0.000.020.03
nbCompounds-peakPantheRAnnotation-method0.020.000.02
nbSamples-peakPantheRAnnotation-method0.010.000.02
outputAnnotationDiagnostic-peakPantheRAnnotation-method17.28 0.1717.56
outputAnnotationFeatureMetadata_UI_helper0.020.000.01
outputAnnotationParamsCSV-peakPantheRAnnotation-method0.030.000.04
outputAnnotationResult-peakPantheRAnnotation-method16.53 0.2016.75
outputAnnotationSpectraMetadata_UI_helper0.020.000.01
peakFit-peakPantheRAnnotation-method0.030.000.03
peakPantheRAnnotation0.040.000.05
peakPantheR_ROIStatistics24.08 0.3624.48
peakPantheR_loadAnnotationParamsCSV0.000.020.04
peakPantheR_parallelAnnotation17.88 0.1718.25
peakPantheR_plotEICFit0.500.010.51
peakPantheR_plotPeakwidth0.830.000.84
peakPantheR_quickEIC4.870.035.00
peakPantheR_singleFileSearch5.830.045.86
peakPantheR_start_GUI000
peakTables-peakPantheRAnnotation-method0.010.000.02
resetAnnotation-peakPantheRAnnotation-method0.020.000.01
resetFIR-peakPantheRAnnotation-method000
retentionTimeCorrection-peakPantheRAnnotation-method10.72 0.0711.01
spectraMetadata-peakPantheRAnnotation-method0.020.000.02
spectraPaths_and_metadata_UI_helper0.000.000.04
spectra_metadata_colourScheme_UI_helper000
uROI-peakPantheRAnnotation-method0.020.000.02
uROIExist-peakPantheRAnnotation-method0.010.020.03
useFIR-peakPantheRAnnotation-method0.030.000.03
useUROI-peakPantheRAnnotation-method0.030.000.03