Back to Multiple platform build/check report for BioC 3.20: simplified long |
|
This page was generated on 2025-02-03 12:06 -0500 (Mon, 03 Feb 2025).
Hostname | OS | Arch (*) | R version | Installed pkgs |
---|---|---|---|---|
nebbiolo2 | Linux (Ubuntu 24.04.1 LTS) | x86_64 | 4.4.2 (2024-10-31) -- "Pile of Leaves" | 4746 |
palomino8 | Windows Server 2022 Datacenter | x64 | 4.4.2 (2024-10-31 ucrt) -- "Pile of Leaves" | 4494 |
merida1 | macOS 12.7.5 Monterey | x86_64 | 4.4.2 (2024-10-31) -- "Pile of Leaves" | 4517 |
kjohnson1 | macOS 13.6.6 Ventura | arm64 | 4.4.2 (2024-10-31) -- "Pile of Leaves" | 4469 |
taishan | Linux (openEuler 24.03 LTS) | aarch64 | 4.4.2 (2024-10-31) -- "Pile of Leaves" | 4400 |
Click on any hostname to see more info about the system (e.g. compilers) (*) as reported by 'uname -p', except on Windows and Mac OS X |
Package 2269/2289 | Hostname | OS / Arch | INSTALL | BUILD | CHECK | BUILD BIN | ||||||||
wppi 1.14.0 (landing page) Ana Galhoz
| nebbiolo2 | Linux (Ubuntu 24.04.1 LTS) / x86_64 | OK | OK | OK | |||||||||
palomino8 | Windows Server 2022 Datacenter / x64 | OK | OK | OK | OK | |||||||||
merida1 | macOS 12.7.5 Monterey / x86_64 | OK | OK | OK | OK | |||||||||
kjohnson1 | macOS 13.6.6 Ventura / arm64 | OK | OK | OK | OK | |||||||||
taishan | Linux (openEuler 24.03 LTS) / aarch64 | OK | OK | ERROR | ||||||||||
To the developers/maintainers of the wppi package: - Allow up to 24 hours (and sometimes 48 hours) for your latest push to git@git.bioconductor.org:packages/wppi.git to reflect on this report. See Troubleshooting Build Report for more information. - Use the following Renviron settings to reproduce errors and warnings. - If 'R CMD check' started to fail recently on the Linux builder(s) over a missing dependency, add the missing dependency to 'Suggests:' in your DESCRIPTION file. See Renviron.bioc for more information. |
Package: wppi |
Version: 1.14.0 |
Command: /home/biocbuild/bbs-3.20-bioc/R/bin/R CMD check --install=check:wppi.install-out.txt --library=/home/biocbuild/bbs-3.20-bioc/R/site-library --timings wppi_1.14.0.tar.gz |
StartedAt: 2025-01-31 03:25:29 -0500 (Fri, 31 Jan 2025) |
EndedAt: 2025-01-31 03:30:06 -0500 (Fri, 31 Jan 2025) |
EllapsedTime: 276.5 seconds |
RetCode: 0 |
Status: OK |
CheckDir: wppi.Rcheck |
Warnings: 0 |
############################################################################## ############################################################################## ### ### Running command: ### ### /home/biocbuild/bbs-3.20-bioc/R/bin/R CMD check --install=check:wppi.install-out.txt --library=/home/biocbuild/bbs-3.20-bioc/R/site-library --timings wppi_1.14.0.tar.gz ### ############################################################################## ############################################################################## * using log directory ‘/home/biocbuild/bbs-3.20-bioc/meat/wppi.Rcheck’ * using R version 4.4.2 (2024-10-31) * using platform: x86_64-pc-linux-gnu * R was compiled by gcc (Ubuntu 13.2.0-23ubuntu4) 13.2.0 GNU Fortran (Ubuntu 13.2.0-23ubuntu4) 13.2.0 * running under: Ubuntu 24.04.1 LTS * using session charset: UTF-8 * checking for file ‘wppi/DESCRIPTION’ ... OK * checking extension type ... Package * this is package ‘wppi’ version ‘1.14.0’ * package encoding: UTF-8 * checking package namespace information ... OK * checking package dependencies ... OK * checking if this is a source package ... OK * checking if there is a namespace ... OK * checking for hidden files and directories ... OK * checking for portable file names ... OK * checking for sufficient/correct file permissions ... OK * checking whether package ‘wppi’ can be installed ... OK * checking installed package size ... OK * checking package directory ... OK * checking ‘build’ directory ... OK * checking DESCRIPTION meta-information ... NOTE License stub is invalid DCF. * checking top-level files ... OK * checking for left-over files ... OK * checking index information ... OK * checking package subdirectories ... OK * checking code files for non-ASCII characters ... OK * checking R files for syntax errors ... OK * checking whether the package can be loaded ... OK * checking whether the package can be loaded with stated dependencies ... OK * checking whether the package can be unloaded cleanly ... OK * checking whether the namespace can be loaded with stated dependencies ... OK * checking whether the namespace can be unloaded cleanly ... OK * checking loading without being on the library search path ... OK * checking whether startup messages can be suppressed ... NOTE [2025-01-31 03:26:01] [TRACE] [OmnipathR] Reading JSON from `/home/biocbuild/.cache/OmnipathR/cache.json` (encoding: UTF-8). [2025-01-31 03:26:01] [TRACE] [OmnipathR] JSON validation successful: TRUE [2025-01-31 03:26:01] [INFO] [OmnipathR] Initialized cache: `/home/biocbuild/.cache/OmnipathR`. [2025-01-31 03:26:01] [TRACE] [OmnipathR] Running on a build server, wiping cache. [2025-01-31 03:26:01] [TRACE] [OmnipathR] Cache is at `/home/biocbuild/.cache/OmnipathR`. [2025-01-31 03:26:01] [TRACE] [OmnipathR] Contains 1 files. [2025-01-31 03:26:01] [TRACE] [OmnipathR] Cache is locked: FALSE. [2025-01-31 03:26:01] [TRACE] [OmnipathR] Reading JSON from `/home/biocbuild/.cache/OmnipathR/cache.json` (encoding: UTF-8). [2025-01-31 03:26:01] [TRACE] [OmnipathR] JSON validation successful: TRUE [2025-01-31 03:26:01] [SUCCESS] [OmnipathR] Removing all cache contents from `/home/biocbuild/.cache/OmnipathR`. [2025-01-31 03:26:01] [TRACE] [OmnipathR] Pandoc version: `2.7.3`. [2025-01-31 03:26:01] [TRACE] [OmnipathR] Reading JSON from `/home/biocbuild/bbs-3.20-bioc/R/site-library/OmnipathR/db/db_def.json` (encoding: UTF-8). [2025-01-31 03:26:01] [TRACE] [OmnipathR] JSON validation successful: TRUE [2025-01-31 03:26:01] [TRACE] [OmnipathR] Reading JSON from `/home/biocbuild/bbs-3.20-bioc/R/site-library/OmnipathR/internal/magic_bytes.json` (encoding: UTF-8). [2025-01-31 03:26:01] [TRACE] [OmnipathR] JSON validation successful: TRUE [2025-01-31 03:26:01] [TRACE] [OmnipathR] Reading JSON from `/home/biocbuild/bbs-3.20-bioc/R/site-library/OmnipathR/internal/urls.json` (encoding: UTF-8). [2025-01-31 03:26:01] [TRACE] [OmnipathR] JSON validation successful: TRUE [2025-01-31 03:26:01] [TRACE] [OmnipathR] Reading JSON from `/home/biocbuild/bbs-3.20-bioc/R/site-library/OmnipathR/internal/id_types.json` (encoding: UTF-8). [2025-01-31 03:26:01] [TRACE] [OmnipathR] JSON validation successful: TRUE [2025-01-31 03:26:01] [TRACE] [OmnipathR] Cache locked: FALSE It looks like this package (or a package it requires) has a startup message which cannot be suppressed: see ?packageStartupMessage. * checking dependencies in R code ... OK * checking S3 generic/method consistency ... OK * checking replacement functions ... OK * checking foreign function calls ... OK * checking R code for possible problems ... NOTE [2025-01-31 03:26:16] [TRACE] [OmnipathR] Reading JSON from `/home/biocbuild/.cache/OmnipathR/cache.json` (encoding: UTF-8). [2025-01-31 03:26:16] [TRACE] [OmnipathR] JSON validation successful: TRUE [2025-01-31 03:26:16] [INFO] [OmnipathR] Initialized cache: `/home/biocbuild/.cache/OmnipathR`. [2025-01-31 03:26:16] [TRACE] [OmnipathR] Running on a build server, wiping cache. [2025-01-31 03:26:16] [TRACE] [OmnipathR] Cache is at `/home/biocbuild/.cache/OmnipathR`. [2025-01-31 03:26:16] [TRACE] [OmnipathR] Contains 1 files. [2025-01-31 03:26:16] [TRACE] [OmnipathR] Cache is locked: FALSE. [2025-01-31 03:26:16] [TRACE] [OmnipathR] Reading JSON from `/home/biocbuild/.cache/OmnipathR/cache.json` (encoding: UTF-8). [2025-01-31 03:26:16] [TRACE] [OmnipathR] JSON validation successful: TRUE [2025-01-31 03:26:16] [SUCCESS] [OmnipathR] Removing all cache contents from `/home/biocbuild/.cache/OmnipathR`. [2025-01-31 03:26:16] [TRACE] [OmnipathR] Pandoc version: `2.7.3`. [2025-01-31 03:26:16] [TRACE] [OmnipathR] Reading JSON from `/home/biocbuild/bbs-3.20-bioc/R/site-library/OmnipathR/db/db_def.json` (encoding: UTF-8). [2025-01-31 03:26:16] [TRACE] [OmnipathR] JSON validation successful: TRUE [2025-01-31 03:26:16] [TRACE] [OmnipathR] Reading JSON from `/home/biocbuild/bbs-3.20-bioc/R/site-library/OmnipathR/internal/magic_bytes.json` (encoding: UTF-8). [2025-01-31 03:26:16] [TRACE] [OmnipathR] JSON validation successful: TRUE [2025-01-31 03:26:16] [TRACE] [OmnipathR] Reading JSON from `/home/biocbuild/bbs-3.20-bioc/R/site-library/OmnipathR/internal/urls.json` (encoding: UTF-8). [2025-01-31 03:26:16] [TRACE] [OmnipathR] JSON validation successful: TRUE [2025-01-31 03:26:16] [TRACE] [OmnipathR] Reading JSON from `/home/biocbuild/bbs-3.20-bioc/R/site-library/OmnipathR/internal/id_types.json` (encoding: UTF-8). [2025-01-31 03:26:16] [TRACE] [OmnipathR] JSON validation successful: TRUE [2025-01-31 03:26:16] [TRACE] [OmnipathR] Cache locked: FALSE * checking Rd files ... OK * checking Rd metadata ... OK * checking Rd cross-references ... OK * checking for missing documentation entries ... OK * checking for code/documentation mismatches ... OK * checking Rd \usage sections ... OK * checking Rd contents ... OK * checking for unstated dependencies in examples ... OK * checking files in ‘vignettes’ ... OK * checking examples ... OK Examples with CPU (user + system) or elapsed time > 5s user system elapsed wppi 29.876 0.200 30.079 prioritization_genes 15.527 0.402 15.930 score_candidate_genes_from_PPI 15.428 0.108 15.538 random_walk 14.987 0.132 15.119 weighted_adj 11.473 0.036 11.508 count_genes 9.829 0.672 10.500 common_neighbors 6.362 0.689 12.504 wppi_data 6.770 0.153 6.924 filter_annot_with_network 6.724 0.173 6.897 * checking for unstated dependencies in vignettes ... OK * checking package vignettes ... OK * checking re-building of vignette outputs ... OK * checking PDF version of manual ... OK * DONE Status: 3 NOTEs See ‘/home/biocbuild/bbs-3.20-bioc/meat/wppi.Rcheck/00check.log’ for details.
wppi.Rcheck/00install.out
############################################################################## ############################################################################## ### ### Running command: ### ### /home/biocbuild/bbs-3.20-bioc/R/bin/R CMD INSTALL wppi ### ############################################################################## ############################################################################## * installing to library ‘/home/biocbuild/bbs-3.20-bioc/R/site-library’ * installing *source* package ‘wppi’ ... ** using staged installation ** R ** byte-compile and prepare package for lazy loading [2025-01-30 15:35:16] [TRACE] [OmnipathR] Reading JSON from `/home/biocbuild/.cache/OmnipathR/cache.json` (encoding: UTF-8). [2025-01-30 15:35:16] [TRACE] [OmnipathR] JSON validation successful: TRUE [2025-01-30 15:35:16] [INFO] [OmnipathR] Initialized cache: `/home/biocbuild/.cache/OmnipathR`. [2025-01-30 15:35:16] [TRACE] [OmnipathR] Running on a build server, wiping cache. [2025-01-30 15:35:16] [TRACE] [OmnipathR] Cache is at `/home/biocbuild/.cache/OmnipathR`. [2025-01-30 15:35:16] [TRACE] [OmnipathR] Contains 1 files. [2025-01-30 15:35:16] [TRACE] [OmnipathR] Cache is locked: FALSE. [2025-01-30 15:35:16] [TRACE] [OmnipathR] Reading JSON from `/home/biocbuild/.cache/OmnipathR/cache.json` (encoding: UTF-8). [2025-01-30 15:35:16] [TRACE] [OmnipathR] JSON validation successful: TRUE [2025-01-30 15:35:16] [SUCCESS] [OmnipathR] Removing all cache contents from `/home/biocbuild/.cache/OmnipathR`. [2025-01-30 15:35:16] [TRACE] [OmnipathR] Pandoc version: `2.7.3`. [2025-01-30 15:35:16] [TRACE] [OmnipathR] Reading JSON from `/home/biocbuild/bbs-3.20-bioc/R/site-library/OmnipathR/db/db_def.json` (encoding: UTF-8). [2025-01-30 15:35:16] [TRACE] [OmnipathR] JSON validation successful: TRUE [2025-01-30 15:35:16] [TRACE] [OmnipathR] Reading JSON from `/home/biocbuild/bbs-3.20-bioc/R/site-library/OmnipathR/internal/magic_bytes.json` (encoding: UTF-8). [2025-01-30 15:35:16] [TRACE] [OmnipathR] JSON validation successful: TRUE [2025-01-30 15:35:16] [TRACE] [OmnipathR] Reading JSON from `/home/biocbuild/bbs-3.20-bioc/R/site-library/OmnipathR/internal/urls.json` (encoding: UTF-8). [2025-01-30 15:35:16] [TRACE] [OmnipathR] JSON validation successful: TRUE [2025-01-30 15:35:16] [TRACE] [OmnipathR] Reading JSON from `/home/biocbuild/bbs-3.20-bioc/R/site-library/OmnipathR/internal/id_types.json` (encoding: UTF-8). [2025-01-30 15:35:16] [TRACE] [OmnipathR] JSON validation successful: TRUE [2025-01-30 15:35:16] [TRACE] [OmnipathR] Cache locked: FALSE Note: wrong number of arguments to '/' ** help *** installing help indices ** building package indices ** installing vignettes ** testing if installed package can be loaded from temporary location [2025-01-30 15:35:21] [TRACE] [OmnipathR] Reading JSON from `/home/biocbuild/.cache/OmnipathR/cache.json` (encoding: UTF-8). [2025-01-30 15:35:21] [TRACE] [OmnipathR] JSON validation successful: TRUE [2025-01-30 15:35:21] [INFO] [OmnipathR] Initialized cache: `/home/biocbuild/.cache/OmnipathR`. [2025-01-30 15:35:21] [TRACE] [OmnipathR] Running on a build server, wiping cache. [2025-01-30 15:35:21] [TRACE] [OmnipathR] Cache is at `/home/biocbuild/.cache/OmnipathR`. [2025-01-30 15:35:21] [TRACE] [OmnipathR] Contains 1 files. [2025-01-30 15:35:21] [TRACE] [OmnipathR] Cache is locked: FALSE. [2025-01-30 15:35:21] [TRACE] [OmnipathR] Reading JSON from `/home/biocbuild/.cache/OmnipathR/cache.json` (encoding: UTF-8). [2025-01-30 15:35:21] [TRACE] [OmnipathR] JSON validation successful: TRUE [2025-01-30 15:35:21] [SUCCESS] [OmnipathR] Removing all cache contents from `/home/biocbuild/.cache/OmnipathR`. [2025-01-30 15:35:21] [TRACE] [OmnipathR] Pandoc version: `2.7.3`. [2025-01-30 15:35:21] [TRACE] [OmnipathR] Reading JSON from `/home/biocbuild/bbs-3.20-bioc/R/site-library/OmnipathR/db/db_def.json` (encoding: UTF-8). [2025-01-30 15:35:21] [TRACE] [OmnipathR] JSON validation successful: TRUE [2025-01-30 15:35:21] [TRACE] [OmnipathR] Reading JSON from `/home/biocbuild/bbs-3.20-bioc/R/site-library/OmnipathR/internal/magic_bytes.json` (encoding: UTF-8). [2025-01-30 15:35:21] [TRACE] [OmnipathR] JSON validation successful: TRUE [2025-01-30 15:35:21] [TRACE] [OmnipathR] Reading JSON from `/home/biocbuild/bbs-3.20-bioc/R/site-library/OmnipathR/internal/urls.json` (encoding: UTF-8). [2025-01-30 15:35:21] [TRACE] [OmnipathR] JSON validation successful: TRUE [2025-01-30 15:35:21] [TRACE] [OmnipathR] Reading JSON from `/home/biocbuild/bbs-3.20-bioc/R/site-library/OmnipathR/internal/id_types.json` (encoding: UTF-8). [2025-01-30 15:35:21] [TRACE] [OmnipathR] JSON validation successful: TRUE [2025-01-30 15:35:21] [TRACE] [OmnipathR] Cache locked: FALSE ** testing if installed package can be loaded from final location [2025-01-30 15:35:24] [TRACE] [OmnipathR] Reading JSON from `/home/biocbuild/.cache/OmnipathR/cache.json` (encoding: UTF-8). [2025-01-30 15:35:24] [TRACE] [OmnipathR] JSON validation successful: TRUE [2025-01-30 15:35:24] [INFO] [OmnipathR] Initialized cache: `/home/biocbuild/.cache/OmnipathR`. [2025-01-30 15:35:24] [TRACE] [OmnipathR] Running on a build server, wiping cache. [2025-01-30 15:35:24] [TRACE] [OmnipathR] Cache is at `/home/biocbuild/.cache/OmnipathR`. [2025-01-30 15:35:24] [TRACE] [OmnipathR] Contains 1 files. [2025-01-30 15:35:24] [TRACE] [OmnipathR] Cache is locked: FALSE. [2025-01-30 15:35:24] [TRACE] [OmnipathR] Reading JSON from `/home/biocbuild/.cache/OmnipathR/cache.json` (encoding: UTF-8). [2025-01-30 15:35:24] [TRACE] [OmnipathR] JSON validation successful: TRUE [2025-01-30 15:35:24] [SUCCESS] [OmnipathR] Removing all cache contents from `/home/biocbuild/.cache/OmnipathR`. [2025-01-30 15:35:24] [TRACE] [OmnipathR] Pandoc version: `2.7.3`. [2025-01-30 15:35:24] [TRACE] [OmnipathR] Reading JSON from `/home/biocbuild/bbs-3.20-bioc/R/site-library/OmnipathR/db/db_def.json` (encoding: UTF-8). [2025-01-30 15:35:24] [TRACE] [OmnipathR] JSON validation successful: TRUE [2025-01-30 15:35:24] [TRACE] [OmnipathR] Reading JSON from `/home/biocbuild/bbs-3.20-bioc/R/site-library/OmnipathR/internal/magic_bytes.json` (encoding: UTF-8). [2025-01-30 15:35:24] [TRACE] [OmnipathR] JSON validation successful: TRUE [2025-01-30 15:35:24] [TRACE] [OmnipathR] Reading JSON from `/home/biocbuild/bbs-3.20-bioc/R/site-library/OmnipathR/internal/urls.json` (encoding: UTF-8). [2025-01-30 15:35:24] [TRACE] [OmnipathR] JSON validation successful: TRUE [2025-01-30 15:35:24] [TRACE] [OmnipathR] Reading JSON from `/home/biocbuild/bbs-3.20-bioc/R/site-library/OmnipathR/internal/id_types.json` (encoding: UTF-8). [2025-01-30 15:35:24] [TRACE] [OmnipathR] JSON validation successful: TRUE [2025-01-30 15:35:24] [TRACE] [OmnipathR] Cache locked: FALSE ** testing if installed package keeps a record of temporary installation path * DONE (wppi)
wppi.Rcheck/wppi-Ex.timings
name | user | system | elapsed | |
common_neighbors | 6.362 | 0.689 | 12.504 | |
count_genes | 9.829 | 0.672 | 10.500 | |
filter_annot_with_network | 6.724 | 0.173 | 6.897 | |
functional_annot | 1.893 | 0.377 | 2.792 | |
graph_from_op | 3.182 | 0.216 | 3.399 | |
in_omnipath | 3.115 | 0.149 | 3.263 | |
prioritization_genes | 15.527 | 0.402 | 15.930 | |
process_annot | 0.841 | 0.010 | 0.851 | |
random_walk | 14.987 | 0.132 | 15.119 | |
score_candidate_genes_from_PPI | 15.428 | 0.108 | 15.538 | |
subgraph_op | 3.230 | 0.003 | 3.233 | |
weighted_adj | 11.473 | 0.036 | 11.508 | |
wppi | 29.876 | 0.200 | 30.079 | |
wppi_data | 6.770 | 0.153 | 6.924 | |
wppi_go_data | 2.925 | 0.080 | 3.005 | |
wppi_hpo_data | 0.825 | 0.008 | 0.833 | |
wppi_omnipath_data | 3.280 | 0.103 | 3.382 | |